BEGIN:VCALENDAR
VERSION:2.0
PRODID:-//Harrastemoottoriurheilun Keskusjärjestö Ry - ECPv6.15.20//NONSGML v1.0//EN
CALSCALE:GREGORIAN
METHOD:PUBLISH
X-ORIGINAL-URL:https://harrastemoottoriurheilu.fi
X-WR-CALDESC:Tapahtumat Harrastemoottoriurheilun Keskusjärjestö Ry
REFRESH-INTERVAL;VALUE=DURATION:PT1H
X-Robots-Tag:noindex
X-PUBLISHED-TTL:PT1H
BEGIN:VTIMEZONE
TZID:Europe/Helsinki
BEGIN:DAYLIGHT
TZOFFSETFROM:+0200
TZOFFSETTO:+0300
TZNAME:EEST
DTSTART:20190331T010000
END:DAYLIGHT
BEGIN:STANDARD
TZOFFSETFROM:+0300
TZOFFSETTO:+0200
TZNAME:EET
DTSTART:20191027T010000
END:STANDARD
BEGIN:DAYLIGHT
TZOFFSETFROM:+0200
TZOFFSETTO:+0300
TZNAME:EEST
DTSTART:20200329T010000
END:DAYLIGHT
BEGIN:STANDARD
TZOFFSETFROM:+0300
TZOFFSETTO:+0200
TZNAME:EET
DTSTART:20201025T010000
END:STANDARD
BEGIN:DAYLIGHT
TZOFFSETFROM:+0200
TZOFFSETTO:+0300
TZNAME:EEST
DTSTART:20210328T010000
END:DAYLIGHT
BEGIN:STANDARD
TZOFFSETFROM:+0300
TZOFFSETTO:+0200
TZNAME:EET
DTSTART:20211031T010000
END:STANDARD
END:VTIMEZONE
BEGIN:VEVENT
DTSTART;VALUE=DATE:20201003
DTEND;VALUE=DATE:20201004
DTSTAMP:20260425T232240
CREATED:20200714T153306Z
LAST-MODIFIED:20200928T191500Z
UID:852-1601683200-1601769599@harrastemoottoriurheilu.fi
SUMMARY:Autoagentit-Ralli
DESCRIPTION:Aika: 3.10.2020\n\n\nPaikka: Joutsa\n\n\nLaji: Ralli\n\n\nArvo:\n\n\nJärjestäjä: Yellow Racing Team ry/Team Joutsenlampi\n\n\nKilpailukutsu: http://kehitys.harrastemoottoriurheilu.fi/wp-content/uploads/2020/07/Kilpailukutsu-Autoagentit-ralli-3.10.2020-V1.0-1.pdf\n\n\nIlmoittautuminen:  http://www.ajaksi.net/hallinto/kilpailija.php\n\n\nLähtöluettelo: http://ajaksi.fi/wp/3-10-2020-autoagentit-ralli/\n\n\nKilpailijainfo: Kilpailijaohje Autoagentit-ralli 3.10.2020 V1.0\n\n\n\n\n\nLisätiedot: Yhteyshenkilö Sami Heikkilä 0440647447
URL:https://harrastemoottoriurheilu.fi/event/joutsa-ralli/
END:VEVENT
BEGIN:VEVENT
DTSTART;TZID=Europe/Helsinki:20201003T080000
DTEND;TZID=Europe/Helsinki:20201003T170000
DTSTAMP:20260425T232240
CREATED:20191202T171558Z
LAST-MODIFIED:20200920T143227Z
UID:576-1601712000-1601744400@harrastemoottoriurheilu.fi
SUMMARY:PERUTTU! Motorset Sprint
DESCRIPTION:Aika: 3.10.2020\n\n\nPaikka: Kannus\n\n\nLaji: Rallisprint\n\n\nArvo: Mestaruus (harrastesprint)\n\n\nJärjestäjä: Revolt Racing Team Ry\n\n\nKilpailukutsu:\n\n\nIlmoittautuminen: \n\n\nLähtöluettelo:\n\n\nKilpailijainfo:\n\n\n\n\n\nLisätiedot:
URL:https://harrastemoottoriurheilu.fi/event/motorset-sprint/
END:VEVENT
BEGIN:VEVENT
DTSTART;VALUE=DATE:20201010
DTEND;VALUE=DATE:20201011
DTSTAMP:20260425T232240
CREATED:20191217T190645Z
LAST-MODIFIED:20200616T103747Z
UID:598-1602288000-1602374399@harrastemoottoriurheilu.fi
SUMMARY:JR Pohjanmaa Cup Syksy Zone
DESCRIPTION:
URL:https://harrastemoottoriurheilu.fi/event/jr-pohjanma-cup-syksy-zone/
LOCATION:OuluZone\, Kuusamontie 3250\, Ylikiiminki\, 91310
CATEGORIES:JokkisRace
END:VEVENT
BEGIN:VEVENT
DTSTART;VALUE=DATE:20201010
DTEND;VALUE=DATE:20201011
DTSTAMP:20260425T232240
CREATED:20200908T161338Z
LAST-MODIFIED:20201006T175815Z
UID:956-1602288000-1602374399@harrastemoottoriurheilu.fi
SUMMARY:Xmeal Rallisprint (harrasterallisprint)
DESCRIPTION:Aika: 10.10.2020\n\n\nPaikka: Saarijärvi\n\n\nLaji: Rallisprint\n\n\nArvo: Mestaruus\n\n\nJärjestäjä: Yellow Racing Team ry\n\n\nKilpailukutsu: Saarijärvi-Kilpailukutsu (1)\n\n\nIlmoittautuminen: http://www.ajaksi.net/hallinto/kilpailija.php\n\n\n/https://www.facebook.com/xmealsprint/\n\n\nLähtöluettelo ja kilpailijainfo:  https://ajaksi.fi/wp/10-10-2020-xmeal-rallisprint/ \nLisätiedot:
URL:https://harrastemoottoriurheilu.fi/event/rallisprint-saarijarvi-harrastesprint-sarja/
END:VEVENT
END:VCALENDAR