BEGIN:VCALENDAR
VERSION:2.0
PRODID:-//Harrastemoottoriurheilun Keskusjärjestö Ry - ECPv6.15.20//NONSGML v1.0//EN
CALSCALE:GREGORIAN
METHOD:PUBLISH
X-WR-CALNAME:Harrastemoottoriurheilun Keskusjärjestö Ry
X-ORIGINAL-URL:https://harrastemoottoriurheilu.fi
X-WR-CALDESC:Tapahtumat Harrastemoottoriurheilun Keskusjärjestö Ry
REFRESH-INTERVAL;VALUE=DURATION:PT1H
X-Robots-Tag:noindex
X-PUBLISHED-TTL:PT1H
BEGIN:VTIMEZONE
TZID:Europe/Helsinki
BEGIN:DAYLIGHT
TZOFFSETFROM:+0200
TZOFFSETTO:+0300
TZNAME:EEST
DTSTART:20200329T010000
END:DAYLIGHT
BEGIN:STANDARD
TZOFFSETFROM:+0300
TZOFFSETTO:+0200
TZNAME:EET
DTSTART:20201025T010000
END:STANDARD
BEGIN:DAYLIGHT
TZOFFSETFROM:+0200
TZOFFSETTO:+0300
TZNAME:EEST
DTSTART:20210328T010000
END:DAYLIGHT
BEGIN:STANDARD
TZOFFSETFROM:+0300
TZOFFSETTO:+0200
TZNAME:EET
DTSTART:20211031T010000
END:STANDARD
BEGIN:DAYLIGHT
TZOFFSETFROM:+0200
TZOFFSETTO:+0300
TZNAME:EEST
DTSTART:20220327T010000
END:DAYLIGHT
BEGIN:STANDARD
TZOFFSETFROM:+0300
TZOFFSETTO:+0200
TZNAME:EET
DTSTART:20221030T010000
END:STANDARD
END:VTIMEZONE
BEGIN:VEVENT
DTSTART;VALUE=DATE:20210306
DTEND;VALUE=DATE:20210307
DTSTAMP:20260426T004346
CREATED:20201028T074149Z
LAST-MODIFIED:20210228T152817Z
UID:1042-1614988800-1615075199@harrastemoottoriurheilu.fi
SUMMARY:Kemisprint 2- PERUTTU
DESCRIPTION:Aika: 6.3.2021\n\n\nPaikka: Kemi\n\n\nLaji: Rallisprint\n\n\nArvo:\n\n\nJärjestäjä: Kemin Ykkösautourheilijat ry\n\n\nKilpailukutsu: \n\n\nIlmoittautuminen: \n\n\nLähtöluettelo: \n\n\nKilpailijainfo: \n\n\n\n\n\nLisätiedot: 
URL:https://harrastemoottoriurheilu.fi/event/kemisprint-2/
CATEGORIES:Rallisprint
END:VEVENT
BEGIN:VEVENT
DTSTART;VALUE=DATE:20210313
DTEND;VALUE=DATE:20210314
DTSTAMP:20260426T004346
CREATED:20201129T174331Z
LAST-MODIFIED:20210302T110449Z
UID:1170-1615593600-1615679999@harrastemoottoriurheilu.fi
SUMMARY:Rallisprint Tuupovaara - PERUTTU
DESCRIPTION:Aika: 13.3.2021\n\n\nPaikka: Tuupovaara\n\n\nLaji: Rallisprint\n\n\nArvo:\n\n\nJärjestäjä: Kontio-racing ry\n\n\nKilpailukutsu: \n\n\nIlmoittautuminen: \n\n\nLähtöluettelo: \n\n\nKilpailijainfo: \n\n\n\n\n\nLisätiedot:  \n 
URL:https://harrastemoottoriurheilu.fi/event/rallisprint-tuupovaara/
CATEGORIES:Rallisprint
END:VEVENT
BEGIN:VEVENT
DTSTART;VALUE=DATE:20210314
DTEND;VALUE=DATE:20210315
DTSTAMP:20260426T004346
CREATED:20201130T185305Z
LAST-MODIFIED:20210223T164406Z
UID:1179-1615680000-1615766399@harrastemoottoriurheilu.fi
SUMMARY:Ovikauppa Erma JR
DESCRIPTION:Kilpailukutsu ja ilmoittautuminen: https://jokkisrace.net/index.php?Sivu=kilpailut/show_kisa.php&id=197
URL:https://harrastemoottoriurheilu.fi/event/jr-jaarata/
LOCATION:Oulainen
CATEGORIES:JokkisRace
END:VEVENT
BEGIN:VEVENT
DTSTART;VALUE=DATE:20210314
DTEND;VALUE=DATE:20210315
DTSTAMP:20260426T004346
CREATED:20210211T064242Z
LAST-MODIFIED:20210309T140539Z
UID:1340-1615680000-1615766399@harrastemoottoriurheilu.fi
SUMMARY:Toijalan Värikauppa Rallispecial
DESCRIPTION:Aika: 14.3.2021\n\n\nPaikka: Vesilahti\n\n\nLaji: Rallispecial\n\n\nArvo:\n\n\nJärjestäjä: Hämeen Moottoriseura ry\n\n\n\n\n\nIlmoittautuminen ja säännöt: https://ajaksi.fi/wp/14-3-2021-toijalan-varikauppa-rallispecial/\n\n\nLähtöluettelo ja kilpailjaohje: https://ajaksi.fi/wp/14-3-2021-toijalan-varikauppa-rallispecial/\n\n\n\n\n\n\n\n\nLisätiedot:  \n 
URL:https://harrastemoottoriurheilu.fi/event/toijalan-varikauppa-rallispecial/
CATEGORIES:Rallispecial
END:VEVENT
BEGIN:VEVENT
DTSTART;VALUE=DATE:20210320
DTEND;VALUE=DATE:20210321
DTSTAMP:20260426T004346
CREATED:20201008T060601Z
LAST-MODIFIED:20210315T050452Z
UID:1002-1616198400-1616284799@harrastemoottoriurheilu.fi
SUMMARY:Suomussalmi ralli
DESCRIPTION:Aika: 20.3.2021\n\n\nPaikka: Suomussalmi\n\n\nLaji: Ralli\n\n\nArvo: Mestaruus\n\n\nJärjestäjä: Ralli Team Kainuu ry\n\n\nKilpailukutsu: https://www.rallitulokset.fi/lomake/\n\n\nIlmoittautuminen: https://www.rallitulokset.fi/lomake/\n\n\nLähtöluettelo ja kilpailijaohje: https://www.rallitulokset.fi/Suomussalmi2021/\n\n\n\n\n\n\n\n\nLisätiedot:
URL:https://harrastemoottoriurheilu.fi/event/suomussalmi-ralli/
CATEGORIES:Ralli
END:VEVENT
END:VCALENDAR