BEGIN:VCALENDAR
VERSION:2.0
PRODID:-//Harrastemoottoriurheilun Keskusjärjestö Ry - ECPv6.15.20//NONSGML v1.0//EN
CALSCALE:GREGORIAN
METHOD:PUBLISH
X-WR-CALNAME:Harrastemoottoriurheilun Keskusjärjestö Ry
X-ORIGINAL-URL:https://harrastemoottoriurheilu.fi
X-WR-CALDESC:Tapahtumat Harrastemoottoriurheilun Keskusjärjestö Ry
REFRESH-INTERVAL;VALUE=DURATION:PT1H
X-Robots-Tag:noindex
X-PUBLISHED-TTL:PT1H
BEGIN:VTIMEZONE
TZID:Europe/Helsinki
BEGIN:DAYLIGHT
TZOFFSETFROM:+0200
TZOFFSETTO:+0300
TZNAME:EEST
DTSTART:20200329T010000
END:DAYLIGHT
BEGIN:STANDARD
TZOFFSETFROM:+0300
TZOFFSETTO:+0200
TZNAME:EET
DTSTART:20201025T010000
END:STANDARD
BEGIN:DAYLIGHT
TZOFFSETFROM:+0200
TZOFFSETTO:+0300
TZNAME:EEST
DTSTART:20210328T010000
END:DAYLIGHT
BEGIN:STANDARD
TZOFFSETFROM:+0300
TZOFFSETTO:+0200
TZNAME:EET
DTSTART:20211031T010000
END:STANDARD
BEGIN:DAYLIGHT
TZOFFSETFROM:+0200
TZOFFSETTO:+0300
TZNAME:EEST
DTSTART:20220327T010000
END:DAYLIGHT
BEGIN:STANDARD
TZOFFSETFROM:+0300
TZOFFSETTO:+0200
TZNAME:EET
DTSTART:20221030T010000
END:STANDARD
END:VTIMEZONE
BEGIN:VEVENT
DTSTART;VALUE=DATE:20210703
DTEND;VALUE=DATE:20210704
DTSTAMP:20260426T061504
CREATED:20210602T150333Z
LAST-MODIFIED:20210608T162806Z
UID:1621-1625270400-1625356799@harrastemoottoriurheilu.fi
SUMMARY:Harjoituskilpailu Keski-Suomi
DESCRIPTION:Aika: 3.7.2021\n\n\nPaikka: \n\n\nLaji: Rallisprint (asfaltti)\n\n\nArvo: \n\n\nJärjestäjä: Yellow Racing Team ry\n\n\n\nKilpailukutsu:\n\n\nIlmoittautuminen:http://ajaksi.fi/wp/03-07-2021-asfalttisprint-harjoituskilpailu-lievestuore/\n\n\nLähtöluettelo:\n\n\nKilpailijainfo:\n\n\n\n\n\nLisätiedot: Lievestuoreella ajetaan La 3.7 harjoituskilpailu asfaltilla rallisprint tyyppisellä radalla. Säännöt ja tarkemmat ohjeet sekä ilmoittautuminen löytyy Ajaksin sivuilta. Mukaan mahtuu 40 autokuntaa. Ilmoittautuminen päättyy jo Pe 18.6\, jolloin myös minimi osallistujamäärä on oltava kasassa. \nTervetuloa treenailemaan assulle! \nYhteyshenkilö Sami Heikkilä 044 064 7447 \n 
URL:https://harrastemoottoriurheilu.fi/event/harjoituskilpailu-keski-suomi/
LOCATION:Lievestuoreen ajoharjoittelurata
CATEGORIES:Rallisprint
END:VEVENT
BEGIN:VEVENT
DTSTART;VALUE=DATE:20210704
DTEND;VALUE=DATE:20210705
DTSTAMP:20260426T061504
CREATED:20210602T150548Z
LAST-MODIFIED:20210607T171107Z
UID:1624-1625356800-1625443199@harrastemoottoriurheilu.fi
SUMMARY:Liepeen Asfalttisprint
DESCRIPTION:Aika: 4.7.2021\n\n\nPaikka: \n\n\nLaji: Rallisprint\n\n\nArvo: \n\n\nJärjestäjä: Rally Team Palokka\n\n\n\nKilpailukutsu:\n\n\nIlmoittautuminen: http://ajaksi.fi/wp/04-07-2021-liepeen-asfalttisprint/\n\n\nLähtöluettelo:\n\n\nKilpailijainfo:\n\n\n\n\n\nLisätiedot: \n 
URL:https://harrastemoottoriurheilu.fi/event/liepeen-asfalttisprint/
LOCATION:Lievestuoreen ajoharjoittelurata
CATEGORIES:Rallisprint
END:VEVENT
BEGIN:VEVENT
DTSTART;VALUE=DATE:20210731
DTEND;VALUE=DATE:20210801
DTSTAMP:20260426T061504
CREATED:20210524T143721Z
LAST-MODIFIED:20210607T175419Z
UID:1589-1627689600-1627775999@harrastemoottoriurheilu.fi
SUMMARY:Habittaako Ralli II
DESCRIPTION:4 erikoiskoetta\, noin 35 ek-kilometriä. \n\n\n\nAika: 31.7.2021\n\n\nPaikka: \n\n\nLaji: Ralli\n\n\nArvo: \n\n\nJärjestäjä: LTM Motorsport ry\n\n\n\nKilpailukutsu:\n\n\nIlmoittautuminen:http://ajaksi.fi/wp/31-7-2021-habittaako-2-0-ralli/\n\n\nLähtöluettelo:\n\n\nKilpailijainfo:\n\n\n\n\n\nLisätiedot: Henri Marjanen p. 044 4200 255 \n 
URL:https://harrastemoottoriurheilu.fi/event/habittaako-ralli-ii/
LOCATION:Tikkakoski\, Tikkakoski\, Suomi
CATEGORIES:Ralli
ATTACH;FMTTYPE=image/png:https://harrastemoottoriurheilu.fi/wp-content/uploads/2021/05/Untitled-Artwork.png
END:VEVENT
BEGIN:VEVENT
DTSTART;VALUE=DATE:20210731
DTEND;VALUE=DATE:20210801
DTSTAMP:20260426T061504
CREATED:20210701T124051Z
LAST-MODIFIED:20210701T124051Z
UID:1675-1627689600-1627775999@harrastemoottoriurheilu.fi
SUMMARY:JR Pohjanmaa Cup Kuutamokeikat 25v Suomussalmi
DESCRIPTION:Kilpailukutsu ja ilmoittautuminen: https://jokkisrace.net/index.php?Sivu=kilpailut/show_kisa.php&id=205
URL:https://harrastemoottoriurheilu.fi/event/jr-pohjanmaa-cup-kuutamokeikat-25v-suomussalmi/
LOCATION:Aittokosken rata\, Emäjoentie 71\, Suomussalmi\, 89600
END:VEVENT
END:VCALENDAR