BEGIN:VCALENDAR
VERSION:2.0
PRODID:-//Harrastemoottoriurheilun Keskusjärjestö Ry - ECPv6.15.20//NONSGML v1.0//EN
CALSCALE:GREGORIAN
METHOD:PUBLISH
X-WR-CALNAME:Harrastemoottoriurheilun Keskusjärjestö Ry
X-ORIGINAL-URL:https://harrastemoottoriurheilu.fi
X-WR-CALDESC:Tapahtumat Harrastemoottoriurheilun Keskusjärjestö Ry
REFRESH-INTERVAL;VALUE=DURATION:PT1H
X-Robots-Tag:noindex
X-PUBLISHED-TTL:PT1H
BEGIN:VTIMEZONE
TZID:Europe/Helsinki
BEGIN:DAYLIGHT
TZOFFSETFROM:+0200
TZOFFSETTO:+0300
TZNAME:EEST
DTSTART:20190331T010000
END:DAYLIGHT
BEGIN:STANDARD
TZOFFSETFROM:+0300
TZOFFSETTO:+0200
TZNAME:EET
DTSTART:20191027T010000
END:STANDARD
BEGIN:DAYLIGHT
TZOFFSETFROM:+0200
TZOFFSETTO:+0300
TZNAME:EEST
DTSTART:20200329T010000
END:DAYLIGHT
BEGIN:STANDARD
TZOFFSETFROM:+0300
TZOFFSETTO:+0200
TZNAME:EET
DTSTART:20201025T010000
END:STANDARD
BEGIN:DAYLIGHT
TZOFFSETFROM:+0200
TZOFFSETTO:+0300
TZNAME:EEST
DTSTART:20210328T010000
END:DAYLIGHT
BEGIN:STANDARD
TZOFFSETFROM:+0300
TZOFFSETTO:+0200
TZNAME:EET
DTSTART:20211031T010000
END:STANDARD
END:VTIMEZONE
BEGIN:VEVENT
DTSTART;VALUE=DATE:20200912
DTEND;VALUE=DATE:20200913
DTSTAMP:20260421T002651
CREATED:20191013T164856Z
LAST-MODIFIED:20200909T152637Z
UID:494-1599868800-1599955199@harrastemoottoriurheilu.fi
SUMMARY:GT-osat Ralli (R-Rallicup)
DESCRIPTION:Aika: 12.9.2020\n\n\nPaikka: Keuruu\n\n\nLaji: Ralli\n\n\nArvo: Mestaruus\n\n\nJärjestäjä: Rallimiehet ry\n\n\nKilpailukutsu: http://ajaksi.fi/wp/wp-content/uploads/2020/08/gtosat_saannot.pdf\n\n\nIlmoittautuminen: https://ajaksi.fi/wp/kilpailut/\n\n\nLähtöluettelo: http://ajaksi.fi/wp/wp-content/uploads/2020/08/L%C3%A4ht%C3%A4ri1.2.pdf\n\n\nKilpailun säännöt: http://kehitys.harrastemoottoriurheilu.fi/wp-content/uploads/2019/10/GT-Osat-Ralli-saannot..pdf\n\n\n\n\n\nSähköinen ilmoittautuminen pdf: http://kehitys.harrastemoottoriurheilu.fi/wp-content/uploads/2019/10/Sahkoinen-ilmoittautuminen-lomake-taytettava-pdf-1.pdf
URL:https://harrastemoottoriurheilu.fi/event/r-rallicup-keski-suomi/
ATTACH;FMTTYPE=image/jpeg:https://harrastemoottoriurheilu.fi/wp-content/uploads/2019/10/Rallimainos--scaled.jpg
END:VEVENT
BEGIN:VEVENT
DTSTART;TZID=Europe/Helsinki:20200829T110000
DTEND;TZID=Europe/Helsinki:20200829T170000
DTSTAMP:20260421T002651
CREATED:20200623T061436Z
LAST-MODIFIED:20200825T164608Z
UID:816-1598698800-1598720400@harrastemoottoriurheilu.fi
SUMMARY:Teboil Tornio Rallisprint
DESCRIPTION:Aika: 29.8.2020\n\n\nPaikka: Tornio\n\n\nLaji: Rallisprint\n\n\nArvo: \n\n\nJärjestäjä: Tornion Ralliharrastajat\n\n\nKilpailukutsu: ktk sprint (1) Tornio\n\n\nIlmoittautuminen: http://www.ajaksi.net/hallinto/kilpailija.php\n\n\nLähtöluettelo: http://ajaksi.fi/wp/wp-content/uploads/2020/07/L%C3%A4ht%C3%A4ri.pdf\n\n\nKilpailijainfo: http://kehitys.harrastemoottoriurheilu.fi/wp-content/uploads/2020/06/KTK-inffo-2.pdf\n\n\n\n\n\nLisätiedot:
URL:https://harrastemoottoriurheilu.fi/event/teboil-tornio-rallisprint/
END:VEVENT
BEGIN:VEVENT
DTSTART;TZID=Europe/Helsinki:20200829T080000
DTEND;TZID=Europe/Helsinki:20200829T170000
DTSTAMP:20260421T002651
CREATED:20191202T170933Z
LAST-MODIFIED:20200825T164746Z
UID:572-1598688000-1598720400@harrastemoottoriurheilu.fi
SUMMARY:JSH-Kuljetus Oy Rallisprint
DESCRIPTION:Aika: 29.8.2020\n\n\nPaikka: Hämeenkyrö\n\n\nLaji: Rallisprint\n\n\nArvo: Mestaruus (harrastesprint)\n\n\nJärjestäjä: Hämeen Moottoriseura Ry\n\n\nKilpailukutsu: http://ajaksi.fi/wp/wp-content/uploads/2020/07/JSH-Kuljetus-Rallisprint-s%C3%A4%C3%A4nn%C3%B6t_HAMU.pdf\n\n\nIlmoittautuminen: http://www.ajaksi.net/hallinto/kilpailija.php\n\n\nLähtöluettelo:\n\n\nKilpailijainfo:\n\n\n\n\n\nLisätiedot: https://ajaksi.fi/wp/29-8-2020-jsh-kuljetus-rallisprint/
URL:https://harrastemoottoriurheilu.fi/event/jsh-kuljetus-oy-rallisprint/
END:VEVENT
BEGIN:VEVENT
DTSTART;VALUE=DATE:20200829
DTEND;VALUE=DATE:20200830
DTSTAMP:20260421T002651
CREATED:20200701T051312Z
LAST-MODIFIED:20200701T051312Z
UID:827-1598659200-1598745599@harrastemoottoriurheilu.fi
SUMMARY:JR Pohjanmaa Cup Suomussalmi
DESCRIPTION:Kilpailukutsu ja ilmoitautuminen:\nhttps://jokkisrace.net/index.php?Sivu=kilpailut/show_kisa.php&id=192
URL:https://harrastemoottoriurheilu.fi/event/jr-pohjanmaa-cup-suomussalmi-2/
LOCATION:Aittokosken rata\, Emäjoentie 71\, Suomussalmi\, 89600
CATEGORIES:JokkisRace
END:VEVENT
BEGIN:VEVENT
DTSTART;VALUE=DATE:20200822
DTEND;VALUE=DATE:20200823
DTSTAMP:20260421T002651
CREATED:20191217T190459Z
LAST-MODIFIED:20200527T045324Z
UID:596-1598054400-1598140799@harrastemoottoriurheilu.fi
SUMMARY:JR Pohjanmaa Cup Kuivaniemi
DESCRIPTION:
URL:https://harrastemoottoriurheilu.fi/event/jr-pohjanmaa-cup-kuivaniemi-2/
LOCATION:Saarihovin Moottorirata\, Saarihovintie\, Kuivaniemi\, 95100
CATEGORIES:JokkisRace
END:VEVENT
BEGIN:VEVENT
DTSTART;TZID=Europe/Helsinki:20200815T080000
DTEND;TZID=Europe/Helsinki:20200815T170000
DTSTAMP:20260421T002651
CREATED:20200709T173242Z
LAST-MODIFIED:20200709T173430Z
UID:845-1597478400-1597510800@harrastemoottoriurheilu.fi
SUMMARY:Harjoituskilpailu Nilsiä
DESCRIPTION:Yellow Racing Team ry/ Team Joutsenlampi \nYhteyshenkilö Sami Heikkilä 0440647447 \nIlmoittautuminen ja lisätiedot: sami.p.heikkila@gmail.com \n 
URL:https://harrastemoottoriurheilu.fi/event/harjoituskilpailu-nilsia/
END:VEVENT
BEGIN:VEVENT
DTSTART;TZID=Europe/Helsinki:20200815T080000
DTEND;TZID=Europe/Helsinki:20200815T170000
DTSTAMP:20260421T002651
CREATED:20190726T141956Z
LAST-MODIFIED:20200811T044919Z
UID:417-1597478400-1597510800@harrastemoottoriurheilu.fi
SUMMARY:Nivalan Kapinaralli (R-rallicup)
DESCRIPTION:Aika: 15.8.2020\n\n\nPaikka: Nivala\n\n\nLaji: Ralli\n\n\nArvo: Mestaruus\n\n\nJärjestäjä: Revolt Racing Team ry\n\n\nKilpailukutsu:\n\n\nIlmoittautuminen: https://www.rallitulokset.fi/lomake/\n\n\nLähtöluettelo: https://www.rallitulokset.net/nivala2020/startlist.pdf\n\n\nKilpailijainfo: https://www.rallitulokset.net/nivala2020/Kilpailijatiedoite.pdf\n\n\nR-rallisarjan osakilpailu.\nKilpailu ajetaan 15.8.2020 klo 11.00 alkaen.\nKilpailukeskus Nivalassa\, Jedu: Maliskyläntie 2\, 85500 Nivala.\nKilpailussa noudatetaan Hamu:n sääntöjä sekä R-rallisarjan sääntöjä.\nKilpailussa ajetaan R-rallisarjan luokat ja joitakin lisäluokkia. Luokat ilmoittautuessa ajojärjestyksessä.\nKilpailussa ajetaan 6 erikoiskoetta\, n. 58 km\, reitin kokonaismitta n. 263 km.\nOsallistumismaksut: nuotti 250€muut luokat 200€\nKilpailuun otetaan 250 kilpailijaa. Karsinta suoritetaan sarjan ulkopuolisille kuljettajille\, ilmoittautumismaksun maksaneiden järjestyksen mukaan\, siinä järjestyksessä\, kun maksut ovat kirjautuneet seuran tilille.\nIlmoittautuminen päättyy 9.8.2020 Klo 20.00\, jolloin myös osallistumismaksu pitää olla suoritettuna.\nOsallistumismaksu tulee suorittaa Revolt Racing Team ry:n tilille:FI50 4749 0010 0527 75\, 9.8.2020 Klo 20.00 mennessä.Nuotitus tapahtuu perjantaina 14.8.2020 Klo 10.00 – 18.00 välisenä aikana.\nPerjantaina 14.8.2020 Klo 18.00 mennessä peruneille palautetaan osallistumismaksusta: Nuottiluokka 220€ ja muut luokat 170€\, (järjestäjä pidättää 30€ kirjaamiskuluja) tämän jälkeen peruneille maksua ei palauteta.\nTarkemmat ohjeet julkaistaan Kilpailijatiedotteessa\, Rallitulokset.fi\, sivuilla ilmoittautumisen päättymisen jälkeen.Kilpailun järjestää Revolt Racing Team ry\nLisätietoja:\nKilpailunjohtaja Jouko Mähönen puh: 0400 307200 jouko@kainuunautotex.fi\nTekniikka-asiat Jukka Karjalainen Puh: 040 7469347\nKilpailijoiden yhdyshenkilö Mervi Pyöriä Puh: 050 3440299 \nTervetuloa kilpailemaan Nivalan lakeuksille.
URL:https://harrastemoottoriurheilu.fi/event/r-rallicup-nivala/
END:VEVENT
BEGIN:VEVENT
DTSTART;TZID=Europe/Helsinki:20200808T080000
DTEND;TZID=Europe/Helsinki:20200808T170000
DTSTAMP:20260421T002651
CREATED:20200611T130737Z
LAST-MODIFIED:20200728T155523Z
UID:801-1596873600-1596906000@harrastemoottoriurheilu.fi
SUMMARY:Ikaalisten Harrasteralli
DESCRIPTION:Aika: 8.8.2020\n\n\nPaikka: Ikaalinen\n\n\nLaji: Ralli\n\n\nArvo: \n\n\nJärjestäjä: Hämeen Moottoriseura Ry\n\n\nKilpailukutsu/säännöt: http://ajaksi.fi/wp/wp-content/uploads/2020/03/s%C3%A4%C3%A4nn%C3%B6t_Ikaalisten-Harrasteralli-8.8.2020.pdf\n\n\nIlmoittautuminen: https://ajaksi.fi/wp/kilpailut/\n\n\nLähtöluettelo:\n\n\nKilpailijainfo:\n\n\n\n\n\nLisätiedot: Kilpailussa 5 erikoiskoetta (60 ek km). Lisätiedot ja ilmoittautuminen aukeaa 15.6.2020.
URL:https://harrastemoottoriurheilu.fi/event/ikaalisten-harrastesprint/
ATTACH;FMTTYPE=application/pdf:https://harrastemoottoriurheilu.fi/wp-content/uploads/2020/06/Ikaalisten-harrasteralli_A4.pdf
END:VEVENT
BEGIN:VEVENT
DTSTART;TZID=Europe/Helsinki:20200725T080000
DTEND;TZID=Europe/Helsinki:20200725T170000
DTSTAMP:20260421T002651
CREATED:20200720T091807Z
LAST-MODIFIED:20200720T091807Z
UID:864-1595664000-1595696400@harrastemoottoriurheilu.fi
SUMMARY:Harjoituskilpailu
DESCRIPTION:Ajankohta  \n– Lauantai 25.7.2020 Keski-Suomi\n\nJärjestäjä \n– Yellow Racing Team ry\n– Yhteyshenkilö Sami Heikkilä\, 0440 647 447
URL:https://harrastemoottoriurheilu.fi/event/harjoituskilpailu-3/
END:VEVENT
BEGIN:VEVENT
DTSTART;VALUE=DATE:20200718
DTEND;VALUE=DATE:20200719
DTSTAMP:20260421T002651
CREATED:20200526T192130Z
LAST-MODIFIED:20200526T192130Z
UID:784-1595030400-1595116799@harrastemoottoriurheilu.fi
SUMMARY:JokkisRace SM 2020
DESCRIPTION:Vuoden 2020 JokkisRacen SM-kilpailut ajetaan OuluZonessa. Alkukesästä alunperin Kuivaniemelle suunnitellut SM:t siirtyvät vuodella eteenpäin. \nKilpailukutsu ja ilmoittautuminen: \nhttps://jokkisrace.net/index.php?Sivu=kilpailut/show_kisa.php&id=190
URL:https://harrastemoottoriurheilu.fi/event/jokkisrace-sm-2020/
LOCATION:OuluZone\, Kuusamontie 3250\, Ylikiiminki\, 91310
CATEGORIES:JokkisRace
END:VEVENT
BEGIN:VEVENT
DTSTART;VALUE=DATE:20200621
DTEND;VALUE=DATE:20200622
DTSTAMP:20260421T002651
CREATED:20200602T123856Z
LAST-MODIFIED:20200602T123856Z
UID:791-1592697600-1592783999@harrastemoottoriurheilu.fi
SUMMARY:JR Pohjanmaa Cup Oulainen
DESCRIPTION:JR Pohjanmaa Cuoin toinen osakilpailu ajetaan juhannuksena Oulaisten Paratiisissa. Tervetuloa viettämään bensankatkuista juhannussunnuntaita Oulaisiin! Kioskipalvelut tuttuun Paratiisin tapaan hyvät! Pääsyliput 10 euroa. Kilpailuun otetaan enintään 100 kilpa-autoa. \nKilpailukutsu ja ilmoittautuminen: \nhttps://jokkisrace.net/index.php?Sivu=kilpailut/show_kisa.php&id=191
URL:https://harrastemoottoriurheilu.fi/event/jr-pohjanmaa-cup-oulainen/
LOCATION:Paratiisi Moottorirata\, Paratiisintie 231\, Oulainen\, 86300
CATEGORIES:JokkisRace
END:VEVENT
BEGIN:VEVENT
DTSTART;TZID=Europe/Helsinki:20200613T080000
DTEND;TZID=Europe/Helsinki:20200613T170000
DTSTAMP:20260421T002651
CREATED:20200609T063213Z
LAST-MODIFIED:20200609T063213Z
UID:794-1592035200-1592067600@harrastemoottoriurheilu.fi
SUMMARY:Harjoituskilpailu
DESCRIPTION:Harjoituskilpailu 13.6.2020 klo 11:30 – 17:00 \nPaikka: Keski-Suomi \nJärjestäjä: Yellow Racing Team ry \nEK-pituus 5 km\n Automäärä 15-25\n Siirtokilvet ja vakuutus pakollinen\n Varusteet ja kalusto Hamun tekniikka ja kilpailusääntöjen mukaisesti\nYhteyshenkilö Sami Heikkilä
URL:https://harrastemoottoriurheilu.fi/event/harjoituskilpailu-2/
END:VEVENT
BEGIN:VEVENT
DTSTART;TZID=Europe/Helsinki:20200606T080000
DTEND;TZID=Europe/Helsinki:20200606T170000
DTSTAMP:20260421T002651
CREATED:20191202T170744Z
LAST-MODIFIED:20200401T134911Z
UID:570-1591430400-1591462800@harrastemoottoriurheilu.fi
SUMMARY:Fenno Sprint - PERUTTU
DESCRIPTION:Aika: 6.6.2020\n\n\nPaikka: Parkano\n\n\nLaji: Rallisprint\n\n\nArvo: Mestaruus (harrastesprint)\n\n\nJärjestäjä: Hämeen Moottoriseura Ry\n\n\nKilpailukutsu:\n\n\nIlmoittautuminen: \n\n\nLähtöluettelo:\n\n\nKilpailijainfo:\n\n\n\n\n\nLisätiedot:
URL:https://harrastemoottoriurheilu.fi/event/fenno-sprint/
END:VEVENT
BEGIN:VEVENT
DTSTART;VALUE=DATE:20200606
DTEND;VALUE=DATE:20200607
DTSTAMP:20260421T002651
CREATED:20200525T123317Z
LAST-MODIFIED:20200525T123353Z
UID:776-1591401600-1591487999@harrastemoottoriurheilu.fi
SUMMARY:JR Pohjanmaa Cup Kannus
DESCRIPTION:JR Pohjanmaa Cup 2020 ensimmäinen osakilpailu. \nKilpailukutsu ja ilmoittautuminen: \nhttps://jokkisrace.net/index.php?Sivu=kilpailut/show_kisa.php&id=189
URL:https://harrastemoottoriurheilu.fi/event/jr-pohjanmaa-cup-kannus-2/
LOCATION:Poleenharjun Moottorirata\, Kajaanintie 600\, Kannus\, 69100
CATEGORIES:JokkisRace
END:VEVENT
BEGIN:VEVENT
DTSTART;VALUE=DATE:20200606
DTEND;VALUE=DATE:20200607
DTSTAMP:20260421T002651
CREATED:20191217T190403Z
LAST-MODIFIED:20200511T103522Z
UID:594-1591401600-1591487999@harrastemoottoriurheilu.fi
SUMMARY:JR SM 2020 PERUTTU/SIIRRETTY
DESCRIPTION:
URL:https://harrastemoottoriurheilu.fi/event/jr-sm-2020/
LOCATION:Saarihovin Moottorirata\, Saarihovintie\, Kuivaniemi\, 95100
CATEGORIES:JokkisRace
END:VEVENT
BEGIN:VEVENT
DTSTART;TZID=Europe/Helsinki:20200524T080000
DTEND;TZID=Europe/Helsinki:20200524T170000
DTSTAMP:20260421T002651
CREATED:20191202T174935Z
LAST-MODIFIED:20200401T135004Z
UID:582-1590307200-1590339600@harrastemoottoriurheilu.fi
SUMMARY:Pro Estore Asfalttisprint 2 - PERUTTU
DESCRIPTION:Aika: 24.5.2020\n\n\nPaikka: Nivala\n\n\nLaji: Rallisprint\n\n\nArvo: Mestaruus (harrastesprint)\n\n\nJärjestäjä: Revolt Racing Team Ry\n\n\nKilpailukutsu:\n\n\nIlmoittautuminen: \n\n\nLähtöluettelo:\n\n\nKilpailijainfo:\n\n\n\n\n\nLisätiedot:
URL:https://harrastemoottoriurheilu.fi/event/pro-estore-asfalttisprint-2-2/
END:VEVENT
BEGIN:VEVENT
DTSTART;TZID=Europe/Helsinki:20200523T080000
DTEND;TZID=Europe/Helsinki:20200523T170000
DTSTAMP:20260421T002651
CREATED:20191202T170551Z
LAST-MODIFIED:20200401T134938Z
UID:568-1590220800-1590253200@harrastemoottoriurheilu.fi
SUMMARY:Pro Estore Asfalttisprint 1 - PERUTTU
DESCRIPTION:Aika: 23.5.2020\n\n\nPaikka: Nivala\n\n\nLaji: Rallisprint\n\n\nArvo: Mestaruus (harrastesprint)\n\n\nJärjestäjä: Revolt Racing Team Ry\n\n\nKilpailukutsu:\n\n\nIlmoittautuminen: \n\n\nLähtöluettelo:\n\n\nKilpailijainfo:\n\n\n\n\n\nLisätiedot:
URL:https://harrastemoottoriurheilu.fi/event/pro-estore-asfalttisprint-1-2/
END:VEVENT
BEGIN:VEVENT
DTSTART;TZID=Europe/Helsinki:20200509T080000
DTEND;TZID=Europe/Helsinki:20200509T170000
DTSTAMP:20260421T002651
CREATED:20200310T163934Z
LAST-MODIFIED:20200314T124908Z
UID:740-1589011200-1589043600@harrastemoottoriurheilu.fi
SUMMARY:Ikaalisten kylpyläralli SIIRTO 31.7-1.8.2020
DESCRIPTION:Aika: 9.5.2020\n\n\nPaikka: Ikaalinen\n\n\nLaji: Ralli\n\n\nArvo: Mestaruus\n\n\nJärjestäjä: Hämeen Moottorikerho ry\n\n\nKilpailukutsu ja säännöt:säännöt_Kylpyläralli 2020 (1)\n\n\nIlmoittautuminen: http://www.ajaksi.net/hallinto/kilpailija.php\n\n\nLähtöluettelo:\n\n\nKilpailijainfo:\n\n\n\n\n\nLisätiedot:
URL:https://harrastemoottoriurheilu.fi/event/ikaalisten-kylpylaralli-r-rallicup-2/
ATTACH;FMTTYPE=application/pdf:https://harrastemoottoriurheilu.fi/wp-content/uploads/2020/03/kylpyla_ralli_A4-1-1.pdf
END:VEVENT
BEGIN:VEVENT
DTSTART;TZID=Europe/Helsinki:20200508T130000
DTEND;TZID=Europe/Helsinki:20200508T223000
DTSTAMP:20260421T002651
CREATED:20200310T163148Z
LAST-MODIFIED:20200314T124943Z
UID:733-1588942800-1588977000@harrastemoottoriurheilu.fi
SUMMARY:Ikaalisten kylpyläralli  SIIRTO 31.7-1.8. 2020
DESCRIPTION:Aika: 8.5.2020\n\n\nPaikka: Ikaalinen\n\n\nLaji: Ralli\n\n\nArvo: Mestaruus\n\n\nJärjestäjä: Hämeen Moottorikerho ry\n\n\nKilpailukutsu ja säännöt:säännöt_Kylpyläralli 2020 (1)\n\n\nIlmoittautuminen: http://www.ajaksi.net/hallinto/kilpailija.php\n\n\nLähtöluettelo:\n\n\nKilpailijainfo:\n\n\n\n\n\nLisätiedot:
URL:https://harrastemoottoriurheilu.fi/event/ikaalisten-kylpylaralli-r-rallicup/
ATTACH;FMTTYPE=application/pdf:https://harrastemoottoriurheilu.fi/wp-content/uploads/2020/03/kylpyla_ralli_A4-1.pdf
END:VEVENT
BEGIN:VEVENT
DTSTART;TZID=Europe/Helsinki:20200314T080000
DTEND;TZID=Europe/Helsinki:20200314T170000
DTSTAMP:20260421T002651
CREATED:20190726T141611Z
LAST-MODIFIED:20200313T103346Z
UID:411-1584172800-1584205200@harrastemoottoriurheilu.fi
SUMMARY:Suomussalmi Ralli (R-Rallicup) PERUTTU
DESCRIPTION:  \n\n\n\nAika: 14.3.2020\n\n\nPaikka: Suomussalmi\n\n\nLaji: Ralli\n\n\nArvo: Mestaruus\n\n\nJärjestäjä: Ralli Team Kainuu Ry\n\n\nKilpailukutsu: https://rallitulokset.net/lomake/\n\n\nIlmoittautuminen: https://rallitulokset.net/lomake/\n\n\nLähtöluettelo:https://www.rallitulokset.net/suomussalmi2020/startlist.pdf\n\n\nKilpailijainfo: https://www.rallitulokset.net/suomussalmi2020/Kilpailijatiedoite.pdf\n\n\n\n\n\nSuomussalmi ralli ajetaan 14.3.2020 klo. 11.00 alkaen. Kilpailussa ajetaan 5 erikoiskoetta joista kertyy n.75km koko reitin pituus on n. 228km. (ei kahteen kertaan ajettavia pätkiä). Kilpailukeskus sijaitsee Ruukinkankaan koululla osoite Ruukinkatu 5 Kilpailun lähtö tapahtuu Suomussalmen torilta \, jossa suoritetaan autojen turvallisuus tarkastus lähtöjonossa. Kilpailu kuuluu R-rallisarjaan\, mukana kaikki R-sarjan luokat sekä muutama lisäluokka. \nHuom.\nR-sarjan luokkiin voi osallistua myös sarjan ulkopuoliset kilpailijat \,heidän lähtöpaikka sarjalaisten jälkeen luokan lopussa. Sarjan ulkopuolisten sijoittumien luokassa ei vaikuta sarjapisteisiin. \nKilpailussa noudatetaan Hamun/R-sarjan kilpailu ja tekniikka sääntöjä. \nKilpailun osallistumismaksut ovat 200€ nuotittamattomat luokat ja 250€ nuottiluokat. Maksu tulee olla suoritettuna Ralli Team Kainuu ry.n tilille FI68 1841 3000 003439 sunnuntaina 8.3.2020 klo 20.00 mennessä \,jolloin myös ilmoittautumiinen päättyy. \nMikäli perut osallistumisesi perjantaihin 13.3.2020 klo. 18.00 mennessä\, palautetaan osallistumismaksua pimeät luokat 170€ ja nuottiluokat 230€. Tämän jälkeen peruneille ei palauteta maksua ollenkaan. \nLuokkien ajo järjestys on sama miten ne näkyy ilmoittautumisessa\, kun valitset luokkaa eli nuotit ensin jne. \nHuom maksun viitteeksi ykkösohjaajan nimi. Tarkemmat tiedot kilpilusta ja lähtölista julkaistaan kilpailija tiedotteessa rallitulokset.fi sivuilla ilmoittautumisen päättymisen jälkeen. \nLisätietoja kilpailusta antaa kilpailunjohtaja Jouko Mähönen 0400 307200 jouko@kainuunautotex.fi.\nTekniikka asioissa tiedusteluihin vastaa Jukka Karjalainen 040 7469347 \nNUOTTILUOKKIEN NUOTITUS PERJANTAINA 13.3.2020 KLO 10.00 ALKAEN. \nTervetuloa TALVI RALLIIN Suomussalmelle. Kilpailun järjestää Ralli Team Kainuu ry.
URL:https://harrastemoottoriurheilu.fi/event/r-rallicup-suomussalmi/
END:VEVENT
BEGIN:VEVENT
DTSTART;TZID=Europe/Helsinki:20200307T100000
DTEND;TZID=Europe/Helsinki:20200307T170000
DTSTAMP:20260421T002651
CREATED:20200219T184424Z
LAST-MODIFIED:20200308T084058Z
UID:693-1583575200-1583600400@harrastemoottoriurheilu.fi
SUMMARY:Crosskart ja rallisprint Joensuu
DESCRIPTION:Sprint kisa 7.3.2020  Joensuun Tuupovaarassa Rallitie. Klo 10 alkaen. Crosskart autojen lisäksi mukaan mahtuu 30 autoa. \nKilpailun säännöt ja kilpailijainfo: Kilpailuohje Tuupovaara (1) \nIlmoittautuminen:  liisa.mikkonen26@gmail.com \nIlmoittautuneet: Ilmoittautuneet Kuljettajat 7.3.2020 \nTulokset: Tulokset \nVoi kysellä 0405904447 \nKONTIO-RACING ESA MIKKONEN
URL:https://harrastemoottoriurheilu.fi/event/crosskart-sprint-joensuu/
ATTACH;FMTTYPE=image/jpeg:https://harrastemoottoriurheilu.fi/wp-content/uploads/2020/02/IMG-20200219-WA0000.jpg
END:VEVENT
BEGIN:VEVENT
DTSTART;TZID=Europe/Helsinki:20200307T080000
DTEND;TZID=Europe/Helsinki:20200307T170000
DTSTAMP:20260421T002651
CREATED:20200108T080716Z
LAST-MODIFIED:20200219T190306Z
UID:623-1583568000-1583600400@harrastemoottoriurheilu.fi
SUMMARY:Luhalahti Ralli
DESCRIPTION:Aika: 7.3.2020\n\n\nPaikka: Ikaalinen\n\n\nLaji:\n\n\nArvo:\n\n\nJärjestäjä: Hämeen moottoriseura Ry\n\n\nKilpailukutsu: http://ajaksi.fi/wp/wp-content/uploads/2019/11/s%C3%A4%C3%A4nn%C3%B6t_Luhalahti-Ralli-7.3.2020.pdf\n\n\nIlmoittautuminen: http://www.ajaksi.net/hallinto/kilpailija.php\n\n\nLähtöluettelo:\n\n\nKilpailijainfo:\n\n\n\n\n\nSäännöt:
URL:https://harrastemoottoriurheilu.fi/event/luhalahti-ralli/
END:VEVENT
BEGIN:VEVENT
DTSTART;VALUE=DATE:20200307
DTEND;VALUE=DATE:20200308
DTSTAMP:20260421T002651
CREATED:20191217T190315Z
LAST-MODIFIED:20200217T071819Z
UID:592-1583539200-1583625599@harrastemoottoriurheilu.fi
SUMMARY:JR Talvi SM
DESCRIPTION:Kilpailukutsu ja ilmoittautuminen: \nhttps://jokkisrace.net/index.php?Sivu=kilpailut/show_kisa.php&id=185
URL:https://harrastemoottoriurheilu.fi/event/jr-talvi-sm/
LOCATION:Paratiisi Moottorirata\, Paratiisintie 231\, Oulainen\, 86300
CATEGORIES:JokkisRace
END:VEVENT
BEGIN:VEVENT
DTSTART;TZID=Europe/Helsinki:20200229T080000
DTEND;TZID=Europe/Helsinki:20200229T170000
DTSTAMP:20260421T002651
CREATED:20200113T155024Z
LAST-MODIFIED:20200226T132122Z
UID:629-1582963200-1582995600@harrastemoottoriurheilu.fi
SUMMARY:Kaasujalka-Ralli
DESCRIPTION:Aika: 29.2.2020\n\n\nPaikka: Joutsa\n\n\nLaji: Ralli\n\n\nArvo: Mestaruus\n\n\nJärjestäjä: Yellow Racing Team Ry\n\n\nKilpailukutsu: http://ajaksi.fi/wp/wp-content/uploads/2019/12/Kilpailukutsu-Kaasujalka-ralli-29.2.2020-V5.0.pdf\n\n\nIlmoittautuminen: http://www.ajaksi.net/hallinto/ilmoittautuminen.php\n\n\nLähtöluettelo: http://ajaksi.fi/wp/wp-content/uploads/2019/12/L%C3%A4ht%C3%A4ri.pdf\n\n\nKilpailijaohje: http://ajaksi.fi/wp/wp-content/uploads/2019/12/Kilpailijaohje-Kaasujalka-ralli-29.2.2020-V1.0.pdf\n\n\nTulokset:\n\n\nLisätiedot: Tapahtuman nettisivut: https://www.facebook.com/kjralli \nhttps://kaasujalkaralli.fi/
URL:https://harrastemoottoriurheilu.fi/event/kaasujalka-ralli/
END:VEVENT
BEGIN:VEVENT
DTSTART;TZID=Europe/Helsinki:20200229T080000
DTEND;TZID=Europe/Helsinki:20200229T170000
DTSTAMP:20260421T002651
CREATED:20200102T165738Z
LAST-MODIFIED:20200219T133920Z
UID:611-1582963200-1582995600@harrastemoottoriurheilu.fi
SUMMARY:Kemi sprint 2 MUUTOS: Harjoituskilpailu
DESCRIPTION:Aika: 29.2.2020\n\n\nPaikka: \n\n\nLaji: Rallisprint\n\n\nArvo: \n\n\nJärjestäjä: Kemin Ykkösautourheilijat Ry\n\n\nKilpailukutsu: \nHarjoituskilpailu/testipäivä 29.2.2020\npaikka: Kemin lentokentän takamaastossa\njärjestää: Kemin Ykkösautourheilijat ry\n\nilmottautuminen mielellään 26.2.2020 mennessä\, mutta mukaan pääsee myös tulemalla ajoissa kisapäivänä:\n    -mikäli keliolosuhteet tekee tepposet ja kisa perutaan\, niin ilmottautuneille lähetämme suoraan tiedon\, muutoin Hamu:n sivulta tieto.\n– Toni Perttula p.0451951877 toniperttula1@gmail.com\n-ratamaksu 40e\, maksu paikan päällä tasarahalla\n-ilmottautumiseen 1-ohjaajan nimi\, puhelinnumero\, s-posti osoite\, ajoneuvon nimi ja luokka\, JOS samalla autolla ajaa useampi\, niin yhteystiedot heiltäkin. nuorilla huoltajankin tiedot.\n\ntapahtumassa noudatetaan Harrastemoottoriurheilun kattojärjestön (Hamu ry) teknisiä- ja turvallisuussääntöjä. Lisätietoja Hamu ry:n sivulta http://www.harrastemoottoriurheilu.fi/saannot.php\n \n\nkisainfo:\n-kilpailupaikka Kemin lentokentän takamaastoon tehty n.5km pitkä\, osittain jäädytettyä rallitietä/rataa\n-opasteet Elijärven tieltä\, navigaattoriin Kemi Elijärventie\n-ajetaan kaksi kertaa n.5km reitti\, ajanotto manuaalisesti\, ajat ilmoitustaululle. säiden ja aikataulujen salliessa voidaan ajaa myös kolmas kerta\n-kilpa-autoissa (EI jm-autoissa!) saa olla kyydissä yli 15v 2-ohjaaja\, varusteet sääntöjen mukaan\n-vakuutukset autoissa\, sprint kilpailuun (jm-vakuutus ei riitä)\n\n-aikataulu:\n-varikon portit aukeaa 8.30\n-ilmottautuminen 9-10\n-turvatarkastus varikkopaikoilla\n-ohjaajakokous  n.10.15\n-rataan tutustuminen autolla 10.30\n-aloitellaan n.11.00\n-arvioitu loppumisaika 15.00\n\n-koko kilpa-auton alla nestettä läpäisemätön peite sekä tarvittaessa huolto-autonkin alle esim pahvi\, sammutin huolto-autossa\n\n-makkaraa ja kahvia\, mehua myynnissä\n-yleisön autot ym kulkimet kisa-alueen ulkopuoliselle parkkipaikalle!\n\nTervetuloa\n\n\n\nIlmoittautuminen: \n\n\nLähtöluettelo:\n\n\nKilpailijainfo:\n\n\n\n\n\nLisätiedot:
URL:https://harrastemoottoriurheilu.fi/event/kemi-sprint-2/
END:VEVENT
BEGIN:VEVENT
DTSTART;TZID=Europe/Helsinki:20200229T080000
DTEND;TZID=Europe/Helsinki:20200229T170000
DTSTAMP:20260421T002651
CREATED:20191202T165815Z
LAST-MODIFIED:20200113T155059Z
UID:563-1582963200-1582995600@harrastemoottoriurheilu.fi
SUMMARY:Keuruu Rallisprint- PERUTTU
DESCRIPTION:Aika: 29.2.2020\n\n\nPaikka: Keuruu\n\n\nLaji: Rallisprint\n\n\nArvo: Mestaruus (harrastesprint)\n\n\nJärjestäjä: \n\n\nKilpailukutsu:\n\n\nIlmoittautuminen: \n\n\nLähtöluettelo:\n\n\nKilpailijainfo:\n\n\n\n\n\nLisätiedot:
URL:https://harrastemoottoriurheilu.fi/event/keuruu-rallisprint/
END:VEVENT
BEGIN:VEVENT
DTSTART;TZID=Europe/Helsinki:20200222T080000
DTEND;TZID=Europe/Helsinki:20200222T170000
DTSTAMP:20260421T002651
CREATED:20190726T141527Z
LAST-MODIFIED:20200219T133537Z
UID:409-1582358400-1582390800@harrastemoottoriurheilu.fi
SUMMARY:R-Rallicup Tornio
DESCRIPTION:  \n\n\n\nAika: 22.2.2020\n\n\nPaikka: Tornio\n\n\nLaji: Ralli\n\n\nArvo: Mestaruus (R-Rallicup)\n\n\nJärjestäjä: Tornion Ralliharrastajat Ry\n\n\nKilpailukutsu: http://kehitys.harrastemoottoriurheilu.fi/wp-content/uploads/2019/07/kilpailukutsu-Tornio-ralli-2020.pdf\n\n\nIlmoittautuminen: http://ajaksi.fi/wp/kilpailut/\n\n\nLähtöluettelo: http://ajaksi.fi/wp/wp-content/uploads/2020/01/l%C3%A4ht%C3%A4ri2.0.pdf\n\n\nKilpailijainfo: http://ajaksi.fi/wp/wp-content/uploads/2020/01/kilpailija-info-2020.pdf \nTulokset: http://ajaksi.online/ralliajaksi/\n\n\nMajoitustarjouksia. \nHotelli Mustaparta 2 hh huone 125€ sis aamiaisen ilmasen parkin ja fifin. 040 0105800\nHotelli Olof 2 hh huone 131€ sis aamiaisen ja fifin. 0500 690980\nPeräpohjolan opisto 85€ sis aamiaisen ja fifin. 040 6342591 \nwww.morrinmajatalo.fi \nKaikissa varaus koodi Tornioralli.\n\n\nLisätiedot:  \n\n\n\n\n\n 
URL:https://harrastemoottoriurheilu.fi/event/r-nuotticup-tornio/
ATTACH;FMTTYPE=image/jpeg:https://harrastemoottoriurheilu.fi/wp-content/uploads/2019/07/20200102_191221-2.jpg
END:VEVENT
BEGIN:VEVENT
DTSTART;TZID=Europe/Helsinki:20200216T110000
DTEND;TZID=Europe/Helsinki:20200216T170000
DTSTAMP:20260421T002651
CREATED:20200205T163055Z
LAST-MODIFIED:20200205T163055Z
UID:676-1581850800-1581872400@harrastemoottoriurheilu.fi
SUMMARY:Harjoituskilpailu Joutsa 16.2.2020
DESCRIPTION:Kaasujalka-rallin virallinen testi-erikoiskoe Joutsassa! \n\nJärjestämme tilaisuuden koeponnistaa kuljettajia ja laitteita Lauantaina 16.2.2020 Joutsassa Josemoran tutulla Sprintti-EK:lla. Mukaan ovat tervetulleita kaikki rallin harrastajat – lahkosta riippumatta. Pätkä on monipuolinen niin vauhdin kuin hyppyjen puolesta\, mausteena myös tiukemmat tekniset mutkat. Mukaan otetaan 25-30 autokuntaa. Ajoaikaa on koko päivä klo 11:00-17:00 eli säätöhommia karttureiden vaihtoa ehtii kivasti tekemään ja yleensä ne vasta kisassa kokeiltavat valot saa myös testattua. Autot jaetaan kolmeen ryhmään eli ajoa tulee sarjoissa minimi odotuksilla tarjoten väliajoille huoltotauot. Vaatimukset ”seurakilpailu” tyyppisesti\, mutta esim. lisenssejä ei tarvita\, eli tyttöystävät\, anopit ja sponssit voi ottaa kyytiin. Suljettu alue tarjoaa mahdollisuuden myös nuorten luokan kuljettajille (minimi ikä kilpailusääntöjen mukaan). Autoilla pitää olla liikennevakuutus. \n\nTesti EK-Josemora 16.2.2020: \n\n\nPaikka: Joutsan Seudun Ratakeskus\, Röksäntie\, Joutsa\nVarikon portit aukeaa klo 10:00\nNuottimahdollisuus klo 10:00-11:00\nAjoaikaa klo 11:00-17:00\nEK:n pituus 2.6 km\nKalusto- ja varustevaatimukset HAMU / AKK rallisääntöjen mukaisesti\nRyhmityksellä vältetään jonottelu lähdössä\nEK:lle 1min väleillä\, ei ajanottoa\nMaksimimäärä 30 autoa\, minimi 16 autoa\nHinta 90 eur / auto\, maksu paikan päällä\, jos haluat laskun ota yhteyttä!\n\n\n\n\nTerveisin\, \nSami Heikkilä\nYellow racing team ry\nP. 0440 647 447
URL:https://harrastemoottoriurheilu.fi/event/harjoituskilpailu-joutsa-16-2-2020/
END:VEVENT
BEGIN:VEVENT
DTSTART;TZID=Europe/Helsinki:20200215T080000
DTEND;TZID=Europe/Helsinki:20200215T170000
DTSTAMP:20260421T002651
CREATED:20190507T180711Z
LAST-MODIFIED:20200211T200953Z
UID:173-1581753600-1581786000@harrastemoottoriurheilu.fi
SUMMARY:Matikaisen Lomaparatiisi sprint
DESCRIPTION:Aika: 15.2.2020 /\n\n\nPaikka: Oulainen\n\n\nLaji: Rallisprint\n\n\nArvo:\n\n\nJärjestäjä: Kisa 2000\n\n\nKilpailukutsu: https://mikalinkki.net/tassumaki-motorsport/lomaparatiisi-sprint-23-2-2019-kilpailukutsu-ja-ohjeet/\n\n\nIlmoittautuminen\n\n\n\nOsallistujaluettelo: https://mikalinkki.net/tassumaki-motorsport/lomaparatiisi-sprint-15-2-2020-osallistujat/\n\n\n\nKilpailijainfo: https://mikalinkki.net/tassumaki-motorsport/lomaparatiisi-sprint-15-2-2020-info/\n\n\n\n\n\nLisätiedot:
URL:https://harrastemoottoriurheilu.fi/event/matikaisen-lomaparatiisi-sprint/
LOCATION:Paratiisi Moottorirata\, Paratiisintie 231\, Oulainen\, 86300
CATEGORIES:Rallisprint
END:VEVENT
BEGIN:VEVENT
DTSTART;TZID=Europe/Helsinki:20200209T080000
DTEND;TZID=Europe/Helsinki:20200209T170000
DTSTAMP:20260421T002651
CREATED:20191108T095529Z
LAST-MODIFIED:20200127T080303Z
UID:517-1581235200-1581267600@harrastemoottoriurheilu.fi
SUMMARY:South West Motorsport Rallisprint - PERUTTU
DESCRIPTION:Aika: 9.2.2020\n\n\nPaikka: Marttila\n\n\nLaji: Rallisprint\n\n\nArvo: Mestaruus (harrastesprint)\n\n\nJärjestäjä: South West Motorsport Ry\n\n\nKilpailukutsu:\n\n\nIlmoittautuminen: \n\n\nLähtöluettelo:\n\n\nKilpailijainfo:\n\n\n\n\n\nLisätiedot:
URL:https://harrastemoottoriurheilu.fi/event/rallisprint-marttila/
END:VEVENT
END:VCALENDAR