BEGIN:VCALENDAR
VERSION:2.0
PRODID:-//Harrastemoottoriurheilun Keskusjärjestö Ry - ECPv6.15.20//NONSGML v1.0//EN
CALSCALE:GREGORIAN
METHOD:PUBLISH
X-ORIGINAL-URL:https://harrastemoottoriurheilu.fi
X-WR-CALDESC:Tapahtumat Harrastemoottoriurheilun Keskusjärjestö Ry
REFRESH-INTERVAL;VALUE=DURATION:PT1H
X-Robots-Tag:noindex
X-PUBLISHED-TTL:PT1H
BEGIN:VTIMEZONE
TZID:Europe/Helsinki
BEGIN:DAYLIGHT
TZOFFSETFROM:+0200
TZOFFSETTO:+0300
TZNAME:EEST
DTSTART:20220327T010000
END:DAYLIGHT
BEGIN:STANDARD
TZOFFSETFROM:+0300
TZOFFSETTO:+0200
TZNAME:EET
DTSTART:20221030T010000
END:STANDARD
BEGIN:DAYLIGHT
TZOFFSETFROM:+0200
TZOFFSETTO:+0300
TZNAME:EEST
DTSTART:20230326T010000
END:DAYLIGHT
BEGIN:STANDARD
TZOFFSETFROM:+0300
TZOFFSETTO:+0200
TZNAME:EET
DTSTART:20231029T010000
END:STANDARD
BEGIN:DAYLIGHT
TZOFFSETFROM:+0200
TZOFFSETTO:+0300
TZNAME:EEST
DTSTART:20240331T010000
END:DAYLIGHT
BEGIN:STANDARD
TZOFFSETFROM:+0300
TZOFFSETTO:+0200
TZNAME:EET
DTSTART:20241027T010000
END:STANDARD
BEGIN:DAYLIGHT
TZOFFSETFROM:+0200
TZOFFSETTO:+0300
TZNAME:EEST
DTSTART:20250330T010000
END:DAYLIGHT
BEGIN:STANDARD
TZOFFSETFROM:+0300
TZOFFSETTO:+0200
TZNAME:EET
DTSTART:20251026T010000
END:STANDARD
END:VTIMEZONE
BEGIN:VEVENT
DTSTART;VALUE=DATE:20240414
DTEND;VALUE=DATE:20240415
DTSTAMP:20260420T112116
CREATED:20231106T162225Z
LAST-MODIFIED:20240407T094813Z
UID:2637-1713052800-1713139199@harrastemoottoriurheilu.fi
SUMMARY:Turun Ajovaruste Rallisprint Paimio
DESCRIPTION:Aika: 14.4.2024\n\n\nPaikka: Paimio\n\n\nLaji: Rallisprint\n\n\nArvo: \n\n\nJärjestäjä: Southwest Motorsport ry\n\n\nKilpailukutsu: \n\n\nIlmoittautuminen: https://www.mut-palvelu.fi/\n\n\nLähtöluettelo:\n\n\nKilpailijainfo:\n\n\n\n\n\n\nLisätiedot: \n\n\n\n 
URL:https://harrastemoottoriurheilu.fi/event/paimio-asfalttirallisprint/
CATEGORIES:Rallisprint
END:VEVENT
BEGIN:VEVENT
DTSTART;VALUE=DATE:20240324
DTEND;VALUE=DATE:20240325
DTSTAMP:20260420T112116
CREATED:20240216T111730Z
LAST-MODIFIED:20240310T112239Z
UID:2770-1711238400-1711324799@harrastemoottoriurheilu.fi
SUMMARY:PERUTTU Raceosa Rallispecial
DESCRIPTION:Aika: 24.3.2024\n\n\nPaikka: Nivala\n\n\nLaji: Rallisprint\n\n\nArvo: \n\n\nJärjestäjä: Revolt Racing Team ry\n\n\nKilpailukutsu: \n\n\nIlmoittautuminen: https://www.rallitulokset.fi/lomake5/\n\n\nLähtöluettelo:\n\n\nKilpailijainfo:\n\n\n\n\n\n\nLisätiedot: Säävaraus\n\n\n\n 
URL:https://harrastemoottoriurheilu.fi/event/raceosa-rallispecial/
CATEGORIES:Rallisprint
END:VEVENT
BEGIN:VEVENT
DTSTART;VALUE=DATE:20240316
DTEND;VALUE=DATE:20240317
DTSTAMP:20260420T112116
CREATED:20230916T101310Z
LAST-MODIFIED:20240207T083050Z
UID:2589-1710547200-1710633599@harrastemoottoriurheilu.fi
SUMMARY:Suomussalmi Ralli
DESCRIPTION:Aika: 16.3.2024\n\n\nPaikka: Suomussalmi\n\n\nLaji: Ralli\n\n\nArvo: \n\n\nJärjestäjä: Ralli Team Kainuu ry\n\n\nKilpailukutsu: \n\n\nIlmoittautuminen: https://www.rallitulokset.fi/Lomake8/\n\n\nLähtöluettelo:\n\n\nKilpailijainfo:\n\n\n\n\n\n\nLisätiedot: \n\n\n\n 
URL:https://harrastemoottoriurheilu.fi/event/suomussalmi-ralli-4/
CATEGORIES:Ralli
END:VEVENT
BEGIN:VEVENT
DTSTART;VALUE=DATE:20240316
DTEND;VALUE=DATE:20240317
DTSTAMP:20260420T112116
CREATED:20230916T095929Z
LAST-MODIFIED:20240216T110613Z
UID:2584-1710547200-1710633599@harrastemoottoriurheilu.fi
SUMMARY:KUTSUVIERAS KILPAILU SnowRallyRings Ralli
DESCRIPTION:Aika: 16.3.2024\n\n\nPaikka: Rovaniemi/Vanttausjärvi\n\n\nLaji: Ralli\n\n\nArvo: \n\n\nJärjestäjä: SnowRallyRings\n\n\nKilpailukutsu: \n\n\nIlmoittautuminen: \n\n\nLähtöluettelo:\n\n\nKilpailijainfo:\n\n\n\n\n\n\nLisätiedot: Pentti Koskiniemi  0500 393 168\n\n\n\n 
URL:https://harrastemoottoriurheilu.fi/event/snowrallyrings-ralli-2/
CATEGORIES:Ralli
END:VEVENT
BEGIN:VEVENT
DTSTART;VALUE=DATE:20240310
DTEND;VALUE=DATE:20240311
DTSTAMP:20260420T112116
CREATED:20240216T111017Z
LAST-MODIFIED:20240219T122616Z
UID:2768-1710028800-1710115199@harrastemoottoriurheilu.fi
SUMMARY:Ouneva Group Sprint
DESCRIPTION:Aika: 10.3.2024\n\n\nPaikka: Puolanka\n\n\nLaji: Rallisprint\n\n\nArvo: \n\n\nJärjestäjä: Kontio-Racing ry\n\n\nKilpailukutsu: \n\n\nIlmoittautuminen: https://www.rallitulokset.fi/Lomake7\n\n\nLähtöluettelo:\n\n\nKilpailijainfo:\n\n\n\n\n\n\nLisätiedot: \n\n\n\n 
URL:https://harrastemoottoriurheilu.fi/event/ouneva-group-sprint/
CATEGORIES:Rallisprint
END:VEVENT
BEGIN:VEVENT
DTSTART;VALUE=DATE:20240309
DTEND;VALUE=DATE:20240310
DTSTAMP:20260420T112116
CREATED:20231204T150311Z
LAST-MODIFIED:20240116T122111Z
UID:2661-1709942400-1710028799@harrastemoottoriurheilu.fi
SUMMARY:Ovikauppa Erma JR Talvi SM
DESCRIPTION:Kilpailukutsu ja ilmoittautuminen: https://www.jokkisrace.net/index.php?Sivu=kilpailut/show_kisa.php&id=240 \n  \nOvikauppa Erma Talvi SM SIIRTYY!\n\nEnsi lauantaiksi suunniteltu Ovikauppa Erma Talvi SM -kilpailu siirretään ajettavaksi 9.3.2024. Sen verran rapsakkaa keliä näyttää sääennusteet pavelusta riippumatta\, että säästetään autojen tekniikkaa ja ihmisiä paleltumasta. Joten kilpailu siirretään (toivottavasti) lämpimämpään keliin! \nTervetuloa kilpailemaan siis Talvi-Suomenmestaruuksista 9.3.!
URL:https://harrastemoottoriurheilu.fi/event/jr-talvi-sm-4/
LOCATION:Honganpuhto\, Oulainen\, Honganpuhto 70\, Oulainen\, 86300\, Suomi
CATEGORIES:JokkisRace
END:VEVENT
BEGIN:VEVENT
DTSTART;VALUE=DATE:20240302
DTEND;VALUE=DATE:20240303
DTSTAMP:20260420T112116
CREATED:20230903T141624Z
LAST-MODIFIED:20240227T171001Z
UID:2560-1709337600-1709423999@harrastemoottoriurheilu.fi
SUMMARY:PERUTTU Kisko Ralli
DESCRIPTION:Aika: 2.3.2024\n\n\nPaikka: Kisko\n\n\nLaji: Ralli\n\n\nArvo: HRS 2024 Mestaruus\n\n\nJärjestäjä: Kiskon MAK\n\n\nKilpailukutsu: https://www.mut-palvelu.fi/\n\n\nIlmoittautuminen: https://www.mut-palvelu.fi/\n\n\nLähtöluettelo:\n\n\nKilpailijainfo:\n\n\n\n\n\n\nLisätiedot: \n\n\n\n 
URL:https://harrastemoottoriurheilu.fi/event/kisko-ralli/
LOCATION:Kiskon MAK
CATEGORIES:Ralli
END:VEVENT
BEGIN:VEVENT
DTSTART;VALUE=DATE:20240225
DTEND;VALUE=DATE:20240226
DTSTAMP:20260420T112116
CREATED:20231019T103654Z
LAST-MODIFIED:20240110T173948Z
UID:2618-1708819200-1708905599@harrastemoottoriurheilu.fi
SUMMARY:Enset Oy Rallisprint
DESCRIPTION:Aika: 25.2.2024\n\n\nPaikka: Sastamala\n\n\nLaji: Rallisprint\n\n\nArvo: Etelä-Suomen Rallisprint Mestaruussarja 2024\n\n\nJärjestäjä: Tyrvään Moottorikerho ry\n\n\nKilpailukutsu: http://ajaksi.fi/wp/25-2-2024-enset-oy-rallisprint/\n\n\nIlmoittautuminen: http://ajaksi.fi/wp/25-2-2024-enset-oy-rallisprint/\n\n\nLähtöluettelo:\n\n\nKilpailijainfo:\n\n\n\n\n\n\nLisätiedot: \n\n\n\n 
URL:https://harrastemoottoriurheilu.fi/event/rallisprint-sastamala-2/
CATEGORIES:Rallisprint
END:VEVENT
BEGIN:VEVENT
DTSTART;VALUE=DATE:20240217
DTEND;VALUE=DATE:20240218
DTSTAMP:20260420T112116
CREATED:20231204T150437Z
LAST-MODIFIED:20231204T150437Z
UID:2663-1708128000-1708214399@harrastemoottoriurheilu.fi
SUMMARY:Siikajoki JR
DESCRIPTION:Kilpailukutsu ja ilmoittautuminen: https://www.jokkisrace.net/index.php?Sivu=kilpailut/show_kisa.php&id=241
URL:https://harrastemoottoriurheilu.fi/event/siikajoki-jr/
LOCATION:Siikajoen Moottoriurheilukeskus\, Klingsporintie 296\, Siikajoki
CATEGORIES:JokkisRace
END:VEVENT
BEGIN:VEVENT
DTSTART;VALUE=DATE:20240217
DTEND;VALUE=DATE:20240218
DTSTAMP:20260420T112116
CREATED:20230903T141352Z
LAST-MODIFIED:20231204T153358Z
UID:2558-1708128000-1708214399@harrastemoottoriurheilu.fi
SUMMARY:Toivakka-Ralli
DESCRIPTION:Aika: 17.2.2024\n\n\nPaikka: Toivakka\n\n\nLaji: Ralli\n\n\nArvo: HRS 2024 Mestaruus\n\n\nJärjestäjä: Yellow Racing Team ry\n\n\nKilpailukutsu: http://ajaksi.fi/wp/17-2-2024-toivakka-ralli/\n\n\nIlmoittautuminen: http://ajaksi.fi/wp/17-2-2024-toivakka-ralli/\n\n\nLähtöluettelo:\n\n\nKilpailijainfo: www.facebook.com/yellowracingteamry/\n\n\n\n\n\n\nLisätiedot: rallitoimisto@gmail.com\n\n\n\n 
URL:https://harrastemoottoriurheilu.fi/event/joutsa-ralli-3/
CATEGORIES:Ralli
END:VEVENT
BEGIN:VEVENT
DTSTART;VALUE=DATE:20240210
DTEND;VALUE=DATE:20240211
DTSTAMP:20260420T112116
CREATED:20231019T103437Z
LAST-MODIFIED:20240110T171519Z
UID:2616-1707523200-1707609599@harrastemoottoriurheilu.fi
SUMMARY:Lappia Kemi Rallispecial
DESCRIPTION:Aika: 10.2.2024\n\n\nPaikka: Kemi\n\n\nLaji: Rallispecial\n\n\nArvo: \n\n\nJärjestäjä: Kemin Ykkösautourheilijat ry\n\n\nKilpailukutsu: https://www.rallitulokset.fi/Lomake3/\n\n\nIlmoittautuminen: https://www.rallitulokset.fi/Lomake3/\n\n\nLähtöluettelo:\n\n\nKilpailijainfo:\n\n\n\n\n\n\nLisätiedot: Kilpailijoiden yhteyshenkilö: Harri Sauvolainen p.0400680028\n\n\n\n 
URL:https://harrastemoottoriurheilu.fi/event/lappia-kemi-rallispecial/
CATEGORIES:Rallispecial
END:VEVENT
BEGIN:VEVENT
DTSTART;VALUE=DATE:20240204
DTEND;VALUE=DATE:20240205
DTSTAMP:20260420T112116
CREATED:20231019T104024Z
LAST-MODIFIED:20240110T180353Z
UID:2620-1707004800-1707091199@harrastemoottoriurheilu.fi
SUMMARY:Pirkanhovi Sprint
DESCRIPTION:Aika: 4.2.2024\n\n\nPaikka: Lempäälä\n\n\nLaji: Rallisprint\n\n\nArvo: Etelä-Suomen Rallisprint Mestaruussarja 2024\n\n\nJärjestäjä: Vesilahti Racing Company ry\n\n\nKilpailukutsu: http://ajaksi.fi/wp/04-02-2024-pirkanhovi-sprint/\n\n\nIlmoittautuminen: http://ajaksi.fi/wp/04-02-2024-pirkanhovi-sprint/\n\n\nLähtöluettelo:\n\n\nKilpailijainfo:\n\n\n\n\n\n\nLisätiedot: \n\n\n\n 
URL:https://harrastemoottoriurheilu.fi/event/lempaala-sprint/
CATEGORIES:Rallisprint
END:VEVENT
BEGIN:VEVENT
DTSTART;VALUE=DATE:20240203
DTEND;VALUE=DATE:20240204
DTSTAMP:20260420T112116
CREATED:20230903T140737Z
LAST-MODIFIED:20231206T144649Z
UID:2552-1706918400-1707004799@harrastemoottoriurheilu.fi
SUMMARY:Metalli Järvelä Ralli 2024
DESCRIPTION:Aika: 3.2.2024\n\n\nPaikka: Kaustinen\n\n\nLaji: Ralli\n\n\nArvo: HRS 2024 Mestaruus\n\n\nJärjestäjä: Keski-Pohjanmaan Moottoriurheilijat ry\n\n\nKilpailukutsu: \n\n\nIlmoittautuminen: https://www.rallitulokset.fi/Lomake8/\n\n\nLähtöluettelo:\n\n\nKilpailijainfo:\n\n\n\n\n\n\nLisätiedot: \n\n\n\n 
URL:https://harrastemoottoriurheilu.fi/event/kaustinen-ralli/
CATEGORIES:Ralli
END:VEVENT
BEGIN:VEVENT
DTSTART;VALUE=DATE:20240127
DTEND;VALUE=DATE:20240128
DTSTAMP:20260420T112116
CREATED:20231019T103246Z
LAST-MODIFIED:20240110T180700Z
UID:2614-1706313600-1706399999@harrastemoottoriurheilu.fi
SUMMARY:OP Vakka-Auranmaa Marttila Sprint
DESCRIPTION:Aika: 27.1.2024\n\n\nPaikka: Marttila\n\n\nLaji: Rallisprint\n\n\nArvo: Etelä-Suomen Rallisprint Mestaruussarja 2024\n\n\nJärjestäjä: Southwest Motorsport ry\n\n\nKilpailukutsu: http://ajaksi.fi/wp/27-1-2024-op-vakka-auranmaa-marttila-sprint/\n\n\nIlmoittautuminen: http://ajaksi.fi/wp/27-1-2024-op-vakka-auranmaa-marttila-sprint/\n\n\nLähtöluettelo:\n\n\nKilpailijainfo:\n\n\n\n\n\n\nLisätiedot: \n\n\n\n 
URL:https://harrastemoottoriurheilu.fi/event/rallisprint-marttila-3/
CATEGORIES:Rallisprint
END:VEVENT
BEGIN:VEVENT
DTSTART;VALUE=DATE:20240127
DTEND;VALUE=DATE:20240128
DTSTAMP:20260420T112116
CREATED:20230926T134106Z
LAST-MODIFIED:20231129T173104Z
UID:2604-1706313600-1706399999@harrastemoottoriurheilu.fi
SUMMARY:Konetyö Ari Kivelä Ralli Tornio
DESCRIPTION:Aika: 27.1.2024\n\n\nPaikka: Tornio\n\n\nLaji: Ralli\n\n\nArvo: \n\n\nJärjestäjä: Tornion Ralliharrastajat ry\n\n\nKilpailukutsu: \n\n\nIlmoittautuminen: https://www.rallitulokset.fi/Lomake2/\n\n\nLähtöluettelo:\n\n\nKilpailijainfo:\n\n\n\n\n\n\nLisätiedot: Yhteyshenkilö Vesa Törmä 0400 589683\n\n\n\n 
URL:https://harrastemoottoriurheilu.fi/event/tornio-ralli-3/
CATEGORIES:Ralli
END:VEVENT
BEGIN:VEVENT
DTSTART;VALUE=DATE:20240120
DTEND;VALUE=DATE:20240121
DTSTAMP:20260420T112116
CREATED:20230903T140501Z
LAST-MODIFIED:20231206T144454Z
UID:2550-1705708800-1705795199@harrastemoottoriurheilu.fi
SUMMARY:Kontiolahti Ralli
DESCRIPTION:Aika: 20.1.2024\n\n\nPaikka: Kontiolahti\n\n\nLaji: Ralli\n\n\nArvo: HRS 2024 Mestaruus\n\n\nJärjestäjä: Kontio Racing ry\n\n\nKilpailukutsu: \n\n\nIlmoittautuminen: https://www.rallitulokset.fi/Lomake9/\n\n\nLähtöluettelo:\n\n\nKilpailijainfo:\n\n\n\n\n\n\nLisätiedot: \n\n\n\n 
URL:https://harrastemoottoriurheilu.fi/event/kontiolahti-ralli-4/
CATEGORIES:Ralli
END:VEVENT
BEGIN:VEVENT
DTSTART;VALUE=DATE:20240106
DTEND;VALUE=DATE:20240107
DTSTAMP:20260420T112116
CREATED:20230916T094947Z
LAST-MODIFIED:20231114T154513Z
UID:2579-1704499200-1704585599@harrastemoottoriurheilu.fi
SUMMARY:X Piippola Ralli
DESCRIPTION:Aika: 6.1.2024\n\n\nPaikka: Siikalatva/Piippola\n\n\nLaji: Ralli\n\n\nArvo: \n\n\nJärjestäjä: Keskipiste Racing ry\n\n\nKilpailukutsu: \n\n\nIlmoittautuminen: https://www.rallitulokset.fi/Lomake3/\n\n\nLähtöluettelo:\n\n\nKilpailijainfo:\n\n\n\n\n\n\nLisätiedot: \n\n\n\n 
URL:https://harrastemoottoriurheilu.fi/event/x-piippola-ralli/
CATEGORIES:Ralli
END:VEVENT
BEGIN:VEVENT
DTSTART;VALUE=DATE:20231015
DTEND;VALUE=DATE:20231016
DTSTAMP:20260420T112116
CREATED:20230921T145454Z
LAST-MODIFIED:20230921T145454Z
UID:2595-1697328000-1697414399@harrastemoottoriurheilu.fi
SUMMARY:Veljekset Honkanen Oy JR Syysajot susirajalla
DESCRIPTION:JokkisRace -kauden ja JR Cupin päätösosakilpailu\, jaossa tuplapisteet! \nKilpailukutsu ja ilmoittautuminen: \nhttps://jokkisrace.net/index.php?Sivu=kilpailut/show_kisa.php&id=235
URL:https://harrastemoottoriurheilu.fi/event/veljekset-honkanen-oy-jr-syysajot-susirajalla/
LOCATION:Riihikankaan Maastorata\, Lieksantie 175\, Nurmes\, Suomi
CATEGORIES:JokkisRace
END:VEVENT
BEGIN:VEVENT
DTSTART;VALUE=DATE:20231007
DTEND;VALUE=DATE:20231008
DTSTAMP:20260420T112116
CREATED:20221217T181723Z
LAST-MODIFIED:20221217T181723Z
UID:2264-1696636800-1696723199@harrastemoottoriurheilu.fi
SUMMARY:JR Arkala
DESCRIPTION:Kilpailukutsu ja ilmoittautuminen: https://jokkisrace.net/index.php?Sivu=kilpailut/show_kisa.php&id=228
URL:https://harrastemoottoriurheilu.fi/event/jr-arkala-4/
CATEGORIES:JokkisRace
END:VEVENT
BEGIN:VEVENT
DTSTART;VALUE=DATE:20230930
DTEND;VALUE=DATE:20231001
DTSTAMP:20260420T112116
CREATED:20230206T105201Z
LAST-MODIFIED:20230914T135857Z
UID:2383-1696032000-1696118399@harrastemoottoriurheilu.fi
SUMMARY:Maanrakennus Sjöberg Rallisprint
DESCRIPTION:Aika: 30.9.2023\n\n\nPaikka: Tammisaari (Prätskulla)\n\n\nLaji: Rallisprint\n\n\nArvo: \n\n\nJärjestäjä: Southwest Motorsport\n\n\nKilpailukutsu: \n\n\nIlmoittautuminen: http://ajaksi.fi/wp/maanrakennus-sjoberg-rallisprint-30-9/\n\n\nLähtöluettelo:\n\n\nKilpailijainfo:\n\n\n\n\n\n\nLisätiedot: Etelä-Suomen Rallispint sarjan osakilpailu \nhttp://ajaksi.fi/wp/etela-suomen-rallisprint-sarja/\n\n\n\n 
URL:https://harrastemoottoriurheilu.fi/event/rallisprint-tammisaari/
CATEGORIES:Rallisprint
END:VEVENT
BEGIN:VEVENT
DTSTART;VALUE=DATE:20230924
DTEND;VALUE=DATE:20230925
DTSTAMP:20260420T112116
CREATED:20230916T100755Z
LAST-MODIFIED:20230916T100755Z
UID:2586-1695513600-1695599999@harrastemoottoriurheilu.fi
SUMMARY:Kiskon harjoitus EK
DESCRIPTION:Aika: 24.9.2023\n\n\nPaikka: Kisko\n\n\nLaji: Ralli\n\n\nArvo: \n\n\nJärjestäjä: Kiskon MAK ry\n\n\nKilpailukutsu: \n\n\nIlmoittautuminen: \n\n\nLähtöluettelo:\n\n\nKilpailijainfo:\n\n\n\n\n\n\nLisätiedot: Harjoitus/testi EK \nLisätietoja juha Laaksonen 044 9753 599\n\n\n\n 
URL:https://harrastemoottoriurheilu.fi/event/kiskon-harjoitus-ek/
CATEGORIES:Ralli
END:VEVENT
BEGIN:VEVENT
DTSTART;VALUE=DATE:20230923
DTEND;VALUE=DATE:20230924
DTSTAMP:20260420T112116
CREATED:20230428T103921Z
LAST-MODIFIED:20230824T132515Z
UID:2474-1695427200-1695513599@harrastemoottoriurheilu.fi
SUMMARY:Reeti-ralli
DESCRIPTION:Aika: 23.9.2023\n\n\nPaikka: Luhanka\n\n\nLaji: Ralli\n\n\nArvo: \n\n\nJärjestäjä: Yellow Racing Team ry\n\n\nKilpailukutsu: Julkaistaan toukokuun aikana Ajaksin sivuilla\n\n\nIlmoittautuminen: http://ajaksi.fi/wp/23-9-2023-reeti-ralli/\n\n\nLähtöluettelo:\n\n\nKilpailijainfo:\n\n\n\n\n\n\nLisätiedot:  \nwww.facebook.com/yellowracingteamry \n \n\n\n\n 
URL:https://harrastemoottoriurheilu.fi/event/reeti-ralli-3/
CATEGORIES:Ralli
END:VEVENT
BEGIN:VEVENT
DTSTART;VALUE=DATE:20230917
DTEND;VALUE=DATE:20230918
DTSTAMP:20260420T112116
CREATED:20230206T105056Z
LAST-MODIFIED:20230206T105056Z
UID:2381-1694908800-1694995199@harrastemoottoriurheilu.fi
SUMMARY:Rallisprint Sastamala
DESCRIPTION:Aika: 17.9.2023\n\n\nPaikka: Sastamala\n\n\nLaji: Rallisprint\n\n\nArvo: \n\n\nJärjestäjä: \n\n\nKilpailukutsu: \n\n\nIlmoittautuminen: \n\n\nLähtöluettelo:\n\n\nKilpailijainfo:\n\n\n\n\n\n\nLisätiedot: Etelä-Suomen Rallispint sarjan osakilpailu \nhttp://ajaksi.fi/wp/etela-suomen-rallisprint-sarja/\n\n\n\n 
URL:https://harrastemoottoriurheilu.fi/event/rallisprint-sastamala/
CATEGORIES:Rallisprint
END:VEVENT
BEGIN:VEVENT
DTSTART;VALUE=DATE:20230916
DTEND;VALUE=DATE:20230917
DTSTAMP:20260420T112116
CREATED:20230824T130013Z
LAST-MODIFIED:20230914T135536Z
UID:2536-1694822400-1694908799@harrastemoottoriurheilu.fi
SUMMARY:PERUTTU Savitaipale Ralli
DESCRIPTION:Aika: 16.9.2023\n\n\nPaikka: Savitaipale\n\n\nLaji: Ralli\n\n\nArvo: Kansallinen\n\n\nJärjestäjä: Hartialukko Racing Team ry\n\n\nKilpailukutsu: https://www.rallitulokset.fi/Lomake3/\n\n\nIlmoittautuminen: https://www.rallitulokset.fi/Lomake3/\n\n\nLähtöluettelo:\n\n\nKilpailijainfo:\n\n\n\n\n\n\nLisätiedot:  \nVielä on kesäkautta jäljellä! Savitaipale ralli pärähtää käyntiin lauantaina 16.09.2023 klo. 13.00 alkaen. Kilpailussa ajetaan 4 erikoiskoetta ja n. 27 EK-km. Koko reitin pituus on n. 90 km. Kilpailu on kansallinen ralli\, jossa on luokkia nuotin kanssa ja ilman. Nuotitus tapahtuu kisapäivän aamuna klo. 8.00-12.00. \nIlmoittautuminen päättyy sunnuntaina 10.09.2023 klo 20:00.\nhttps://www.rallitulokset.fi/Lomake3/ \nJos viivalle saadaan vähintään 100 autokuntaa viivalle\, järjestäjä Hartialukko Racing Team arpoo viidelle (5) kuljettajaparille täysin maksuttoman ilmoittaumisen ralliin! Ja ei siinä vielä kaikki… myös muita hienoja arvontoja on tulossa\, jos saadaan tarpeeksi pareja viivalle! \nTervetuloa syksyn kovimpaan pienoisralliin! Reitti sisältää ennen ajettua\, kuin myös täysin uutta! Tehdään yhdessä hieno rallipäivä niin kuskeille\, että katsojille kauniissa syyssäässä sekä hienoilla sorateillä.\n\n\n\n 
URL:https://harrastemoottoriurheilu.fi/event/savitaipale-ralli/
CATEGORIES:Ralli
END:VEVENT
BEGIN:VEVENT
DTSTART;VALUE=DATE:20230903
DTEND;VALUE=DATE:20230904
DTSTAMP:20260420T112116
CREATED:20230306T192740Z
LAST-MODIFIED:20230629T183515Z
UID:2435-1693699200-1693785599@harrastemoottoriurheilu.fi
SUMMARY:Autokorjaamo Jazu JR
DESCRIPTION:Kilpailukutsu ja ilmoittautuminen: https://jokkisrace.net/index.php?Sivu=kilpailut/show_kisa.php&id=231
URL:https://harrastemoottoriurheilu.fi/event/jr-arkala-3-2/
LOCATION:OuluZone\, Kuusamontie 3250\, Ylikiiminki\, 91310
CATEGORIES:JokkisRace
END:VEVENT
BEGIN:VEVENT
DTSTART;VALUE=DATE:20230903
DTEND;VALUE=DATE:20230904
DTSTAMP:20260420T112116
CREATED:20230206T104951Z
LAST-MODIFIED:20230824T125251Z
UID:2379-1693699200-1693785599@harrastemoottoriurheilu.fi
SUMMARY:Jämin Rahtipalvi Sorasprint
DESCRIPTION:Aika: 3.9.2023\n\n\nPaikka: Jämijärvi\n\n\nLaji: Rallisprint\n\n\nArvo: \n\n\nJärjestäjä: Satapirkan Ralliseura ry\n\n\nKilpailukutsu: \n\n\nIlmoittautuminen: http://ajaksi.fi/wp/03-09-2023/\n\n\nLähtöluettelo:\n\n\nKilpailijainfo:\n\n\n\n\n\n\nLisätiedot:  Yhteyshenkilönä Kilpailunjohataja Riku Ainasvuori 050 349 5821\nEtelä-Suomen Rallispint sarjan osakilpailuhttp://ajaksi.fi/wp/etela-suomen-rallisprint-sarja/\n\n\n\n 
URL:https://harrastemoottoriurheilu.fi/event/rallisprint-jamijarvi/
CATEGORIES:Rallisprint
END:VEVENT
BEGIN:VEVENT
DTSTART;VALUE=DATE:20230902
DTEND;VALUE=DATE:20230903
DTSTAMP:20260420T112116
CREATED:20230206T104842Z
LAST-MODIFIED:20230824T125122Z
UID:2377-1693612800-1693699199@harrastemoottoriurheilu.fi
SUMMARY:Jaulin Kämpät Sorasprint
DESCRIPTION:Aika: 2.9.2023\n\n\nPaikka: Ikaalinen\n\n\nLaji: Rallisprint\n\n\nArvo: \n\n\nJärjestäjä: Satapirkan Ralliseura ry\n\n\n\nKilpailukutsu: \n\n\nIlmoittautuminen: http://ajaksi.fi/wp/02-09-2023-jaulin-kampat-fi-sorasprint/\n\n\nLähtöluettelo:\n\n\nKilpailijainfo:\n\n\n\n\n\n\nLisätiedot: Yhteyshenkilönä kilpailunjohtaja Riku Ainasvuori 050 349 5821\nEtelä-Suomen Rallispint sarjan osakilpailuhttp://ajaksi.fi/wp/etela-suomen-rallisprint-sarja/\n\n\n\n 
URL:https://harrastemoottoriurheilu.fi/event/rallisprint-parkano/
CATEGORIES:Rallisprint
END:VEVENT
BEGIN:VEVENT
DTSTART;VALUE=DATE:20230827
DTEND;VALUE=DATE:20230828
DTSTAMP:20260420T112116
CREATED:20230203T175549Z
LAST-MODIFIED:20230824T125004Z
UID:2342-1693094400-1693180799@harrastemoottoriurheilu.fi
SUMMARY:Trans Härmä Asfalttisprint
DESCRIPTION:Aika: 27.8.2023\n\n\nPaikka: Kauhava\n\n\nLaji: Rallisprint\n\n\nArvo: Asfaltti Mestaruus\n\n\nJärjestäjä: Pohjanmaa Racing Team ry\n\n\nKilpailukutsu:\n\n\nIlmoittautuminen: \n\n\nLähtöluettelo: http://ajaksi.fi/wp/26-27-08-2023-trans-harma-asfalttisprint-kauhava/\n\n\nKilpailijainfo: http://ajaksi.fi/wp/26-27-08-2023-trans-harma-asfalttisprint-kauhava/\n\n\n\n\n\nLisätiedot: \nhttp://ajaksi.fi/wp/xmeal-asfalttisarja-2023/ \n 
URL:https://harrastemoottoriurheilu.fi/event/asfalttisprint-kauhava-2/
CATEGORIES:Rallisprint
END:VEVENT
BEGIN:VEVENT
DTSTART;VALUE=DATE:20230826
DTEND;VALUE=DATE:20230827
DTSTAMP:20260420T112116
CREATED:20230203T175429Z
LAST-MODIFIED:20230824T124840Z
UID:2340-1693008000-1693094399@harrastemoottoriurheilu.fi
SUMMARY:Trans Härmä Asfalttisprint
DESCRIPTION:Aika: 26.8.2023\n\n\nPaikka: Kauhava\n\n\nLaji: Rallisprint\n\n\nArvo: Asfaltti Mestaruus\n\n\nJärjestäjä: Pohjanmaa Racing Team ry\n\n\nKilpailukutsu:\n\n\nIlmoittautuminen: \n\n\nLähtöluettelo:http://ajaksi.fi/wp/26-27-08-2023-trans-harma-asfalttisprint-kauhava/\n\n\nKilpailijainfo:http://ajaksi.fi/wp/26-27-08-2023-trans-harma-asfalttisprint-kauhava/\n\n\n\n\n\nLisätiedot: \nhttp://ajaksi.fi/wp/xmeal-asfalttisarja-2023/ \n 
URL:https://harrastemoottoriurheilu.fi/event/asfalttisprint-kauhava-1/
CATEGORIES:Rallisprint
END:VEVENT
BEGIN:VEVENT
DTSTART;TZID=Europe/Helsinki:20230824T080000
DTEND;TZID=Europe/Helsinki:20230824T170000
DTSTAMP:20260420T112116
CREATED:20230824T150117Z
LAST-MODIFIED:20230824T150117Z
UID:2539-1692864000-1692896400@harrastemoottoriurheilu.fi
SUMMARY:Mielipidekysely Harrasterallisarja 2023
DESCRIPTION:Tämä kysely päätettiin julkaista yhteistyössä Hamu:n hallituksen ja sarjatyöryhmän kanssa\, jotta kuulisimme mielipiteitä kentältä kuluneesta kaudesta 2023 Harrasterallisarjan osalta. Samainen kysely oli esillä Sastamalassa Luksushuvilat.fi Rallissa 19.8.2023 kilpailuun osallistuneille. Mutta jos et kerennyt siihen siellä vastailla\, niin nyt siihen on oiva  mahdollisuus. \nVastausaika päättyy 10.9.2023 \nMielipide kyselyyn tästä
URL:https://harrastemoottoriurheilu.fi/event/mielipidekysely-harrasterallisarja-2023/
END:VEVENT
END:VCALENDAR