BEGIN:VCALENDAR
VERSION:2.0
PRODID:-//Harrastemoottoriurheilun Keskusjärjestö Ry - ECPv6.15.20//NONSGML v1.0//EN
CALSCALE:GREGORIAN
METHOD:PUBLISH
X-WR-CALNAME:Harrastemoottoriurheilun Keskusjärjestö Ry
X-ORIGINAL-URL:https://harrastemoottoriurheilu.fi
X-WR-CALDESC:Tapahtumat Harrastemoottoriurheilun Keskusjärjestö Ry
REFRESH-INTERVAL;VALUE=DURATION:PT1H
X-Robots-Tag:noindex
X-PUBLISHED-TTL:PT1H
BEGIN:VTIMEZONE
TZID:Europe/Helsinki
BEGIN:DAYLIGHT
TZOFFSETFROM:+0200
TZOFFSETTO:+0300
TZNAME:EEST
DTSTART:20220327T010000
END:DAYLIGHT
BEGIN:STANDARD
TZOFFSETFROM:+0300
TZOFFSETTO:+0200
TZNAME:EET
DTSTART:20221030T010000
END:STANDARD
BEGIN:DAYLIGHT
TZOFFSETFROM:+0200
TZOFFSETTO:+0300
TZNAME:EEST
DTSTART:20230326T010000
END:DAYLIGHT
BEGIN:STANDARD
TZOFFSETFROM:+0300
TZOFFSETTO:+0200
TZNAME:EET
DTSTART:20231029T010000
END:STANDARD
BEGIN:DAYLIGHT
TZOFFSETFROM:+0200
TZOFFSETTO:+0300
TZNAME:EEST
DTSTART:20240331T010000
END:DAYLIGHT
BEGIN:STANDARD
TZOFFSETFROM:+0300
TZOFFSETTO:+0200
TZNAME:EET
DTSTART:20241027T010000
END:STANDARD
END:VTIMEZONE
BEGIN:VEVENT
DTSTART;VALUE=DATE:20230924
DTEND;VALUE=DATE:20230925
DTSTAMP:20260420T132854
CREATED:20230916T100755Z
LAST-MODIFIED:20230916T100755Z
UID:2586-1695513600-1695599999@harrastemoottoriurheilu.fi
SUMMARY:Kiskon harjoitus EK
DESCRIPTION:Aika: 24.9.2023\n\n\nPaikka: Kisko\n\n\nLaji: Ralli\n\n\nArvo: \n\n\nJärjestäjä: Kiskon MAK ry\n\n\nKilpailukutsu: \n\n\nIlmoittautuminen: \n\n\nLähtöluettelo:\n\n\nKilpailijainfo:\n\n\n\n\n\n\nLisätiedot: Harjoitus/testi EK \nLisätietoja juha Laaksonen 044 9753 599\n\n\n\n 
URL:https://harrastemoottoriurheilu.fi/event/kiskon-harjoitus-ek/
CATEGORIES:Ralli
END:VEVENT
BEGIN:VEVENT
DTSTART;VALUE=DATE:20230923
DTEND;VALUE=DATE:20230924
DTSTAMP:20260420T132854
CREATED:20230428T103921Z
LAST-MODIFIED:20230824T132515Z
UID:2474-1695427200-1695513599@harrastemoottoriurheilu.fi
SUMMARY:Reeti-ralli
DESCRIPTION:Aika: 23.9.2023\n\n\nPaikka: Luhanka\n\n\nLaji: Ralli\n\n\nArvo: \n\n\nJärjestäjä: Yellow Racing Team ry\n\n\nKilpailukutsu: Julkaistaan toukokuun aikana Ajaksin sivuilla\n\n\nIlmoittautuminen: http://ajaksi.fi/wp/23-9-2023-reeti-ralli/\n\n\nLähtöluettelo:\n\n\nKilpailijainfo:\n\n\n\n\n\n\nLisätiedot:  \nwww.facebook.com/yellowracingteamry \n \n\n\n\n 
URL:https://harrastemoottoriurheilu.fi/event/reeti-ralli-3/
CATEGORIES:Ralli
END:VEVENT
BEGIN:VEVENT
DTSTART;VALUE=DATE:20230917
DTEND;VALUE=DATE:20230918
DTSTAMP:20260420T132854
CREATED:20230206T105056Z
LAST-MODIFIED:20230206T105056Z
UID:2381-1694908800-1694995199@harrastemoottoriurheilu.fi
SUMMARY:Rallisprint Sastamala
DESCRIPTION:Aika: 17.9.2023\n\n\nPaikka: Sastamala\n\n\nLaji: Rallisprint\n\n\nArvo: \n\n\nJärjestäjä: \n\n\nKilpailukutsu: \n\n\nIlmoittautuminen: \n\n\nLähtöluettelo:\n\n\nKilpailijainfo:\n\n\n\n\n\n\nLisätiedot: Etelä-Suomen Rallispint sarjan osakilpailu \nhttp://ajaksi.fi/wp/etela-suomen-rallisprint-sarja/\n\n\n\n 
URL:https://harrastemoottoriurheilu.fi/event/rallisprint-sastamala/
CATEGORIES:Rallisprint
END:VEVENT
BEGIN:VEVENT
DTSTART;VALUE=DATE:20230916
DTEND;VALUE=DATE:20230917
DTSTAMP:20260420T132854
CREATED:20230824T130013Z
LAST-MODIFIED:20230914T135536Z
UID:2536-1694822400-1694908799@harrastemoottoriurheilu.fi
SUMMARY:PERUTTU Savitaipale Ralli
DESCRIPTION:Aika: 16.9.2023\n\n\nPaikka: Savitaipale\n\n\nLaji: Ralli\n\n\nArvo: Kansallinen\n\n\nJärjestäjä: Hartialukko Racing Team ry\n\n\nKilpailukutsu: https://www.rallitulokset.fi/Lomake3/\n\n\nIlmoittautuminen: https://www.rallitulokset.fi/Lomake3/\n\n\nLähtöluettelo:\n\n\nKilpailijainfo:\n\n\n\n\n\n\nLisätiedot:  \nVielä on kesäkautta jäljellä! Savitaipale ralli pärähtää käyntiin lauantaina 16.09.2023 klo. 13.00 alkaen. Kilpailussa ajetaan 4 erikoiskoetta ja n. 27 EK-km. Koko reitin pituus on n. 90 km. Kilpailu on kansallinen ralli\, jossa on luokkia nuotin kanssa ja ilman. Nuotitus tapahtuu kisapäivän aamuna klo. 8.00-12.00. \nIlmoittautuminen päättyy sunnuntaina 10.09.2023 klo 20:00.\nhttps://www.rallitulokset.fi/Lomake3/ \nJos viivalle saadaan vähintään 100 autokuntaa viivalle\, järjestäjä Hartialukko Racing Team arpoo viidelle (5) kuljettajaparille täysin maksuttoman ilmoittaumisen ralliin! Ja ei siinä vielä kaikki… myös muita hienoja arvontoja on tulossa\, jos saadaan tarpeeksi pareja viivalle! \nTervetuloa syksyn kovimpaan pienoisralliin! Reitti sisältää ennen ajettua\, kuin myös täysin uutta! Tehdään yhdessä hieno rallipäivä niin kuskeille\, että katsojille kauniissa syyssäässä sekä hienoilla sorateillä.\n\n\n\n 
URL:https://harrastemoottoriurheilu.fi/event/savitaipale-ralli/
CATEGORIES:Ralli
END:VEVENT
BEGIN:VEVENT
DTSTART;VALUE=DATE:20230903
DTEND;VALUE=DATE:20230904
DTSTAMP:20260420T132854
CREATED:20230306T192740Z
LAST-MODIFIED:20230629T183515Z
UID:2435-1693699200-1693785599@harrastemoottoriurheilu.fi
SUMMARY:Autokorjaamo Jazu JR
DESCRIPTION:Kilpailukutsu ja ilmoittautuminen: https://jokkisrace.net/index.php?Sivu=kilpailut/show_kisa.php&id=231
URL:https://harrastemoottoriurheilu.fi/event/jr-arkala-3-2/
LOCATION:OuluZone\, Kuusamontie 3250\, Ylikiiminki\, 91310
CATEGORIES:JokkisRace
END:VEVENT
BEGIN:VEVENT
DTSTART;VALUE=DATE:20230903
DTEND;VALUE=DATE:20230904
DTSTAMP:20260420T132854
CREATED:20230206T104951Z
LAST-MODIFIED:20230824T125251Z
UID:2379-1693699200-1693785599@harrastemoottoriurheilu.fi
SUMMARY:Jämin Rahtipalvi Sorasprint
DESCRIPTION:Aika: 3.9.2023\n\n\nPaikka: Jämijärvi\n\n\nLaji: Rallisprint\n\n\nArvo: \n\n\nJärjestäjä: Satapirkan Ralliseura ry\n\n\nKilpailukutsu: \n\n\nIlmoittautuminen: http://ajaksi.fi/wp/03-09-2023/\n\n\nLähtöluettelo:\n\n\nKilpailijainfo:\n\n\n\n\n\n\nLisätiedot:  Yhteyshenkilönä Kilpailunjohataja Riku Ainasvuori 050 349 5821\nEtelä-Suomen Rallispint sarjan osakilpailuhttp://ajaksi.fi/wp/etela-suomen-rallisprint-sarja/\n\n\n\n 
URL:https://harrastemoottoriurheilu.fi/event/rallisprint-jamijarvi/
CATEGORIES:Rallisprint
END:VEVENT
BEGIN:VEVENT
DTSTART;VALUE=DATE:20230902
DTEND;VALUE=DATE:20230903
DTSTAMP:20260420T132854
CREATED:20230206T104842Z
LAST-MODIFIED:20230824T125122Z
UID:2377-1693612800-1693699199@harrastemoottoriurheilu.fi
SUMMARY:Jaulin Kämpät Sorasprint
DESCRIPTION:Aika: 2.9.2023\n\n\nPaikka: Ikaalinen\n\n\nLaji: Rallisprint\n\n\nArvo: \n\n\nJärjestäjä: Satapirkan Ralliseura ry\n\n\n\nKilpailukutsu: \n\n\nIlmoittautuminen: http://ajaksi.fi/wp/02-09-2023-jaulin-kampat-fi-sorasprint/\n\n\nLähtöluettelo:\n\n\nKilpailijainfo:\n\n\n\n\n\n\nLisätiedot: Yhteyshenkilönä kilpailunjohtaja Riku Ainasvuori 050 349 5821\nEtelä-Suomen Rallispint sarjan osakilpailuhttp://ajaksi.fi/wp/etela-suomen-rallisprint-sarja/\n\n\n\n 
URL:https://harrastemoottoriurheilu.fi/event/rallisprint-parkano/
CATEGORIES:Rallisprint
END:VEVENT
BEGIN:VEVENT
DTSTART;VALUE=DATE:20230827
DTEND;VALUE=DATE:20230828
DTSTAMP:20260420T132854
CREATED:20230203T175549Z
LAST-MODIFIED:20230824T125004Z
UID:2342-1693094400-1693180799@harrastemoottoriurheilu.fi
SUMMARY:Trans Härmä Asfalttisprint
DESCRIPTION:Aika: 27.8.2023\n\n\nPaikka: Kauhava\n\n\nLaji: Rallisprint\n\n\nArvo: Asfaltti Mestaruus\n\n\nJärjestäjä: Pohjanmaa Racing Team ry\n\n\nKilpailukutsu:\n\n\nIlmoittautuminen: \n\n\nLähtöluettelo: http://ajaksi.fi/wp/26-27-08-2023-trans-harma-asfalttisprint-kauhava/\n\n\nKilpailijainfo: http://ajaksi.fi/wp/26-27-08-2023-trans-harma-asfalttisprint-kauhava/\n\n\n\n\n\nLisätiedot: \nhttp://ajaksi.fi/wp/xmeal-asfalttisarja-2023/ \n 
URL:https://harrastemoottoriurheilu.fi/event/asfalttisprint-kauhava-2/
CATEGORIES:Rallisprint
END:VEVENT
BEGIN:VEVENT
DTSTART;VALUE=DATE:20230826
DTEND;VALUE=DATE:20230827
DTSTAMP:20260420T132854
CREATED:20230203T175429Z
LAST-MODIFIED:20230824T124840Z
UID:2340-1693008000-1693094399@harrastemoottoriurheilu.fi
SUMMARY:Trans Härmä Asfalttisprint
DESCRIPTION:Aika: 26.8.2023\n\n\nPaikka: Kauhava\n\n\nLaji: Rallisprint\n\n\nArvo: Asfaltti Mestaruus\n\n\nJärjestäjä: Pohjanmaa Racing Team ry\n\n\nKilpailukutsu:\n\n\nIlmoittautuminen: \n\n\nLähtöluettelo:http://ajaksi.fi/wp/26-27-08-2023-trans-harma-asfalttisprint-kauhava/\n\n\nKilpailijainfo:http://ajaksi.fi/wp/26-27-08-2023-trans-harma-asfalttisprint-kauhava/\n\n\n\n\n\nLisätiedot: \nhttp://ajaksi.fi/wp/xmeal-asfalttisarja-2023/ \n 
URL:https://harrastemoottoriurheilu.fi/event/asfalttisprint-kauhava-1/
CATEGORIES:Rallisprint
END:VEVENT
BEGIN:VEVENT
DTSTART;TZID=Europe/Helsinki:20230824T080000
DTEND;TZID=Europe/Helsinki:20230824T170000
DTSTAMP:20260420T132854
CREATED:20230824T150117Z
LAST-MODIFIED:20230824T150117Z
UID:2539-1692864000-1692896400@harrastemoottoriurheilu.fi
SUMMARY:Mielipidekysely Harrasterallisarja 2023
DESCRIPTION:Tämä kysely päätettiin julkaista yhteistyössä Hamu:n hallituksen ja sarjatyöryhmän kanssa\, jotta kuulisimme mielipiteitä kentältä kuluneesta kaudesta 2023 Harrasterallisarjan osalta. Samainen kysely oli esillä Sastamalassa Luksushuvilat.fi Rallissa 19.8.2023 kilpailuun osallistuneille. Mutta jos et kerennyt siihen siellä vastailla\, niin nyt siihen on oiva  mahdollisuus. \nVastausaika päättyy 10.9.2023 \nMielipide kyselyyn tästä
URL:https://harrastemoottoriurheilu.fi/event/mielipidekysely-harrasterallisarja-2023/
END:VEVENT
BEGIN:VEVENT
DTSTART;VALUE=DATE:20230819
DTEND;VALUE=DATE:20230820
DTSTAMP:20260420T132854
CREATED:20221021T185419Z
LAST-MODIFIED:20221021T185419Z
UID:2212-1692403200-1692489599@harrastemoottoriurheilu.fi
SUMMARY:Sastamala Ralli
DESCRIPTION:Aika: 19.8.2023\n\n\nPaikka: Sastamala\n\n\nLaji: Ralli\n\n\nArvo: HRS 2023 Mestaruus\n\n\nJärjestäjä: Tyrvään Moottorikerho ry\n\n\nKilpailukutsu: \n\n\nIlmoittautuminen: \n\n\nLähtöluettelo:\n\n\nKilpailijainfo:\n\n\n\n\n\n\nLisätiedot: \n\n\n\n 
URL:https://harrastemoottoriurheilu.fi/event/sastamala-ralli/
CATEGORIES:Ralli
END:VEVENT
BEGIN:VEVENT
DTSTART;VALUE=DATE:20230812
DTEND;VALUE=DATE:20230813
DTSTAMP:20260420T132854
CREATED:20221217T181623Z
LAST-MODIFIED:20230507T173145Z
UID:2262-1691798400-1691884799@harrastemoottoriurheilu.fi
SUMMARY:JR SM 2023
DESCRIPTION:Kilpailukutsu ja ilmoittautuminen: https://jokkisrace.net/index.php?Sivu=kilpailut/show_kisa.php&id=229
URL:https://harrastemoottoriurheilu.fi/event/jr-sm-2022/
LOCATION:Vehkamaan moottoriurheilukeskus\, Liminka
CATEGORIES:JokkisRace
END:VEVENT
BEGIN:VEVENT
DTSTART;VALUE=DATE:20230805
DTEND;VALUE=DATE:20230806
DTSTAMP:20260420T132854
CREATED:20230306T192337Z
LAST-MODIFIED:20230503T172630Z
UID:2431-1691193600-1691279999@harrastemoottoriurheilu.fi
SUMMARY:JR Cup Suomussalmi
DESCRIPTION:Kilpailukutsu ja ilmoittautuminen: https://jokkisrace.net/index.php?Sivu=kilpailut/show_kisa.php&id=232
URL:https://harrastemoottoriurheilu.fi/event/jr-cup-suomussalmi/
LOCATION:Aittokosken rata\, Emäjoentie 71\, Suomussalmi\, 89600
CATEGORIES:JokkisRace
END:VEVENT
BEGIN:VEVENT
DTSTART;VALUE=DATE:20230729
DTEND;VALUE=DATE:20230730
DTSTAMP:20260420T132854
CREATED:20230622T081705Z
LAST-MODIFIED:20230622T081705Z
UID:2515-1690588800-1690675199@harrastemoottoriurheilu.fi
SUMMARY:Napakymppi Rallispecial Tornio
DESCRIPTION:Aika: 29.7.2023\n\n\nPaikka: Tornio\n\n\nLaji: Rallispecial\n\n\nArvo:\n\n\nJärjestäjä: Tornion Ralliharrastajat ry\n\n\nKilpailukutsu: \n\n\nIlmoittautuminen: https://www.rallitulokset.fi/Lomake4/\n\n\nLähtöluettelo:\n\n\nKilpailijainfo:\n\n\n\n\n\n\nLisätiedot:  \n  \n \n\n\n\n 
URL:https://harrastemoottoriurheilu.fi/event/napakymppi-rallispecial-tornio/
CATEGORIES:Rallispecial
END:VEVENT
BEGIN:VEVENT
DTSTART;VALUE=DATE:20230722
DTEND;VALUE=DATE:20230723
DTSTAMP:20260420T132854
CREATED:20221021T185236Z
LAST-MODIFIED:20221021T185236Z
UID:2209-1689984000-1690070399@harrastemoottoriurheilu.fi
SUMMARY:Siikajoki Ralli
DESCRIPTION:Aika: 22.7.2023\n\n\nPaikka: Siikajoki\n\n\nLaji: Ralli\n\n\nArvo: HRS 2023 Mestaruus\n\n\nJärjestäjä: Pro Race ry\n\n\nKilpailukutsu: \n\n\nIlmoittautuminen: \n\n\nLähtöluettelo:\n\n\nKilpailijainfo:\n\n\n\n\n\n\nLisätiedot: \n\n\n\n 
URL:https://harrastemoottoriurheilu.fi/event/siikajoki-ralli/
CATEGORIES:Ralli
END:VEVENT
BEGIN:VEVENT
DTSTART;VALUE=DATE:20230722
DTEND;VALUE=DATE:20230723
DTSTAMP:20260420T132854
CREATED:20230507T173331Z
LAST-MODIFIED:20230514T160006Z
UID:2493-1689984000-1690070399@harrastemoottoriurheilu.fi
SUMMARY:Aution Rauta JR
DESCRIPTION:Kilpailukutsu ja ilmoittautuminen: https://jokkisrace.net/index.php?Sivu=kilpailut/show_kisa.php&id=234
URL:https://harrastemoottoriurheilu.fi/event/jr-cup-puolanka/
LOCATION:Roninkangas\, Puolanka
CATEGORIES:JokkisRace
END:VEVENT
BEGIN:VEVENT
DTSTART;VALUE=DATE:20230708
DTEND;VALUE=DATE:20230709
DTSTAMP:20260420T132854
CREATED:20230306T192508Z
LAST-MODIFIED:20230629T183555Z
UID:2433-1688774400-1688860799@harrastemoottoriurheilu.fi
SUMMARY:Lapin Työkone JR
DESCRIPTION:Kilpailukutsu ja ilmoittautuminen: https://jokkisrace.net/index.php?Sivu=kilpailut/show_kisa.php&id=230
URL:https://harrastemoottoriurheilu.fi/event/kuivaniemi-jr-cup/
LOCATION:Saarihovin Moottorirata\, Saarihovintie\, Kuivaniemi\, 95100
CATEGORIES:JokkisRace
END:VEVENT
BEGIN:VEVENT
DTSTART;VALUE=DATE:20230702
DTEND;VALUE=DATE:20230703
DTSTAMP:20260420T132854
CREATED:20230404T172741Z
LAST-MODIFIED:20230404T172741Z
UID:2460-1688256000-1688342399@harrastemoottoriurheilu.fi
SUMMARY:Asfalttisprint Paimio 1 ja Paimio 2
DESCRIPTION:Aika: 2.7.2023\n\n\nPaikka: Paimio\n\n\nLaji: Rallisprint\n\n\nArvo: Asfaltti Mestaruus\n\n\nJärjestäjä: \n\n\nKilpailukutsu:\n\n\nIlmoittautuminen: \n\n\nLähtöluettelo:\n\n\nKilpailijainfo:\n\n\n\n\n\nLisätiedot: 2.7.2023 ajetaan kaksi osakilpailua. \nhttp://ajaksi.fi/wp/xmeal-asfalttisarja-2023/ \n 
URL:https://harrastemoottoriurheilu.fi/event/asfalttisprint-paimio-1-ja-paimio-2-2/
END:VEVENT
BEGIN:VEVENT
DTSTART;VALUE=DATE:20230701
DTEND;VALUE=DATE:20230702
DTSTAMP:20260420T132854
CREATED:20230428T104221Z
LAST-MODIFIED:20230530T093115Z
UID:2477-1688169600-1688255999@harrastemoottoriurheilu.fi
SUMMARY:Asfalttisprint Sodankylä
DESCRIPTION:Aika: 1.7.2023\n\n\nPaikka: Sodankylä\n\n\nLaji: Rallisprint\n\n\nArvo: \n\n\nJärjestäjä: Sodankylän Moottorikerho ry\n\n\nKilpailukutsu: \n\n\nIlmoittautuminen: https://www.rallitulokset.fi/Lomake2/\n\n\nLähtöluettelo:\n\n\nKilpailijainfo:\n\n\n\n\n\n\nLisätiedot:  \n \n\n\n\n 
URL:https://harrastemoottoriurheilu.fi/event/asfalttisprint-sodankyla/
CATEGORIES:Rallisprint
END:VEVENT
BEGIN:VEVENT
DTSTART;VALUE=DATE:20230618
DTEND;VALUE=DATE:20230619
DTSTAMP:20260420T132854
CREATED:20230203T175246Z
LAST-MODIFIED:20230203T175246Z
UID:2338-1687046400-1687132799@harrastemoottoriurheilu.fi
SUMMARY:Asfalttisprint Nokia 2
DESCRIPTION:Aika: 18.6.2023\n\n\nPaikka: Nokia\n\n\nLaji: Rallisprint\n\n\nArvo: Asfaltti Mestaruus\n\n\nJärjestäjä: \n\n\nKilpailukutsu:\n\n\nIlmoittautuminen: \n\n\nLähtöluettelo:\n\n\nKilpailijainfo:\n\n\n\n\n\nLisätiedot: \nhttp://ajaksi.fi/wp/xmeal-asfalttisarja-2023/ \n 
URL:https://harrastemoottoriurheilu.fi/event/asfalttisprint-nokia-2/
CATEGORIES:Rallisprint
END:VEVENT
BEGIN:VEVENT
DTSTART;VALUE=DATE:20230617
DTEND;VALUE=DATE:20230618
DTSTAMP:20260420T132854
CREATED:20230206T104713Z
LAST-MODIFIED:20230530T092818Z
UID:2375-1686960000-1687046399@harrastemoottoriurheilu.fi
SUMMARY:Murskaus Rämö & Karén Oy rallisprint
DESCRIPTION:Aika: 17.6.2023\n\n\nPaikka: Humppila\n\n\nLaji: Rallisprint\n\n\nArvo: \n\n\nJärjestäjä: VitUA\n\n\nKilpailukutsu: https://www.mut-palvelu.fi/2023/rallisprint/humppila/humppila_saannot_2023.pdf\n\n\nIlmoittautuminen: https://www.mut-palvelu.fi/\n\n\nLähtöluettelo: https://www.mut-palvelu.fi/\n\n\nKilpailijainfo: https://www.mut-palvelu.fi/\n\n\n\n\n\nLisätiedot: Etelä-Suomen Rallispint sarjan osakilpailu \nhttps://www.facebook.com/HumppilaRallisprint \nhttp://ajaksi.fi/wp/etela-suomen-rallisprint-sarja/\n\n\n\n 
URL:https://harrastemoottoriurheilu.fi/event/rallisprint-humppila/
CATEGORIES:Rallisprint
END:VEVENT
BEGIN:VEVENT
DTSTART;VALUE=DATE:20230617
DTEND;VALUE=DATE:20230618
DTSTAMP:20260420T132854
CREATED:20230203T175127Z
LAST-MODIFIED:20230203T175127Z
UID:2336-1686960000-1687046399@harrastemoottoriurheilu.fi
SUMMARY:Asfalttisprint Nokia 1
DESCRIPTION:Aika: 17.6.2023\n\n\nPaikka: Nokia\n\n\nLaji: Rallisprint\n\n\nArvo: Asfaltti Mestaruus\n\n\nJärjestäjä: \n\n\nKilpailukutsu:\n\n\nIlmoittautuminen: \n\n\nLähtöluettelo:\n\n\nKilpailijainfo:\n\n\n\n\n\nLisätiedot: \nhttp://ajaksi.fi/wp/xmeal-asfalttisarja-2023/ \n 
URL:https://harrastemoottoriurheilu.fi/event/asfalttisprint-nokia-1/
CATEGORIES:Rallisprint
END:VEVENT
BEGIN:VEVENT
DTSTART;VALUE=DATE:20230521
DTEND;VALUE=DATE:20230522
DTSTAMP:20260420T132854
CREATED:20230203T174952Z
LAST-MODIFIED:20230428T104549Z
UID:2334-1684627200-1684713599@harrastemoottoriurheilu.fi
SUMMARY:Nivala Sprint
DESCRIPTION:Aika: 21.5.2023\n\n\nPaikka: Nivala\n\n\nLaji: Rallisprint\n\n\nArvo: Asfaltti Mestaruus\n\n\nJärjestäjä: Revolt Racing Team ry\n\n\nKilpailukutsu:\n\n\nIlmoittautuminen: \n\n\nLähtöluettelo:\n\n\nKilpailijainfo:\n\n\n\n\n\nLisätiedot: \nhttp://ajaksi.fi/wp/xmeal-asfalttisarja-2023/ \n 
URL:https://harrastemoottoriurheilu.fi/event/asfalttisprint-nivala-2/
CATEGORIES:Rallisprint
END:VEVENT
BEGIN:VEVENT
DTSTART;VALUE=DATE:20230520
DTEND;VALUE=DATE:20230521
DTSTAMP:20260420T132854
CREATED:20230203T174845Z
LAST-MODIFIED:20230428T104511Z
UID:2332-1684540800-1684627199@harrastemoottoriurheilu.fi
SUMMARY:Nivalan Teollisuuskylä Oy Sprint
DESCRIPTION:Aika: 20.5.2023\n\n\nPaikka: Nivala\n\n\nLaji: Rallisprint\n\n\nArvo: Asfaltti Mestaruus\n\n\nJärjestäjä: Revolt Racing Team ry\n\n\nKilpailukutsu:\n\n\nIlmoittautuminen: \n\n\nLähtöluettelo:\n\n\nKilpailijainfo:\n\n\n\n\n\nLisätiedot: \nhttp://ajaksi.fi/wp/xmeal-asfalttisarja-2023/ \n 
URL:https://harrastemoottoriurheilu.fi/event/asfalttisprint-nivala-1/
CATEGORIES:Rallisprint
END:VEVENT
BEGIN:VEVENT
DTSTART;VALUE=DATE:20230513
DTEND;VALUE=DATE:20230514
DTSTAMP:20260420T132854
CREATED:20221217T180952Z
LAST-MODIFIED:20221217T181022Z
UID:2259-1683936000-1684022399@harrastemoottoriurheilu.fi
SUMMARY:JR Arkala
DESCRIPTION:Kilpailukutsu ja ilmoittautuminen: https://jokkisrace.net/index.php?Sivu=kilpailut/show_kisa.php&id=224
URL:https://harrastemoottoriurheilu.fi/event/jr-arkala-3/
LOCATION:OuluZone\, Kuusamontie 3250\, Ylikiiminki\, 91310
CATEGORIES:JokkisRace
END:VEVENT
BEGIN:VEVENT
DTSTART;VALUE=DATE:20230513
DTEND;VALUE=DATE:20230514
DTSTAMP:20260420T132854
CREATED:20221021T185044Z
LAST-MODIFIED:20230423T150643Z
UID:2207-1683936000-1684022399@harrastemoottoriurheilu.fi
SUMMARY:PH Peltiasennus Ralli
DESCRIPTION:Aika: 13.5.2023\n\n\nPaikka: Tammisaari\n\n\nLaji: Ralli\n\n\nArvo: HRS 2023 Mestaruus\n\n\nJärjestäjä: South West Motorsport ry\n\n\nKilpailukutsu: \n\n\nIlmoittautuminen: http://ajaksi.fi/wp/15-3-2023-ph-peltiasennus-ralli/\n\n\nLähtöluettelo:\n\n\nKilpailijainfo:\n\n\n\n\n\n\nLisätiedot: \n\n\n\n 
URL:https://harrastemoottoriurheilu.fi/event/tammisaari-ralli-2/
CATEGORIES:Ralli
END:VEVENT
BEGIN:VEVENT
DTSTART;TZID=Europe/Helsinki:20230423T110000
DTEND;TZID=Europe/Helsinki:20230423T170000
DTSTAMP:20260420T132854
CREATED:20230306T180408Z
LAST-MODIFIED:20230306T180408Z
UID:2426-1682247600-1682269200@harrastemoottoriurheilu.fi
SUMMARY:Kemora Asfaltti Rallisprint
DESCRIPTION:Aika: 23.4.2023\n\n\nPaikka: Kemora\n\n\nLaji: Rallisprint\n\n\nArvo: \n\n\nJärjestäjä: Keski-Pohjanmaan Moottoriurheilijat ry\n\n\nKilpailukutsu: \n\n\nIlmoittautuminen: www.ajaksi.fi\n\n\nLähtöluettelo:\n\n\nKilpailijainfo:\n\n\n\n\n\n\nLisätiedot: Luokat ralli-\, rallisprint-\, legends-\, crosskart- ja JM-autoille. Rata: 100% Asfalttia\, n. 3\,5 km lenkki Kemoran Moottoriradalla ja sen yhdysteillä ja muulla asfaltoidulla alueella. Kilpailussa ajetaan 2 tai 3 ajokertaa osallistujamäärästä riippuen. \nLisäkysymykset kilpailunjohtaja Steve Safari 0452184745.
URL:https://harrastemoottoriurheilu.fi/event/kemora-asfaltti-rallisprint/
LOCATION:Kemora
CATEGORIES:Rallisprint
END:VEVENT
BEGIN:VEVENT
DTSTART;VALUE=DATE:20230422
DTEND;VALUE=DATE:20230423
DTSTAMP:20260420T132854
CREATED:20221129T130808Z
LAST-MODIFIED:20221217T181211Z
UID:2236-1682121600-1682207999@harrastemoottoriurheilu.fi
SUMMARY:JR Arkala
DESCRIPTION:Kilpailukutsu ja ilmoittautuminen: https://jokkisrace.net/index.php?Sivu=kilpailut/show_kisa.php&id=227
URL:https://harrastemoottoriurheilu.fi/event/jr-arkala/
LOCATION:OuluZone\, Kuusamontie 3250\, Ylikiiminki\, 91310
CATEGORIES:JokkisRace
END:VEVENT
BEGIN:VEVENT
DTSTART;VALUE=DATE:20230318
DTEND;VALUE=DATE:20230319
DTSTAMP:20260420T132854
CREATED:20230308T160143Z
LAST-MODIFIED:20230315T105347Z
UID:2443-1679097600-1679183999@harrastemoottoriurheilu.fi
SUMMARY:Harjoituskilpailu Kemi
DESCRIPTION:Aika: 18.3.2023\n\n\nPaikka: Kemi\n\n\nLaji: Ralli/Rallisprint\n\n\nArvo: \n\n\nJärjestäjä: Kemin Ykkösautourheilijat ry\n\n\nKilpailukutsu: \n\n\nIlmoittautuminen: \n\n\nLähtöluettelo:\n\n\nKilpailijainfo:\n\n\n\n\n\n\nLisätiedot:  \n-reitti ”kemiralli ek:ta”\, kaivoksen takamaastossa\, 7.8km ja ajetaan kahdesti\, ja otetaan ajat myös\, ajo kahdessa ryhmässä.\n\n-ilmottautuminen viimeistään 14.2 klo 21 mennessä s-posti toniperttula1@gmail.com ja kyselyt p.0451951877\, 40 ajajaa otetaan mukaan.\n\n-ilmottautumiseen kuljettajan nimi\, ajoneuvo\, puhelinnumero (s-posti) ja jos on jo joku numero kyljessä niin ilmoita se myös ajanottooa varten\n\n-kustannus 60e maksetaan ilmottautuessa tilille fi3451310020245438\n\n-VAKUUTUS oltava kilpa-ajoneuvossa!!! todiste mukaan\, tapahtuma hamun kalenterissa\, joten saa siirtokilvet ja vakuutuksen ”konttorilta”\n\n-tiedotetaan ilmoitusajan jälkeen tarkemmin alueelle saapumiset ym.\n\n-alueelle kuitenkin vain yksi huoltoajoneuvo/kilpuri\, aluspressut\, imeytysmatto ja sammuttimet…\n\n-puffet palvelee\n\n\n\n\n 
URL:https://harrastemoottoriurheilu.fi/event/harjoituspaiva-kemi/
CATEGORIES:Ralli,Rallisprint
END:VEVENT
BEGIN:VEVENT
DTSTART;VALUE=DATE:20230312
DTEND;VALUE=DATE:20230313
DTSTAMP:20260420T132854
CREATED:20221217T180639Z
LAST-MODIFIED:20221217T180639Z
UID:2255-1678579200-1678665599@harrastemoottoriurheilu.fi
SUMMARY:JR Oulainen
DESCRIPTION:Kilpailukutsu ja ilmoittautuminen: https://jokkisrace.net/index.php?Sivu=kilpailut/show_kisa.php&id=226
URL:https://harrastemoottoriurheilu.fi/event/jr-oulainen/
LOCATION:Honganpuhto\, Oulainen\, Honganpuhto 70\, Oulainen\, 86300\, Suomi
CATEGORIES:JokkisRace
END:VEVENT
END:VCALENDAR