BEGIN:VCALENDAR
VERSION:2.0
PRODID:-//Harrastemoottoriurheilun Keskusjärjestö Ry - ECPv6.15.20//NONSGML v1.0//EN
CALSCALE:GREGORIAN
METHOD:PUBLISH
X-ORIGINAL-URL:https://harrastemoottoriurheilu.fi
X-WR-CALDESC:Tapahtumat Harrastemoottoriurheilun Keskusjärjestö Ry
REFRESH-INTERVAL;VALUE=DURATION:PT1H
X-Robots-Tag:noindex
X-PUBLISHED-TTL:PT1H
BEGIN:VTIMEZONE
TZID:Europe/Helsinki
BEGIN:DAYLIGHT
TZOFFSETFROM:+0200
TZOFFSETTO:+0300
TZNAME:EEST
DTSTART:20210328T010000
END:DAYLIGHT
BEGIN:STANDARD
TZOFFSETFROM:+0300
TZOFFSETTO:+0200
TZNAME:EET
DTSTART:20211031T010000
END:STANDARD
BEGIN:DAYLIGHT
TZOFFSETFROM:+0200
TZOFFSETTO:+0300
TZNAME:EEST
DTSTART:20220327T010000
END:DAYLIGHT
BEGIN:STANDARD
TZOFFSETFROM:+0300
TZOFFSETTO:+0200
TZNAME:EET
DTSTART:20221030T010000
END:STANDARD
BEGIN:DAYLIGHT
TZOFFSETFROM:+0200
TZOFFSETTO:+0300
TZNAME:EEST
DTSTART:20230326T010000
END:DAYLIGHT
BEGIN:STANDARD
TZOFFSETFROM:+0300
TZOFFSETTO:+0200
TZNAME:EET
DTSTART:20231029T010000
END:STANDARD
BEGIN:DAYLIGHT
TZOFFSETFROM:+0200
TZOFFSETTO:+0300
TZNAME:EEST
DTSTART:20240331T010000
END:DAYLIGHT
BEGIN:STANDARD
TZOFFSETFROM:+0300
TZOFFSETTO:+0200
TZNAME:EET
DTSTART:20241027T010000
END:STANDARD
END:VTIMEZONE
BEGIN:VEVENT
DTSTART;VALUE=DATE:20230617
DTEND;VALUE=DATE:20230618
DTSTAMP:20260420T150237
CREATED:20230206T104713Z
LAST-MODIFIED:20230530T092818Z
UID:2375-1686960000-1687046399@harrastemoottoriurheilu.fi
SUMMARY:Murskaus Rämö & Karén Oy rallisprint
DESCRIPTION:Aika: 17.6.2023\n\n\nPaikka: Humppila\n\n\nLaji: Rallisprint\n\n\nArvo: \n\n\nJärjestäjä: VitUA\n\n\nKilpailukutsu: https://www.mut-palvelu.fi/2023/rallisprint/humppila/humppila_saannot_2023.pdf\n\n\nIlmoittautuminen: https://www.mut-palvelu.fi/\n\n\nLähtöluettelo: https://www.mut-palvelu.fi/\n\n\nKilpailijainfo: https://www.mut-palvelu.fi/\n\n\n\n\n\nLisätiedot: Etelä-Suomen Rallispint sarjan osakilpailu \nhttps://www.facebook.com/HumppilaRallisprint \nhttp://ajaksi.fi/wp/etela-suomen-rallisprint-sarja/\n\n\n\n 
URL:https://harrastemoottoriurheilu.fi/event/rallisprint-humppila/
CATEGORIES:Rallisprint
END:VEVENT
BEGIN:VEVENT
DTSTART;VALUE=DATE:20230617
DTEND;VALUE=DATE:20230618
DTSTAMP:20260420T150237
CREATED:20230203T175127Z
LAST-MODIFIED:20230203T175127Z
UID:2336-1686960000-1687046399@harrastemoottoriurheilu.fi
SUMMARY:Asfalttisprint Nokia 1
DESCRIPTION:Aika: 17.6.2023\n\n\nPaikka: Nokia\n\n\nLaji: Rallisprint\n\n\nArvo: Asfaltti Mestaruus\n\n\nJärjestäjä: \n\n\nKilpailukutsu:\n\n\nIlmoittautuminen: \n\n\nLähtöluettelo:\n\n\nKilpailijainfo:\n\n\n\n\n\nLisätiedot: \nhttp://ajaksi.fi/wp/xmeal-asfalttisarja-2023/ \n 
URL:https://harrastemoottoriurheilu.fi/event/asfalttisprint-nokia-1/
CATEGORIES:Rallisprint
END:VEVENT
BEGIN:VEVENT
DTSTART;VALUE=DATE:20230521
DTEND;VALUE=DATE:20230522
DTSTAMP:20260420T150237
CREATED:20230203T174952Z
LAST-MODIFIED:20230428T104549Z
UID:2334-1684627200-1684713599@harrastemoottoriurheilu.fi
SUMMARY:Nivala Sprint
DESCRIPTION:Aika: 21.5.2023\n\n\nPaikka: Nivala\n\n\nLaji: Rallisprint\n\n\nArvo: Asfaltti Mestaruus\n\n\nJärjestäjä: Revolt Racing Team ry\n\n\nKilpailukutsu:\n\n\nIlmoittautuminen: \n\n\nLähtöluettelo:\n\n\nKilpailijainfo:\n\n\n\n\n\nLisätiedot: \nhttp://ajaksi.fi/wp/xmeal-asfalttisarja-2023/ \n 
URL:https://harrastemoottoriurheilu.fi/event/asfalttisprint-nivala-2/
CATEGORIES:Rallisprint
END:VEVENT
BEGIN:VEVENT
DTSTART;VALUE=DATE:20230520
DTEND;VALUE=DATE:20230521
DTSTAMP:20260420T150237
CREATED:20230203T174845Z
LAST-MODIFIED:20230428T104511Z
UID:2332-1684540800-1684627199@harrastemoottoriurheilu.fi
SUMMARY:Nivalan Teollisuuskylä Oy Sprint
DESCRIPTION:Aika: 20.5.2023\n\n\nPaikka: Nivala\n\n\nLaji: Rallisprint\n\n\nArvo: Asfaltti Mestaruus\n\n\nJärjestäjä: Revolt Racing Team ry\n\n\nKilpailukutsu:\n\n\nIlmoittautuminen: \n\n\nLähtöluettelo:\n\n\nKilpailijainfo:\n\n\n\n\n\nLisätiedot: \nhttp://ajaksi.fi/wp/xmeal-asfalttisarja-2023/ \n 
URL:https://harrastemoottoriurheilu.fi/event/asfalttisprint-nivala-1/
CATEGORIES:Rallisprint
END:VEVENT
BEGIN:VEVENT
DTSTART;VALUE=DATE:20230513
DTEND;VALUE=DATE:20230514
DTSTAMP:20260420T150237
CREATED:20221217T180952Z
LAST-MODIFIED:20221217T181022Z
UID:2259-1683936000-1684022399@harrastemoottoriurheilu.fi
SUMMARY:JR Arkala
DESCRIPTION:Kilpailukutsu ja ilmoittautuminen: https://jokkisrace.net/index.php?Sivu=kilpailut/show_kisa.php&id=224
URL:https://harrastemoottoriurheilu.fi/event/jr-arkala-3/
LOCATION:OuluZone\, Kuusamontie 3250\, Ylikiiminki\, 91310
CATEGORIES:JokkisRace
END:VEVENT
BEGIN:VEVENT
DTSTART;VALUE=DATE:20230513
DTEND;VALUE=DATE:20230514
DTSTAMP:20260420T150237
CREATED:20221021T185044Z
LAST-MODIFIED:20230423T150643Z
UID:2207-1683936000-1684022399@harrastemoottoriurheilu.fi
SUMMARY:PH Peltiasennus Ralli
DESCRIPTION:Aika: 13.5.2023\n\n\nPaikka: Tammisaari\n\n\nLaji: Ralli\n\n\nArvo: HRS 2023 Mestaruus\n\n\nJärjestäjä: South West Motorsport ry\n\n\nKilpailukutsu: \n\n\nIlmoittautuminen: http://ajaksi.fi/wp/15-3-2023-ph-peltiasennus-ralli/\n\n\nLähtöluettelo:\n\n\nKilpailijainfo:\n\n\n\n\n\n\nLisätiedot: \n\n\n\n 
URL:https://harrastemoottoriurheilu.fi/event/tammisaari-ralli-2/
CATEGORIES:Ralli
END:VEVENT
BEGIN:VEVENT
DTSTART;TZID=Europe/Helsinki:20230423T110000
DTEND;TZID=Europe/Helsinki:20230423T170000
DTSTAMP:20260420T150237
CREATED:20230306T180408Z
LAST-MODIFIED:20230306T180408Z
UID:2426-1682247600-1682269200@harrastemoottoriurheilu.fi
SUMMARY:Kemora Asfaltti Rallisprint
DESCRIPTION:Aika: 23.4.2023\n\n\nPaikka: Kemora\n\n\nLaji: Rallisprint\n\n\nArvo: \n\n\nJärjestäjä: Keski-Pohjanmaan Moottoriurheilijat ry\n\n\nKilpailukutsu: \n\n\nIlmoittautuminen: www.ajaksi.fi\n\n\nLähtöluettelo:\n\n\nKilpailijainfo:\n\n\n\n\n\n\nLisätiedot: Luokat ralli-\, rallisprint-\, legends-\, crosskart- ja JM-autoille. Rata: 100% Asfalttia\, n. 3\,5 km lenkki Kemoran Moottoriradalla ja sen yhdysteillä ja muulla asfaltoidulla alueella. Kilpailussa ajetaan 2 tai 3 ajokertaa osallistujamäärästä riippuen. \nLisäkysymykset kilpailunjohtaja Steve Safari 0452184745.
URL:https://harrastemoottoriurheilu.fi/event/kemora-asfaltti-rallisprint/
LOCATION:Kemora
CATEGORIES:Rallisprint
END:VEVENT
BEGIN:VEVENT
DTSTART;VALUE=DATE:20230422
DTEND;VALUE=DATE:20230423
DTSTAMP:20260420T150237
CREATED:20221129T130808Z
LAST-MODIFIED:20221217T181211Z
UID:2236-1682121600-1682207999@harrastemoottoriurheilu.fi
SUMMARY:JR Arkala
DESCRIPTION:Kilpailukutsu ja ilmoittautuminen: https://jokkisrace.net/index.php?Sivu=kilpailut/show_kisa.php&id=227
URL:https://harrastemoottoriurheilu.fi/event/jr-arkala/
LOCATION:OuluZone\, Kuusamontie 3250\, Ylikiiminki\, 91310
CATEGORIES:JokkisRace
END:VEVENT
BEGIN:VEVENT
DTSTART;VALUE=DATE:20230318
DTEND;VALUE=DATE:20230319
DTSTAMP:20260420T150237
CREATED:20230308T160143Z
LAST-MODIFIED:20230315T105347Z
UID:2443-1679097600-1679183999@harrastemoottoriurheilu.fi
SUMMARY:Harjoituskilpailu Kemi
DESCRIPTION:Aika: 18.3.2023\n\n\nPaikka: Kemi\n\n\nLaji: Ralli/Rallisprint\n\n\nArvo: \n\n\nJärjestäjä: Kemin Ykkösautourheilijat ry\n\n\nKilpailukutsu: \n\n\nIlmoittautuminen: \n\n\nLähtöluettelo:\n\n\nKilpailijainfo:\n\n\n\n\n\n\nLisätiedot:  \n-reitti ”kemiralli ek:ta”\, kaivoksen takamaastossa\, 7.8km ja ajetaan kahdesti\, ja otetaan ajat myös\, ajo kahdessa ryhmässä.\n\n-ilmottautuminen viimeistään 14.2 klo 21 mennessä s-posti toniperttula1@gmail.com ja kyselyt p.0451951877\, 40 ajajaa otetaan mukaan.\n\n-ilmottautumiseen kuljettajan nimi\, ajoneuvo\, puhelinnumero (s-posti) ja jos on jo joku numero kyljessä niin ilmoita se myös ajanottooa varten\n\n-kustannus 60e maksetaan ilmottautuessa tilille fi3451310020245438\n\n-VAKUUTUS oltava kilpa-ajoneuvossa!!! todiste mukaan\, tapahtuma hamun kalenterissa\, joten saa siirtokilvet ja vakuutuksen ”konttorilta”\n\n-tiedotetaan ilmoitusajan jälkeen tarkemmin alueelle saapumiset ym.\n\n-alueelle kuitenkin vain yksi huoltoajoneuvo/kilpuri\, aluspressut\, imeytysmatto ja sammuttimet…\n\n-puffet palvelee\n\n\n\n\n 
URL:https://harrastemoottoriurheilu.fi/event/harjoituspaiva-kemi/
CATEGORIES:Ralli,Rallisprint
END:VEVENT
BEGIN:VEVENT
DTSTART;VALUE=DATE:20230312
DTEND;VALUE=DATE:20230313
DTSTAMP:20260420T150237
CREATED:20221217T180639Z
LAST-MODIFIED:20221217T180639Z
UID:2255-1678579200-1678665599@harrastemoottoriurheilu.fi
SUMMARY:JR Oulainen
DESCRIPTION:Kilpailukutsu ja ilmoittautuminen: https://jokkisrace.net/index.php?Sivu=kilpailut/show_kisa.php&id=226
URL:https://harrastemoottoriurheilu.fi/event/jr-oulainen/
LOCATION:Honganpuhto\, Oulainen\, Honganpuhto 70\, Oulainen\, 86300\, Suomi
CATEGORIES:JokkisRace
END:VEVENT
BEGIN:VEVENT
DTSTART;VALUE=DATE:20230311
DTEND;VALUE=DATE:20230312
DTSTAMP:20260420T150237
CREATED:20221021T184839Z
LAST-MODIFIED:20230205T172235Z
UID:2205-1678492800-1678579199@harrastemoottoriurheilu.fi
SUMMARY:Suomussalmi Ralli
DESCRIPTION:Aika: 11.3.2023\n\n\nPaikka: Suomussalmi\n\n\nLaji: Ralli\n\n\nArvo: HRS 2023 Mestaruus\n\n\nJärjestäjä: Ralli Team Kainuu ry\n\n\nKilpailukutsu: https://www.rallitulokset.fi/Lomake3/Kilpailukutsu.pdf\n\n\nIlmoittautuminen: https://www.rallitulokset.fi/Lomake3/\n\n\nLähtöluettelo:\n\n\nKilpailijainfo:\n\n\n\n\n\n\nLisätiedot: https://harrasterallisarja.fi
URL:https://harrastemoottoriurheilu.fi/event/suomussalmi-ralli-3/
CATEGORIES:Ralli
END:VEVENT
BEGIN:VEVENT
DTSTART;VALUE=DATE:20230304
DTEND;VALUE=DATE:20230305
DTSTAMP:20260420T150237
CREATED:20230102T194529Z
LAST-MODIFIED:20230209T224304Z
UID:2286-1677888000-1677974399@harrastemoottoriurheilu.fi
SUMMARY:Siikajoki Ouneva Group Sprint 2023
DESCRIPTION:Aika: 4.3.2023\n\n\nPaikka: Siikajoki\n\n\nLaji: Rallisprint\n\n\nArvo: Ouneva Group sprint-sarja\n\n\nJärjestäjä: Pro Race ry\n\n\nKilpailukutsu: https://www.rallitulokset.fi/Lomake2/Kilpailukutsu.pdf\n\n\nIlmoittautuminen: https://www.rallitulokset.fi/Lomake2/\n\n\nLähtöluettelo:\n\n\nKilpailijainfo:\n\n\n\n\n\n\nLisätiedot: Esa Mikkonen 040 590 4447
URL:https://harrastemoottoriurheilu.fi/event/siikajoki-ouneva-group-sprint-2023/
CATEGORIES:Rallisprint
END:VEVENT
BEGIN:VEVENT
DTSTART;VALUE=DATE:20230226
DTEND;VALUE=DATE:20230227
DTSTAMP:20260420T150237
CREATED:20221021T183950Z
LAST-MODIFIED:20230209T223809Z
UID:2195-1677369600-1677455999@harrastemoottoriurheilu.fi
SUMMARY:SnowRallyRings Ralli
DESCRIPTION:Aika: 26.2.2023\n\n\nPaikka: Vanttauskoski\n\n\nLaji: Ralli\n\n\nArvo: \n\n\nJärjestäjä: SnowRallyRings\n\n\nKilpailukutsu: https://ajaksi.fi/wp/26-02-2023-snow-rally-rings-ralli/\n\n\nIlmoittautuminen:https://ajaksi.fi/wp/26-02-2023-snow-rally-rings-ralli/\n\n\nLähtöluettelo:\n\n\nKilpailijainfo:\n\n\n\n\n\n\nLisätiedot:  Pentti Koskiniemi p: 0500-393168 \nKilpailu alkaa sunnuntaina 26.2.2023 klo. 11.00.\nNuotitus lauantaina 25.2 klo. 12-20.\nPalkintojenjako sunnuntaina n. 16.00.\nEK:t ajetaan yhteen kertaan ja kilometrejä kertyy n.90.\nKilpailuun otetaan 60 kilpailijaa.\nOsallistumismaksu 300€.
URL:https://harrastemoottoriurheilu.fi/event/snowrallyrings-ralli/
CATEGORIES:Ralli
END:VEVENT
BEGIN:VEVENT
DTSTART;VALUE=DATE:20230219
DTEND;VALUE=DATE:20230220
DTSTAMP:20260420T150237
CREATED:20230130T134350Z
LAST-MODIFIED:20230217T202544Z
UID:2323-1676764800-1676851199@harrastemoottoriurheilu.fi
SUMMARY:Luksushuvilat.fi Rallisprint
DESCRIPTION:Aika: 19.2.2023\n\n\nPaikka: Sastamala\n\n\nLaji: Rallisprint\n\n\nArvo: \n\n\nJärjestäjä: Tyrvään moottorikerho ry\n\n\nKilpailukutsu: https://ajaksi.fi/wp/19-02-2023-luksushuvilat-fi-rallisprint/\n\n\nIlmoittautuminen: http://ajaksi.fi/wp/19-02-2023-luksushuvilat-fi-rallisprint/\n\n\nLähtöluettelo: https://ajaksi.fi/wp/19-02-2023-luksushuvilat-fi-rallisprint/\n\n\nKilpailijainfo: http://ajaksi.fi/wp/wp-content/uploads/2023/02/Kilpailijaohje_Kutala_2023.pdf\n\n\n\nTulokset: http://ajaksi.online/ralliajaksi3/sprint.php\n\n\nLisätiedot: 
URL:https://harrastemoottoriurheilu.fi/event/luksushuvilat-fi-rallisprint/
CATEGORIES:Rallisprint
END:VEVENT
BEGIN:VEVENT
DTSTART;VALUE=DATE:20230219
DTEND;VALUE=DATE:20230220
DTSTAMP:20260420T150237
CREATED:20230102T194339Z
LAST-MODIFIED:20230204T115454Z
UID:2284-1676764800-1676851199@harrastemoottoriurheilu.fi
SUMMARY:Kauhava Ouneva Group Sprint 2023
DESCRIPTION:Aika: 19.2.2023\n\n\nPaikka: Kauhava\n\n\nLaji: Rallisprint\n\n\nArvo: Ouneva Group sprint-sarja\n\n\nJärjestäjä: Kontio-Racing ry\n\n\nKilpailukutsu: https://www.rallitulokset.fi/Lomake7/Kilpailukutsu.pdf\n\n\nIlmoittautuminen: https://www.rallitulokset.fi/Lomake7/\n\n\nLähtöluettelo:\n\n\nKilpailijainfo:\n\n\n\n\n\n\nLisätiedot: Esa Mikkonen 040 590 4447
URL:https://harrastemoottoriurheilu.fi/event/kauhava-ouneva-group-sprint-2023/
CATEGORIES:Rallisprint
END:VEVENT
BEGIN:VEVENT
DTSTART;VALUE=DATE:20230218
DTEND;VALUE=DATE:20230219
DTSTAMP:20260420T150237
CREATED:20221021T184658Z
LAST-MODIFIED:20230215T220824Z
UID:2202-1676678400-1676764799@harrastemoottoriurheilu.fi
SUMMARY:Mikkeli Ralli
DESCRIPTION:Aika: 18.2.2023\n\n\nPaikka: Mikkeli\n\n\nLaji: Ralli\n\n\nArvo: HRS 2023 Mestaruus\n\n\nJärjestäjä: Hartialukko Racing ry\n\n\nKilpailukutsu: https://www.rallitulokset.fi/Lomake4/Kilpailukutsu.pdf\n\n\nIlmoittautuminen: https://www.rallitulokset.fi/Lomake4/\n\n\nLähtöluettelo: https://www.rallitulokset.net/Mikkeli2023/startlist.pdf\n\n\nKilpailijainfo: https://www.rallitulokset.net/Mikkeli2023/Kilpailijatiedoite.pdf\n\n\n\n\n\n\nLisätiedot: https://harrasterallisarja.fi
URL:https://harrastemoottoriurheilu.fi/event/mikkeli-ralli/
CATEGORIES:Ralli
END:VEVENT
BEGIN:VEVENT
DTSTART;VALUE=DATE:20230212
DTEND;VALUE=DATE:20230213
DTSTAMP:20260420T150237
CREATED:20221126T115912Z
LAST-MODIFIED:20230209T223336Z
UID:2227-1676160000-1676246399@harrastemoottoriurheilu.fi
SUMMARY:SouthWest Motorsport Rallispecial
DESCRIPTION:Aika: 12.2.2023\n\n\nPaikka: Marttila\, Niittysuontie 39  21490 Marttila.\n\n\nLaji: Ralli\n\n\nArvo: \n\n\nJärjestäjä: South West Motorsport ry\n\n\nKilpailukutsu: http://ajaksi.fi/wp/southwest-motorsport-rallispecial-12-2/\n\n\nIlmoittautuminen: http://ajaksi.fi/wp/southwest-motorsport-rallispecial-12-2/\n\n\nLähtöluettelo:\n\n\nKilpailijainfo:\n\n\n\n\n\n\nLisätiedot:  \nKilpailujohtaja Jan Söderström 0400466415\nKilpailun yhdyshenkilö Micke Flemming 0404564261\nKilpailun sihteeri Nina Grönholm 0449981534 nina.gronholm@outlook.com\nSähköinen ilmoitautumislomake lähetetään sähköisesti sihteerille : nina.gronholm@outlook.com
URL:https://harrastemoottoriurheilu.fi/event/marttila-miniralli/
CATEGORIES:Ralli
END:VEVENT
BEGIN:VEVENT
DTSTART;VALUE=DATE:20230211
DTEND;VALUE=DATE:20230212
DTSTAMP:20260420T150237
CREATED:20221021T184501Z
LAST-MODIFIED:20230209T223500Z
UID:2200-1676073600-1676159999@harrastemoottoriurheilu.fi
SUMMARY:Kontiolahti Ralli
DESCRIPTION:Aika: 11.2.2023\n\n\nPaikka: Kontiolahti\n\n\nLaji: Ralli\n\n\nArvo: HRS 2023 Mestaruus\n\n\nJärjestäjä: Kontioracing ry\n\n\nKilpailukutsu: https://www.rallitulokset.fi/lomake5/Kilpailukutsu.pdf\n\n\nIlmoittautuminen: https://www.rallitulokset.fi/lomake5/\n\n\nLähtöluettelo: https://www.rallitulokset.net/Kontiolahti2023/startlist.pdf\n\n\nKilpailijainfo: https://www.rallitulokset.net/Kontiolahti2023/Kilpailijatiedote.pdf\n\n\n\n\n\n\nLisätiedot: https://harrasterallisarja.fi
URL:https://harrastemoottoriurheilu.fi/event/kontiolahti-ralli-3/
CATEGORIES:Ralli
END:VEVENT
BEGIN:VEVENT
DTSTART;VALUE=DATE:20230205
DTEND;VALUE=DATE:20230206
DTSTAMP:20260420T150237
CREATED:20230102T194143Z
LAST-MODIFIED:20230204T115626Z
UID:2282-1675555200-1675641599@harrastemoottoriurheilu.fi
SUMMARY:Oulainen Ouneva Group Sprint 2023
DESCRIPTION:Aika: 5.2.2023\n\n\nPaikka: Oulainen\, Oulaisten Moottorirata Honganpuhto 70 86300 Oulainen\n\n\nLaji: Rallisprint\n\n\nArvo: Ouneva Group sprint-sarja\n\n\nJärjestäjä: Kisa 2000 ry\n\n\nKilpailukutsu: https://www.rallitulokset.net/Oulainen2023/Kilpailukutsu.pdf\n\n\nIlmoittautuminen: https://www.rallitulokset.fi/Lomake2/\n\n\nLähtöluettelo: https://www.rallitulokset.net/Oulainen2023/startlist.pdf\n\n\nKilpailijainfo: https://www.rallitulokset.net/Oulainen2023/Kilpailijatiedote.pdf\n\n\n\n\n\n\nLisätiedot: Esa Mikkonen 040 590 4447
URL:https://harrastemoottoriurheilu.fi/event/oulainen-ouneva-group-sprint-2023/
CATEGORIES:Rallisprint
END:VEVENT
BEGIN:VEVENT
DTSTART;VALUE=DATE:20230204
DTEND;VALUE=DATE:20230205
DTSTAMP:20260420T150237
CREATED:20221126T120447Z
LAST-MODIFIED:20230204T115538Z
UID:2232-1675468800-1675555199@harrastemoottoriurheilu.fi
SUMMARY:Tornion Rallispecial
DESCRIPTION:Aika: 4.2.2023\n\n\nPaikka: Tornio\n\n\nLaji: Rallispecial\n\n\nArvo: \n\n\nJärjestäjä: Tornion Ralliharrastajat ry\n\n\nKilpailukutsu: https://www.rallitulokset.fi/Lomake3/Kilpailukutsu.pdf\n\n\nIlmoittautuminen: https://www.rallitulokset.fi/Lomake3/\n\n\nLähtöluettelo: https://www.rallitulokset.net/Tornio2023/startlist.pdf\n\n\nKilpailijainfo: https://www.rallitulokset.net/Tornio2023/kilpailijatiedote.pdf\n\n\n\nTulokset: https://www.rallitulokset.fi/Tornio2023/\n\n\nLisätiedot: 
URL:https://harrastemoottoriurheilu.fi/event/tornion-rallispecial/
CATEGORIES:Rallispecial
END:VEVENT
BEGIN:VEVENT
DTSTART;VALUE=DATE:20230128
DTEND;VALUE=DATE:20230129
DTSTAMP:20260420T150237
CREATED:20221126T120054Z
LAST-MODIFIED:20230125T192940Z
UID:2229-1674864000-1674950399@harrastemoottoriurheilu.fi
SUMMARY:OP Marttila Sprint
DESCRIPTION:Aika: 28.1.2023\n\n\nPaikka: Marttila\n\n\nLaji: Rallisprint\n\n\nArvo: Etelä-Suomen Rallisprint-sarjan avausosakilpailu\n\n\nJärjestäjä: South West Motorsport ry\n\n\nKilpailukutsu: \n\n\nIlmoittautuminen: http://ajaksi.fi/wp/28-01-2023-op-marttila-sprint/\n\n\nLähtöluettelo:\n\n\nKilpailijainfo:\n\n\n\n\n\n\nLisätiedot: \n\n\n\n 
URL:https://harrastemoottoriurheilu.fi/event/marttila-rallisprint-2/
CATEGORIES:Rallisprint
END:VEVENT
BEGIN:VEVENT
DTSTART;VALUE=DATE:20230128
DTEND;VALUE=DATE:20230129
DTSTAMP:20260420T150237
CREATED:20221021T184249Z
LAST-MODIFIED:20230115T220236Z
UID:2198-1674864000-1674950399@harrastemoottoriurheilu.fi
SUMMARY:GT-Osat Ralli
DESCRIPTION:Aika: 28.1.2023\n\n\nPaikka: Pihlajavesi/Keuruu\n\n\nLaji: Ralli\n\n\nArvo: HRS 2023 Mestaruus\n\n\nJärjestäjä: Rallimiehet ry\n\n\nKilpailukutsu: http://ajaksi.fi/wp/wp-content/uploads/2022/11/s%C3%A4%C3%A4nn%C3%B6t-1.pdf\n\n\nIlmoittautuminen: https://ajaksi.fi/wp/28-1-2023-gt-osat-ralli-keuruu/\n\n\nLähtöluettelo:\n\n\nKilpailijainfo:\n\n\n\n\n\n\nLisätiedot:  https://harrasterallisarja.fi/\n\n\n\n 
URL:https://harrastemoottoriurheilu.fi/event/keuruu-ralli/
CATEGORIES:Ralli
END:VEVENT
BEGIN:VEVENT
DTSTART;VALUE=DATE:20230121
DTEND;VALUE=DATE:20230122
DTSTAMP:20260420T150237
CREATED:20221217T180249Z
LAST-MODIFIED:20221217T180249Z
UID:2253-1674259200-1674345599@harrastemoottoriurheilu.fi
SUMMARY:JR Talvi SM
DESCRIPTION:Kilpailukutsu ja ilmoittautuminen: https://jokkisrace.net/index.php?Sivu=kilpailut/show_kisa.php&id=225
URL:https://harrastemoottoriurheilu.fi/event/jr-talvi-sm-3/
LOCATION:Honganpuhto\, Oulainen\, Honganpuhto 70\, Oulainen\, 86300\, Suomi
END:VEVENT
BEGIN:VEVENT
DTSTART;VALUE=DATE:20230114
DTEND;VALUE=DATE:20230115
DTSTAMP:20260420T150237
CREATED:20221204T151720Z
LAST-MODIFIED:20221211T155003Z
UID:2239-1673654400-1673740799@harrastemoottoriurheilu.fi
SUMMARY:VTR Workwear Rallispecial
DESCRIPTION:Tapahtuma:     VTR Workwear Rallispecial \nAika:                   14.1.2023 \n\nPaikka:               Joutsa \n\nLaji:                     Rallispecial \n\nArvo:                  Kansallinen (?) \n\nJärjestäjä:        Yellow Racing Team ry \n\nKilpailukutsu:  http://ajaksi.fi/wp/14-01-2023-vtr-workwear-rallispecial-joutsa/ \n\nIlmoittautuminen: http://ajaksi.fi/wp/14-01-2023-vtr-workwear-rallispecial-joutsa/ \n\nLähtöluettelo: \n\nKilpailijainfo: \n\nLisätiedot:Koeponnista kisakunto ennen tiivistä talvikautta! VTR Workwear -rallispecialissa 14.1.2023 ajetaan ajetaan kaksi EK:ta kahteen kertaan\, joiden välissä huoltotauko. Kilpailun kaikki toiminnot yhdeltä seisomalta Joutsan Seudun Ratakeskuksella – kurvaile vaikka ilman huoltotiimiä. Mukana on tuttu ja mukava sprinttipätkä sekä metsässä ajettava pidempi EK. \n\nReitin tiedot: \n•  4 EK:ta\, 2 EK:ta kahteen kertaan \n•  EK-kilometrit yhteensä  17.4 km \n•  Koko reitin pituus noin 30 km \n\nTervetuloa!
URL:https://harrastemoottoriurheilu.fi/event/wtr-workwear-rallispecial/
LOCATION:Joutsan Seudun Ratakeskus\, Röksäntie 169\, Joutsa\, 19650
CATEGORIES:Rallispecial
ATTACH;FMTTYPE=image/jpeg:https://harrastemoottoriurheilu.fi/wp-content/uploads/2022/12/VTR-banner-V1.0.jpg
END:VEVENT
BEGIN:VEVENT
DTSTART;VALUE=DATE:20230107
DTEND;VALUE=DATE:20230108
DTSTAMP:20260420T150237
CREATED:20221021T183454Z
LAST-MODIFIED:20221126T120612Z
UID:2193-1673049600-1673135999@harrastemoottoriurheilu.fi
SUMMARY:IX Piippola Ralli
DESCRIPTION:Aika: 7.1.2023\n\n\nPaikka: Piippola\n\n\nLaji: Ralli\n\n\nArvo: HRS 2023 Mestaruus\n\n\nJärjestäjä: Keskipiste Racing\n\n\nKilpailukutsu: \n\n\nIlmoittautuminen: https://www.rallitulokset.fi/Lomake3/\n\n\nLähtöluettelo:\n\n\nKilpailijainfo:\n\n\n\n\n\n\nLisätiedot: \n\n\n\n 
URL:https://harrastemoottoriurheilu.fi/event/ix-piippola-ralli/
CATEGORIES:Ralli
END:VEVENT
BEGIN:VEVENT
DTSTART;TZID=Europe/Helsinki:20221217T080000
DTEND;TZID=Europe/Helsinki:20221217T170000
DTSTAMP:20260420T150237
CREATED:20221217T180809Z
LAST-MODIFIED:20221217T180809Z
UID:2257-1671264000-1671296400@harrastemoottoriurheilu.fi
SUMMARY:JR Arkala
DESCRIPTION:Kilpailukutsu ja ilmoittautuminen: https://jokkisrace.net/index.php?Sivu=kilpailut/show_kisa.php&id=227
URL:https://harrastemoottoriurheilu.fi/event/jr-arkala-2/
CATEGORIES:JokkisRace
END:VEVENT
BEGIN:VEVENT
DTSTART;VALUE=DATE:20221022
DTEND;VALUE=DATE:20221023
DTSTAMP:20260420T150237
CREATED:20220919T063225Z
LAST-MODIFIED:20220919T063225Z
UID:2188-1666396800-1666483199@harrastemoottoriurheilu.fi
SUMMARY:Martti 70-v JR
DESCRIPTION:Martti Matikaisen 70-vuotisjuhlakisa Paratiisin radalla Oulaisissa. \nKilpailukutsu ja ilmoittautuminen: https://jokkisrace.net/index.php?Sivu=kilpailut/show_kisa.php&id=223
URL:https://harrastemoottoriurheilu.fi/event/martti-70-v-jr/
LOCATION:Paratiisi Moottorirata\, Paratiisintie 231\, Oulainen\, 86300
CATEGORIES:JokkisRace
END:VEVENT
BEGIN:VEVENT
DTSTART;VALUE=DATE:20221008
DTEND;VALUE=DATE:20221009
DTSTAMP:20260420T150237
CREATED:20211127T081358Z
LAST-MODIFIED:20220110T115017Z
UID:1874-1665187200-1665273599@harrastemoottoriurheilu.fi
SUMMARY:JR Arkala Syksy
DESCRIPTION:Aika: 8.10.2022\n\n\nPaikka: OuluZone\, Ylikiiminki\n\n\nLaji: JokkisRace\n\n\nArvo: Kansallinen\n\n\nJärjestäjä: JokkisRace Ry\n\n\nKilpailukutsu: https://jokkisrace.net/index.php?Sivu=kilpailut/show_kisa.php&id=210\n\n\n\nIlmoittautuminen: https://jokkisrace.net/index.php?Sivu=kilpailut/show_kisa.php&id=210\n\n\nLähtöluettelo:\n\n\nKilpailijainfo:\n\n\n\n\n\nLisätiedot:
URL:https://harrastemoottoriurheilu.fi/event/jr-ouluzone-syksy/
LOCATION:OuluZone\, Kuusamontie 3250\, Ylikiiminki\, 91310
CATEGORIES:JokkisRace
END:VEVENT
BEGIN:VEVENT
DTSTART;VALUE=DATE:20220917
DTEND;VALUE=DATE:20220918
DTSTAMP:20260420T150237
CREATED:20220624T085717Z
LAST-MODIFIED:20220725T114129Z
UID:2126-1663372800-1663459199@harrastemoottoriurheilu.fi
SUMMARY:Reeti-ralli
DESCRIPTION:Aika: 17.9.2022\n\n\nPaikka: Luhanka\n\n\nLaji: Ralli\n\n\nArvo: Kansallinen\n\n\nJärjestäjä: Yellow Racing Team ry\n\n\nKilpailukutsu: https://ajaksi.fi/wp/17-09-2022-reeti-ralli/\n\n\nIlmoittautuminen: https://ajaksi.net/hallinto/kilpailija.php\n\n\nLähtöluettelo:\n\n\nKilpailijainfo:\n\n\n\n\n\n\nLisätiedot: Sami Heikkilä 044 064 7447
URL:https://harrastemoottoriurheilu.fi/event/reeti-ralli-2/
CATEGORIES:Ralli
END:VEVENT
BEGIN:VEVENT
DTSTART;VALUE=DATE:20220917
DTEND;VALUE=DATE:20220918
DTSTAMP:20260420T150237
CREATED:20211127T081208Z
LAST-MODIFIED:20211127T081208Z
UID:1872-1663372800-1663459199@harrastemoottoriurheilu.fi
SUMMARY:JR Uljua
DESCRIPTION:Aika: 17.9.2022\n\n\nPaikka: Uljuan Moottorirata\, Siikalatva\n\n\nLaji: JokkisRace\n\n\nArvo: Kansallinen\n\n\nJärjestäjä: JokkisRace Ry\n\n\nKilpailukutsu: https://jokkisrace.net/index.php?Sivu=kilpailut/show_kisa.php&id=213\n\n\n\nIlmoittautuminen: https://jokkisrace.net/index.php?Sivu=kilpailut/show_kisa.php&id=213\n\n\nLähtöluettelo:\n\n\nKilpailijainfo:\n\n\n\n\n\nLisätiedot:
URL:https://harrastemoottoriurheilu.fi/event/jr-uljua/
LOCATION:Uljuan Moottorirata\, Haapavuorentie\, Pulkkila\, 92600
CATEGORIES:JokkisRace
END:VEVENT
END:VCALENDAR