BEGIN:VCALENDAR
VERSION:2.0
PRODID:-//Harrastemoottoriurheilun Keskusjärjestö Ry - ECPv6.15.20//NONSGML v1.0//EN
CALSCALE:GREGORIAN
METHOD:PUBLISH
X-ORIGINAL-URL:https://harrastemoottoriurheilu.fi
X-WR-CALDESC:Tapahtumat Harrastemoottoriurheilun Keskusjärjestö Ry
REFRESH-INTERVAL;VALUE=DURATION:PT1H
X-Robots-Tag:noindex
X-PUBLISHED-TTL:PT1H
BEGIN:VTIMEZONE
TZID:Europe/Helsinki
BEGIN:DAYLIGHT
TZOFFSETFROM:+0200
TZOFFSETTO:+0300
TZNAME:EEST
DTSTART:20210328T010000
END:DAYLIGHT
BEGIN:STANDARD
TZOFFSETFROM:+0300
TZOFFSETTO:+0200
TZNAME:EET
DTSTART:20211031T010000
END:STANDARD
BEGIN:DAYLIGHT
TZOFFSETFROM:+0200
TZOFFSETTO:+0300
TZNAME:EEST
DTSTART:20220327T010000
END:DAYLIGHT
BEGIN:STANDARD
TZOFFSETFROM:+0300
TZOFFSETTO:+0200
TZNAME:EET
DTSTART:20221030T010000
END:STANDARD
BEGIN:DAYLIGHT
TZOFFSETFROM:+0200
TZOFFSETTO:+0300
TZNAME:EEST
DTSTART:20230326T010000
END:DAYLIGHT
BEGIN:STANDARD
TZOFFSETFROM:+0300
TZOFFSETTO:+0200
TZNAME:EET
DTSTART:20231029T010000
END:STANDARD
BEGIN:DAYLIGHT
TZOFFSETFROM:+0200
TZOFFSETTO:+0300
TZNAME:EEST
DTSTART:20240331T010000
END:DAYLIGHT
BEGIN:STANDARD
TZOFFSETFROM:+0300
TZOFFSETTO:+0200
TZNAME:EET
DTSTART:20241027T010000
END:STANDARD
END:VTIMEZONE
BEGIN:VEVENT
DTSTART;VALUE=DATE:20230128
DTEND;VALUE=DATE:20230129
DTSTAMP:20260420T162634
CREATED:20221126T120054Z
LAST-MODIFIED:20230125T192940Z
UID:2229-1674864000-1674950399@harrastemoottoriurheilu.fi
SUMMARY:OP Marttila Sprint
DESCRIPTION:Aika: 28.1.2023\n\n\nPaikka: Marttila\n\n\nLaji: Rallisprint\n\n\nArvo: Etelä-Suomen Rallisprint-sarjan avausosakilpailu\n\n\nJärjestäjä: South West Motorsport ry\n\n\nKilpailukutsu: \n\n\nIlmoittautuminen: http://ajaksi.fi/wp/28-01-2023-op-marttila-sprint/\n\n\nLähtöluettelo:\n\n\nKilpailijainfo:\n\n\n\n\n\n\nLisätiedot: \n\n\n\n 
URL:https://harrastemoottoriurheilu.fi/event/marttila-rallisprint-2/
CATEGORIES:Rallisprint
END:VEVENT
BEGIN:VEVENT
DTSTART;VALUE=DATE:20230128
DTEND;VALUE=DATE:20230129
DTSTAMP:20260420T162634
CREATED:20221021T184249Z
LAST-MODIFIED:20230115T220236Z
UID:2198-1674864000-1674950399@harrastemoottoriurheilu.fi
SUMMARY:GT-Osat Ralli
DESCRIPTION:Aika: 28.1.2023\n\n\nPaikka: Pihlajavesi/Keuruu\n\n\nLaji: Ralli\n\n\nArvo: HRS 2023 Mestaruus\n\n\nJärjestäjä: Rallimiehet ry\n\n\nKilpailukutsu: http://ajaksi.fi/wp/wp-content/uploads/2022/11/s%C3%A4%C3%A4nn%C3%B6t-1.pdf\n\n\nIlmoittautuminen: https://ajaksi.fi/wp/28-1-2023-gt-osat-ralli-keuruu/\n\n\nLähtöluettelo:\n\n\nKilpailijainfo:\n\n\n\n\n\n\nLisätiedot:  https://harrasterallisarja.fi/\n\n\n\n 
URL:https://harrastemoottoriurheilu.fi/event/keuruu-ralli/
CATEGORIES:Ralli
END:VEVENT
BEGIN:VEVENT
DTSTART;VALUE=DATE:20230121
DTEND;VALUE=DATE:20230122
DTSTAMP:20260420T162634
CREATED:20221217T180249Z
LAST-MODIFIED:20221217T180249Z
UID:2253-1674259200-1674345599@harrastemoottoriurheilu.fi
SUMMARY:JR Talvi SM
DESCRIPTION:Kilpailukutsu ja ilmoittautuminen: https://jokkisrace.net/index.php?Sivu=kilpailut/show_kisa.php&id=225
URL:https://harrastemoottoriurheilu.fi/event/jr-talvi-sm-3/
LOCATION:Honganpuhto\, Oulainen\, Honganpuhto 70\, Oulainen\, 86300\, Suomi
END:VEVENT
BEGIN:VEVENT
DTSTART;VALUE=DATE:20230114
DTEND;VALUE=DATE:20230115
DTSTAMP:20260420T162634
CREATED:20221204T151720Z
LAST-MODIFIED:20221211T155003Z
UID:2239-1673654400-1673740799@harrastemoottoriurheilu.fi
SUMMARY:VTR Workwear Rallispecial
DESCRIPTION:Tapahtuma:     VTR Workwear Rallispecial \nAika:                   14.1.2023 \n\nPaikka:               Joutsa \n\nLaji:                     Rallispecial \n\nArvo:                  Kansallinen (?) \n\nJärjestäjä:        Yellow Racing Team ry \n\nKilpailukutsu:  http://ajaksi.fi/wp/14-01-2023-vtr-workwear-rallispecial-joutsa/ \n\nIlmoittautuminen: http://ajaksi.fi/wp/14-01-2023-vtr-workwear-rallispecial-joutsa/ \n\nLähtöluettelo: \n\nKilpailijainfo: \n\nLisätiedot:Koeponnista kisakunto ennen tiivistä talvikautta! VTR Workwear -rallispecialissa 14.1.2023 ajetaan ajetaan kaksi EK:ta kahteen kertaan\, joiden välissä huoltotauko. Kilpailun kaikki toiminnot yhdeltä seisomalta Joutsan Seudun Ratakeskuksella – kurvaile vaikka ilman huoltotiimiä. Mukana on tuttu ja mukava sprinttipätkä sekä metsässä ajettava pidempi EK. \n\nReitin tiedot: \n•  4 EK:ta\, 2 EK:ta kahteen kertaan \n•  EK-kilometrit yhteensä  17.4 km \n•  Koko reitin pituus noin 30 km \n\nTervetuloa!
URL:https://harrastemoottoriurheilu.fi/event/wtr-workwear-rallispecial/
LOCATION:Joutsan Seudun Ratakeskus\, Röksäntie 169\, Joutsa\, 19650
CATEGORIES:Rallispecial
ATTACH;FMTTYPE=image/jpeg:https://harrastemoottoriurheilu.fi/wp-content/uploads/2022/12/VTR-banner-V1.0.jpg
END:VEVENT
BEGIN:VEVENT
DTSTART;VALUE=DATE:20230107
DTEND;VALUE=DATE:20230108
DTSTAMP:20260420T162634
CREATED:20221021T183454Z
LAST-MODIFIED:20221126T120612Z
UID:2193-1673049600-1673135999@harrastemoottoriurheilu.fi
SUMMARY:IX Piippola Ralli
DESCRIPTION:Aika: 7.1.2023\n\n\nPaikka: Piippola\n\n\nLaji: Ralli\n\n\nArvo: HRS 2023 Mestaruus\n\n\nJärjestäjä: Keskipiste Racing\n\n\nKilpailukutsu: \n\n\nIlmoittautuminen: https://www.rallitulokset.fi/Lomake3/\n\n\nLähtöluettelo:\n\n\nKilpailijainfo:\n\n\n\n\n\n\nLisätiedot: \n\n\n\n 
URL:https://harrastemoottoriurheilu.fi/event/ix-piippola-ralli/
CATEGORIES:Ralli
END:VEVENT
BEGIN:VEVENT
DTSTART;TZID=Europe/Helsinki:20221217T080000
DTEND;TZID=Europe/Helsinki:20221217T170000
DTSTAMP:20260420T162634
CREATED:20221217T180809Z
LAST-MODIFIED:20221217T180809Z
UID:2257-1671264000-1671296400@harrastemoottoriurheilu.fi
SUMMARY:JR Arkala
DESCRIPTION:Kilpailukutsu ja ilmoittautuminen: https://jokkisrace.net/index.php?Sivu=kilpailut/show_kisa.php&id=227
URL:https://harrastemoottoriurheilu.fi/event/jr-arkala-2/
CATEGORIES:JokkisRace
END:VEVENT
BEGIN:VEVENT
DTSTART;VALUE=DATE:20221022
DTEND;VALUE=DATE:20221023
DTSTAMP:20260420T162634
CREATED:20220919T063225Z
LAST-MODIFIED:20220919T063225Z
UID:2188-1666396800-1666483199@harrastemoottoriurheilu.fi
SUMMARY:Martti 70-v JR
DESCRIPTION:Martti Matikaisen 70-vuotisjuhlakisa Paratiisin radalla Oulaisissa. \nKilpailukutsu ja ilmoittautuminen: https://jokkisrace.net/index.php?Sivu=kilpailut/show_kisa.php&id=223
URL:https://harrastemoottoriurheilu.fi/event/martti-70-v-jr/
LOCATION:Paratiisi Moottorirata\, Paratiisintie 231\, Oulainen\, 86300
CATEGORIES:JokkisRace
END:VEVENT
BEGIN:VEVENT
DTSTART;VALUE=DATE:20221008
DTEND;VALUE=DATE:20221009
DTSTAMP:20260420T162634
CREATED:20211127T081358Z
LAST-MODIFIED:20220110T115017Z
UID:1874-1665187200-1665273599@harrastemoottoriurheilu.fi
SUMMARY:JR Arkala Syksy
DESCRIPTION:Aika: 8.10.2022\n\n\nPaikka: OuluZone\, Ylikiiminki\n\n\nLaji: JokkisRace\n\n\nArvo: Kansallinen\n\n\nJärjestäjä: JokkisRace Ry\n\n\nKilpailukutsu: https://jokkisrace.net/index.php?Sivu=kilpailut/show_kisa.php&id=210\n\n\n\nIlmoittautuminen: https://jokkisrace.net/index.php?Sivu=kilpailut/show_kisa.php&id=210\n\n\nLähtöluettelo:\n\n\nKilpailijainfo:\n\n\n\n\n\nLisätiedot:
URL:https://harrastemoottoriurheilu.fi/event/jr-ouluzone-syksy/
LOCATION:OuluZone\, Kuusamontie 3250\, Ylikiiminki\, 91310
CATEGORIES:JokkisRace
END:VEVENT
BEGIN:VEVENT
DTSTART;VALUE=DATE:20220917
DTEND;VALUE=DATE:20220918
DTSTAMP:20260420T162634
CREATED:20220624T085717Z
LAST-MODIFIED:20220725T114129Z
UID:2126-1663372800-1663459199@harrastemoottoriurheilu.fi
SUMMARY:Reeti-ralli
DESCRIPTION:Aika: 17.9.2022\n\n\nPaikka: Luhanka\n\n\nLaji: Ralli\n\n\nArvo: Kansallinen\n\n\nJärjestäjä: Yellow Racing Team ry\n\n\nKilpailukutsu: https://ajaksi.fi/wp/17-09-2022-reeti-ralli/\n\n\nIlmoittautuminen: https://ajaksi.net/hallinto/kilpailija.php\n\n\nLähtöluettelo:\n\n\nKilpailijainfo:\n\n\n\n\n\n\nLisätiedot: Sami Heikkilä 044 064 7447
URL:https://harrastemoottoriurheilu.fi/event/reeti-ralli-2/
CATEGORIES:Ralli
END:VEVENT
BEGIN:VEVENT
DTSTART;VALUE=DATE:20220917
DTEND;VALUE=DATE:20220918
DTSTAMP:20260420T162634
CREATED:20211127T081208Z
LAST-MODIFIED:20211127T081208Z
UID:1872-1663372800-1663459199@harrastemoottoriurheilu.fi
SUMMARY:JR Uljua
DESCRIPTION:Aika: 17.9.2022\n\n\nPaikka: Uljuan Moottorirata\, Siikalatva\n\n\nLaji: JokkisRace\n\n\nArvo: Kansallinen\n\n\nJärjestäjä: JokkisRace Ry\n\n\nKilpailukutsu: https://jokkisrace.net/index.php?Sivu=kilpailut/show_kisa.php&id=213\n\n\n\nIlmoittautuminen: https://jokkisrace.net/index.php?Sivu=kilpailut/show_kisa.php&id=213\n\n\nLähtöluettelo:\n\n\nKilpailijainfo:\n\n\n\n\n\nLisätiedot:
URL:https://harrastemoottoriurheilu.fi/event/jr-uljua/
LOCATION:Uljuan Moottorirata\, Haapavuorentie\, Pulkkila\, 92600
CATEGORIES:JokkisRace
END:VEVENT
BEGIN:VEVENT
DTSTART;VALUE=DATE:20220911
DTEND;VALUE=DATE:20220912
DTSTAMP:20260420T162634
CREATED:20220810T151010Z
LAST-MODIFIED:20220810T151010Z
UID:2166-1662854400-1662940799@harrastemoottoriurheilu.fi
SUMMARY:Sastamalan Ympäristöpalvelut Oy Rallisprint
DESCRIPTION:Aika: 11.9.2022\n\n\nPaikka: Sastamala\n\n\nLaji: Rallisprint\n\n\nArvo: Kansallinen\n\n\nJärjestäjä: Tyrvään Moottorikerho ry\n\n\nKilpailukutsu: \n\n\nIlmoittautuminen: \n\n\nLähtöluettelo:\n\n\nKilpailijainfo:\n\n\n\n\n\n\nLisätiedot: \n\n\n\n 
URL:https://harrastemoottoriurheilu.fi/event/sastamalan-ymparistopalvelut-oy-rallisprint-3/
END:VEVENT
BEGIN:VEVENT
DTSTART;VALUE=DATE:20220903
DTEND;VALUE=DATE:20220904
DTSTAMP:20260420T162634
CREATED:20220518T143046Z
LAST-MODIFIED:20220518T143046Z
UID:2076-1662163200-1662249599@harrastemoottoriurheilu.fi
SUMMARY:Kannus JR
DESCRIPTION:
URL:https://harrastemoottoriurheilu.fi/event/kannus-jr/
LOCATION:Poleenharjun Moottorirata\, Kajaanintie 600\, Kannus\, 69100
CATEGORIES:JokkisRace
END:VEVENT
BEGIN:VEVENT
DTSTART;VALUE=DATE:20220828
DTEND;VALUE=DATE:20220829
DTSTAMP:20260420T162634
CREATED:20220223T181246Z
LAST-MODIFIED:20220223T181246Z
UID:2027-1661644800-1661731199@harrastemoottoriurheilu.fi
SUMMARY:Southwest Motorsport Rallisprint
DESCRIPTION:Aika: 28.8.2022\n\n\nPaikka: Raasepori Prätskulla\n\n\nLaji: Rallisprint\n\n\nArvo: Kansallinen\n\n\nJärjestäjä: South West Motorsport\n\n\nKilpailukutsu:\n\n\nIlmoittautuminen: \n\n\nLähtöluettelo:\n\n\nKilpailijainfo:\n\n\n\n\n\nLisätiedot: Sorasprint \n 
URL:https://harrastemoottoriurheilu.fi/event/southwest-motorsport-rallisprint/
CATEGORIES:Rallisprint
END:VEVENT
BEGIN:VEVENT
DTSTART;VALUE=DATE:20220827
DTEND;VALUE=DATE:20220828
DTSTAMP:20260420T162634
CREATED:20211004T081748Z
LAST-MODIFIED:20220810T154501Z
UID:1791-1661558400-1661644799@harrastemoottoriurheilu.fi
SUMMARY:Peurunka Ralli Laukaa
DESCRIPTION:Aika: 27.8.2022\n\n\nPaikka: Laukaa\n\n\nLaji: Ralli\n\n\nArvo: HRS 2022 Mestaruus\n\n\nJärjestäjä: LTM-Motorsport ry\n\n\nKilpailukutsu:\n\n\nIlmoittautuminen: http://ajaksi.fi/wp/27-08-2022-peurunka-ralli-laukaa/\n\n\nLähtöluettelo:\n\n\nKilpailijainfo:\n\n\n\n\n\nLisätiedot: \n 
URL:https://harrastemoottoriurheilu.fi/event/habittaako-4-0-ralli/
CATEGORIES:Ralli
END:VEVENT
BEGIN:VEVENT
DTSTART;VALUE=DATE:20220820
DTEND;VALUE=DATE:20220821
DTSTAMP:20260420T162634
CREATED:20220223T180859Z
LAST-MODIFIED:20220602T062721Z
UID:2024-1660953600-1661039999@harrastemoottoriurheilu.fi
SUMMARY:Fenno Asfalttisprint 1 ja 2 Parkano
DESCRIPTION:Aika: 20.8.2022\n\n\nPaikka: Parkano\n\n\nLaji: Rallisprint\n\n\nArvo: Asfaltti Mestaruus\n\n\nJärjestäjä: Satapirkan Ralliseura\n\n\nKilpailukutsu:\n\n\nIlmoittautuminen: \n\n\nLähtöluettelo:\n\n\nKilpailijainfo:\n\n\n\n\n\nLisätiedot: 20.8.2022 ajetaan kaksi osakilpailua. \nLisätietoja Juhani Pihlajamäki 050 518 5662 \n 
URL:https://harrastemoottoriurheilu.fi/event/parkano-rallisprint-1-ja-2/
LOCATION:Parkano\, Suomi
CATEGORIES:Rallisprint
END:VEVENT
BEGIN:VEVENT
DTSTART;VALUE=DATE:20220813
DTEND;VALUE=DATE:20220814
DTSTAMP:20260420T162634
CREATED:20220722T114130Z
LAST-MODIFIED:20220722T114130Z
UID:2151-1660348800-1660435199@harrastemoottoriurheilu.fi
SUMMARY:Autokorjaamo Jazu JR
DESCRIPTION:Kilpailukutsu: https://jokkisrace.net/index.php?Sivu=kilpailut/show_kisa.php&id=221
URL:https://harrastemoottoriurheilu.fi/event/autokorjaamo-jazu-jr/
LOCATION:OuluZone\, Kuusamontie 3250\, Ylikiiminki\, 91310
CATEGORIES:JokkisRace
END:VEVENT
BEGIN:VEVENT
DTSTART;VALUE=DATE:20220813
DTEND;VALUE=DATE:20220814
DTSTAMP:20260420T162634
CREATED:20211206T115745Z
LAST-MODIFIED:20220801T081236Z
UID:1883-1660348800-1660435199@harrastemoottoriurheilu.fi
SUMMARY:Juuka Ralli
DESCRIPTION:Aika: 13.8.2022\n\n\nPaikka: Juuka\n\n\nLaji: Ralli\n\n\nArvo: \n\n\nJärjestäjä: Ralli Team Kainuu ry\n\n\n\nKilpailukutsu:\n\n\nIlmoittautuminen: https://www.rallitulokset.fi/Lomake3/\n\n\nLähtöluettelo:\n\n\nKilpailijainfo:\n\n\n\n\n\nLisätiedot: \n 
URL:https://harrastemoottoriurheilu.fi/event/juuka-ralli-2/
CATEGORIES:Ralli
END:VEVENT
BEGIN:VEVENT
DTSTART;VALUE=DATE:20220723
DTEND;VALUE=DATE:20220724
DTSTAMP:20260420T162634
CREATED:20220722T114046Z
LAST-MODIFIED:20220722T114046Z
UID:2149-1658534400-1658620799@harrastemoottoriurheilu.fi
SUMMARY:JokkisRace SM 2022
DESCRIPTION:Kilpailukutsu: https://jokkisrace.net/index.php?Sivu=kilpailut/show_kisa.php&id=216
URL:https://harrastemoottoriurheilu.fi/event/jokkisrace-sm-2022/
LOCATION:Aittokosken rata\, Emäjoentie 71\, Suomussalmi\, 89600
CATEGORIES:JokkisRace
END:VEVENT
BEGIN:VEVENT
DTSTART;VALUE=DATE:20220709
DTEND;VALUE=DATE:20220710
DTSTAMP:20260420T162634
CREATED:20211004T081435Z
LAST-MODIFIED:20220622T195219Z
UID:1789-1657324800-1657411199@harrastemoottoriurheilu.fi
SUMMARY:Nivalan Kapinaralli
DESCRIPTION:Aika: 9.7.2022\n\n\nPaikka: Nivala\n\n\nLaji: Ralli\n\n\nArvo: HRS 2022 Mestaruus\n\n\nJärjestäjä: Revolt Racing Team ry\n\n\nKilpailukutsu: https://www.rallitulokset.fi/Lomake3/Kilpailukutsu.pdf\n\n\nIlmoittautuminen: https://www.rallitulokset.fi/\n\n\nLähtöluettelo:\n\n\nKilpailijainfo:\n\n\n\n\n\nLisätiedot:
URL:https://harrastemoottoriurheilu.fi/event/nivala-ralli/
CATEGORIES:Ralli
END:VEVENT
BEGIN:VEVENT
DTSTART;VALUE=DATE:20220702
DTEND;VALUE=DATE:20220703
DTSTAMP:20260420T162634
CREATED:20220426T193727Z
LAST-MODIFIED:20220629T060315Z
UID:2066-1656720000-1656806399@harrastemoottoriurheilu.fi
SUMMARY:Yöttömän Yön Rallisprint Sodankylä
DESCRIPTION:Aika: 2.7.2022\n\n\nPaikka: Sodankylä\n\n\nLaji: Rallisprint\n\n\nArvo: Kansallinen\n\n\nJärjestäjä: Sodankylän Moottorikerho ry\n\n\nKilpailukutsu: https://www.rallitulokset.fi/Lomake2/kilpailukutsu.pdf\n\n\nIlmoittautuminen: https://www.rallitulokset.fi/\n\n\nLähtöluettelo:\n\n\nKilpailijainfo:https://www.rallitulokset.fi/sodankyla2022/\n\n\n\n\n\nLisätiedot: Kilpailupaikka Sodankylä\, Pontikanpalo. Rata: asfalttirata\, n 2\,5km.\nKilpailunjohtaja Vesa Törmä 0400 589 683\nKilpailijoiden  yhteyshenkilö Seppo Simula 046 5977 028\nKilpailun sihteeri Sanna Alariesto 045 1553 959\nHOX HOX 1000 € LAHJAKORTTI ARVOTAAN KILPAILIJOIDEN KESKEN.
URL:https://harrastemoottoriurheilu.fi/event/yottoman-yon-rallisprint/
CATEGORIES:Rallisprint
END:VEVENT
BEGIN:VEVENT
DTSTART;VALUE=DATE:20220626
DTEND;VALUE=DATE:20220627
DTSTAMP:20260420T162634
CREATED:20211204T140215Z
LAST-MODIFIED:20220622T194925Z
UID:1878-1656201600-1656287999@harrastemoottoriurheilu.fi
SUMMARY:Juhannus JR - PERUTTU -
DESCRIPTION:Aika: 26.6.2022   PERUTTU\n\n\nPaikka: Haapavesi\n\n\nLaji: JokkisRace\n\n\nArvo: Kansallinen\n\n\nJärjestäjä: JokkisRace Ry\n\n\nKilpailukutsu: https://jokkisrace.net/index.php?Sivu=kilpailut/show_kisa.php&id=215\n\n\nIlmoittautuminen: https://jokkisrace.net/index.php?Sivu=kilpailut/show_kisa.php&id=215\n\n\nLähtöluettelo:\n\n\nKilpailijainfo:\n\n\n\n\n\nLisätiedot:
URL:https://harrastemoottoriurheilu.fi/event/juhannus-jr/
LOCATION:Korkatin Moottorirata\, Haapavesi
CATEGORIES:JokkisRace
END:VEVENT
BEGIN:VEVENT
DTSTART;VALUE=DATE:20220619
DTEND;VALUE=DATE:20220620
DTSTAMP:20260420T162634
CREATED:20220223T180433Z
LAST-MODIFIED:20220602T063050Z
UID:2019-1655596800-1655683199@harrastemoottoriurheilu.fi
SUMMARY:SMA Asfalttisprint
DESCRIPTION:Aika:  19.6.2022\n\n\nPaikka: Kauhava\n\n\nLaji: Rallisprint\n\n\nArvo: Asfaltti Mestaruus\n\n\nJärjestäjä: Pohjanmaa Racing Team ry\n\n\nKilpailukutsu:\n\n\nIlmoittautuminen: http://ajaksi.fi/wp/19-06-2022-sma-asfalttisprint/\n\n\nLähtöluettelo:\n\n\nKilpailijainfo:\n\n\n\n\n\nLisätiedot:  Lisätietoja  Juhani Pihlajamäki 050 518 5662 \n 
URL:https://harrastemoottoriurheilu.fi/event/kauhava-rallisprint/
LOCATION:Kauhava\, Suomi
CATEGORIES:Rallisprint
END:VEVENT
BEGIN:VEVENT
DTSTART;VALUE=DATE:20220605
DTEND;VALUE=DATE:20220606
DTSTAMP:20260420T162634
CREATED:20211204T140400Z
LAST-MODIFIED:20211204T140400Z
UID:1880-1654387200-1654473599@harrastemoottoriurheilu.fi
SUMMARY:JR Kuivaniemi
DESCRIPTION:Aika: 5.6.2022\n\n\nPaikka: Kuivaniemi\n\n\nLaji: JokkisRace\n\n\nArvo: Kansallinen\n\n\nJärjestäjä: JokkisRace Ry\n\n\nKilpailukutsu: https://jokkisrace.net/index.php?Sivu=kilpailut/show_kisa.php&id=214\n\n\nIlmoittautuminen: https://jokkisrace.net/index.php?Sivu=kilpailut/show_kisa.php&id=214\n\n\nLähtöluettelo:\n\n\nKilpailijainfo:\n\n\n\n\n\nLisätiedot:
URL:https://harrastemoottoriurheilu.fi/event/jr-kuivaniemi/
LOCATION:Saarihovin Moottorirata\, Saarihovintie\, Kuivaniemi\, 95100
CATEGORIES:JokkisRace
END:VEVENT
BEGIN:VEVENT
DTSTART;VALUE=DATE:20220529
DTEND;VALUE=DATE:20220530
DTSTAMP:20260420T162634
CREATED:20220318T102110Z
LAST-MODIFIED:20220414T091620Z
UID:2043-1653782400-1653868799@harrastemoottoriurheilu.fi
SUMMARY:Jarkan Maansiirto Rallisprint
DESCRIPTION:Aika: 29.5.2022\n\n\nPaikka: Humppila\n\n\nLaji: Rallisprint\n\n\nArvo: Kansallinen\n\n\nJärjestäjä: Vitikan Urheiluautoilijat ry\n\n\nKilpailukutsu:\n\n\nIlmoittautuminen: https://www.mut-palvelu.fi/\n\n\nLähtöluettelo:\n\n\nKilpailijainfo: \n\n\n\n\n\nLisätiedot: Etelä-Suomen rallisprint -sarjan osakilpailu. Ajetaan soralla. Radan pituus 6\,2km. \nYhteyshenkilö Jani Koskinen 040 725 8774 \nhttps://www.facebook.com/JarkanMaansiirtoRallisprint/
URL:https://harrastemoottoriurheilu.fi/event/jarkan-maansiirto-rallisprint/
CATEGORIES:Rallisprint
END:VEVENT
BEGIN:VEVENT
DTSTART;VALUE=DATE:20220528
DTEND;VALUE=DATE:20220529
DTSTAMP:20260420T162634
CREATED:20220511T083521Z
LAST-MODIFIED:20220511T083521Z
UID:2073-1653696000-1653782399@harrastemoottoriurheilu.fi
SUMMARY:Harjoituskilpailu Joutsa\, Ralli
DESCRIPTION:Aika: 28.5.2022\n\n\nPaikka: Joutsa\n\n\nLaji: Ralli\n\n\nArvo: \n\n\nJärjestäjä: Yellow Racing Team ry\n\n\nKilpailukutsu:\n\n\nIlmoittautuminen: http://ajaksi.fi/wp/28-05-2022-harjoituskilpailu-joutsa/\n\n\nLähtöluettelo:\n\n\nKilpailijainfo:\n\n\n\n\n\nLisätiedot: \n 
URL:https://harrastemoottoriurheilu.fi/event/harjoituskilpailu-joutsa-ralli/
CATEGORIES:Ralli
END:VEVENT
BEGIN:VEVENT
DTSTART;VALUE=DATE:20220528
DTEND;VALUE=DATE:20220529
DTSTAMP:20260420T162634
CREATED:20220223T173619Z
LAST-MODIFIED:20220409T094204Z
UID:2017-1653696000-1653782399@harrastemoottoriurheilu.fi
SUMMARY:Nivalan Teollisuuskylä Oy Sprint
DESCRIPTION:Aika: 28.5.2022\n\n\nPaikka: Nivala\n\n\nLaji: Rallisprint\n\n\nArvo: Asfaltti Mestaruus\n\n\nJärjestäjä: Revolt Racing Team ry\n\n\nKilpailukutsu:\n\n\nIlmoittautuminen: http://ajaksi.fi/wp/28-5-2022-nivalan-teollisuuskyla-oy-sprint/\n\n\nLähtöluettelo:\n\n\nKilpailijainfo:\n\n\n\n\n\nLisätiedot:  Lisätietoja Juhani Pihlajamäki 050 518 5662 \n 
URL:https://harrastemoottoriurheilu.fi/event/nivalan-teollisuuskyla-oy-sprint-2/
LOCATION:Nivala
CATEGORIES:Rallisprint
END:VEVENT
BEGIN:VEVENT
DTSTART;VALUE=DATE:20220522
DTEND;VALUE=DATE:20220523
DTSTAMP:20260420T162634
CREATED:20211127T080742Z
LAST-MODIFIED:20220503T182512Z
UID:1868-1653177600-1653263999@harrastemoottoriurheilu.fi
SUMMARY:Säävälät Oy JR
DESCRIPTION:Aika: 22.5.2022\n\n\nPaikka: OuluZone\, Ylikiiminki\n\n\nLaji: JokkisRace\n\n\nArvo: Kansallinen\n\n\nJärjestäjä: JokkisRace Ry\n\n\nKilpailukutsu: https://jokkisrace.net/index.php?Sivu=kilpailut/show_kisa.php&id=212\n\n\n\nIlmoittautuminen: https://jokkisrace.net/index.php?Sivu=kilpailut/show_kisa.php&id=212\n\n\nLähtöluettelo:\n\n\nKilpailijainfo:\n\n\n\n\n\nLisätiedot:
URL:https://harrastemoottoriurheilu.fi/event/jr-ouluzone/
LOCATION:OuluZone\, Kuusamontie 3250\, Ylikiiminki\, 91310
CATEGORIES:JokkisRace
END:VEVENT
BEGIN:VEVENT
DTSTART;VALUE=DATE:20220514
DTEND;VALUE=DATE:20220515
DTSTAMP:20260420T162634
CREATED:20211004T081248Z
LAST-MODIFIED:20220224T163918Z
UID:1787-1652486400-1652572799@harrastemoottoriurheilu.fi
SUMMARY:Fenno-Ralli Kankaanpää
DESCRIPTION:Aika: 14.5.2022\n\n\nPaikka: Kankaanpää\n\n\nLaji: Ralli\n\n\nArvo: HRS 2022 Mestaruus\n\n\nJärjestäjä: Satapirkan Ralliseura ry\n\n\nKilpailukutsu:\n\n\nIlmoittautuminen: http://ajaksi.fi/wp/14-5-2022-fenno-ralli/\n\n\nLähtöluettelo:\n\n\nKilpailijainfo:\n\n\n\n\n\nLisätiedot: \n 
URL:https://harrastemoottoriurheilu.fi/event/kankaanpaa-ralli/
CATEGORIES:Ralli
END:VEVENT
BEGIN:VEVENT
DTSTART;VALUE=DATE:20220423
DTEND;VALUE=DATE:20220424
DTSTAMP:20260420T162634
CREATED:20220223T173244Z
LAST-MODIFIED:20220409T094103Z
UID:2014-1650672000-1650758399@harrastemoottoriurheilu.fi
SUMMARY:Neste K Paimio Rallisprint
DESCRIPTION:Aika: 23.4.2022\n\n\nPaikka: Paimio\n\n\nLaji: Rallisprint\n\n\nArvo: Asfaltti Mestaruus\n\n\nJärjestäjä: South West Motorsport\n\n\nKilpailukutsu:\n\n\nIlmoittautuminen: http://ajaksi.fi/wp/23-4-2022-neste-k-paimio-rallisprint/\n\n\nLähtöluettelo:\n\n\nKilpailijainfo:\n\n\n\n\n\nLisätiedot: 23.4.2022 ajetaan kaksi osakilpailua. \nLisätietoja Juhani Pihlajamäki 050 518 5662 \n 
URL:https://harrastemoottoriurheilu.fi/event/southwest-motorsport-rallisprint-1-ja-2/
LOCATION:Paimio
CATEGORIES:Rallisprint
END:VEVENT
BEGIN:VEVENT
DTSTART;VALUE=DATE:20220423
DTEND;VALUE=DATE:20220424
DTSTAMP:20260420T162634
CREATED:20211127T080449Z
LAST-MODIFIED:20220110T115036Z
UID:1866-1650672000-1650758399@harrastemoottoriurheilu.fi
SUMMARY:JR Arkala Kevät
DESCRIPTION:Aika: 23.4.2022\n\n\nPaikka: OuluZone\, Ylikiiminki\n\n\nLaji: JokkisRace\n\n\nArvo: Kansallinen\n\n\nJärjestäjä: JokkisRace Ry\n\n\nKilpailukutsu: https://jokkisrace.net/index.php?Sivu=kilpailut/show_kisa.php&id=209\n\n\n\nIlmoittautuminen: https://jokkisrace.net/index.php?Sivu=kilpailut/show_kisa.php&id=209\n\n\nLähtöluettelo:\n\n\nKilpailijainfo:\n\n\n\n\n\nLisätiedot:
URL:https://harrastemoottoriurheilu.fi/event/jr-ouluzone-kevat/
LOCATION:OuluZone\, Kuusamontie 3250\, Ylikiiminki\, 91310
CATEGORIES:JokkisRace
END:VEVENT
END:VCALENDAR